BEGIN:VCALENDAR
VERSION:2.0
PRODID:-//Lange Wochen der Nachhaltigkeit - ECPv6.15.11//NONSGML v1.0//EN
CALSCALE:GREGORIAN
METHOD:PUBLISH
X-WR-CALNAME:Lange Wochen der Nachhaltigkeit
X-ORIGINAL-URL:https://lange-wochen.de
X-WR-CALDESC:Veranstaltungen für Lange Wochen der Nachhaltigkeit
REFRESH-INTERVAL;VALUE=DURATION:PT1H
X-Robots-Tag:noindex
X-PUBLISHED-TTL:PT1H
BEGIN:VTIMEZONE
TZID:Europe/Berlin
BEGIN:DAYLIGHT
TZOFFSETFROM:+0100
TZOFFSETTO:+0200
TZNAME:CEST
DTSTART:20220327T010000
END:DAYLIGHT
BEGIN:STANDARD
TZOFFSETFROM:+0200
TZOFFSETTO:+0100
TZNAME:CET
DTSTART:20221030T010000
END:STANDARD
BEGIN:DAYLIGHT
TZOFFSETFROM:+0100
TZOFFSETTO:+0200
TZNAME:CEST
DTSTART:20230326T010000
END:DAYLIGHT
BEGIN:STANDARD
TZOFFSETFROM:+0200
TZOFFSETTO:+0100
TZNAME:CET
DTSTART:20231029T010000
END:STANDARD
BEGIN:DAYLIGHT
TZOFFSETFROM:+0100
TZOFFSETTO:+0200
TZNAME:CEST
DTSTART:20240331T010000
END:DAYLIGHT
BEGIN:STANDARD
TZOFFSETFROM:+0200
TZOFFSETTO:+0100
TZNAME:CET
DTSTART:20241027T010000
END:STANDARD
END:VTIMEZONE
BEGIN:VEVENT
DTSTART;TZID=Europe/Berlin:20230908T000000
DTEND;TZID=Europe/Berlin:20230930T000000
DTSTAMP:20260424T030040
CREATED:20230828T181612Z
LAST-MODIFIED:20230917T140709Z
UID:651-1694131200-1696032000@lange-wochen.de
SUMMARY:Veranstaltungsreihe: Recht auf Stadt - Stadt für alle?
DESCRIPTION:Partizipativer Nachbarschaftstreff \nWohnungsknappheit\, steigende Mieten\, fehlende Freiräume: Die Initiative Recht auf Stadt verwandelt das Bedürfnis in einen offenen Nachbarschaftstreff und lädt zum Mitmachen ein. In kostenfreien Veranstaltungen\, Vorträgen und Workshops sollen aktuelle Probleme von Mieter*innen gesammelt und nach solidarischen Lösungen gesucht werden. Zusammen entsteht ein Experimentierfeld\, das allen Interessierten offen steht. \nGibt es ein Recht auf Stadt? Was macht gutes Zusammenleben aus? Wie können Kunst und Kultur dazu beitragen?\nBringt eure Themen und Visionen ein – nur gemeinsam können wir eine lebenswertere Zukunft für alle gestalten! \nRecht auf Stadt setzt sich seit 2021 für eine solidarische\, soziale und nachhaltige Stadtentwicklung und Mietgerechtigkeit in Halle ein.
URL:https://lange-wochen.de/termine/recht-auf-stadt/
LOCATION:Bedürfnisanstalt\, Merseburger Straße 138\, Halle
CATEGORIES:Aktion,Ausstellung,Radio,Stammtisch,Workshop
ATTACH;FMTTYPE=image/jpeg:https://lange-wochen.de/wp-content/uploads/2023/08/recht-auf-stadt_programm-1.jpg
END:VEVENT
BEGIN:VEVENT
DTSTART;TZID=Europe/Berlin:20230908T180000
DTEND;TZID=Europe/Berlin:20230908T200000
DTSTAMP:20260424T030040
CREATED:20230901T101717Z
LAST-MODIFIED:20230902T160556Z
UID:777-1694196000-1694203200@lange-wochen.de
SUMMARY:Händel zukünftig unter Plamen? Gemeinsam engagiert fürs Klima – Start der neuen Klimaplattform
DESCRIPTION:Sie treibt das Thema Klima um oder Sie sind schon engagiert fürs Klima in Halle?\nSie haben dazu Ideen und suchen Mitstreiterinnen und Mitstreiter?\nOder wollen Sie sich anderen anschließen und suchen Möglichkeiten\, sich gemeinsam fürs Klima zu engagieren? \nDas Dienstleistungszentrum Klimaschutz\, die Freiwilligen-Agentur Halle und die Bürgerstiftung Halle möchten Sie dabei unterstützen und gemeinsam mehr für den Klimaschutz und den Umgang mit Folgen des Klimawandels in Halle erreichen. \n  \nSTART KLIMAPLATTFORM UND AUSTAUSCH\nZusammen mit Ihnen wollen wir am 8. September eine neue Online-Übersicht unter dem Titel www.klima-engagiert-in-halle.de veröffentlichen\, die in die Engagementplattform www.engagiert-in-halle.de eingebunden sein wird. Sie soll Akteur:innen\, Projekte und Engagementmöglichkeiten für den Klimaschutz und die Klimaanpassung in Halle sichtbar machen\, vernetzen\, gemeinsame Aktivitäten verstärken und zum Mitmachen einladen. \nRund um den „Startschuss“ für die Plattform wird Gelegenheit sein\, mit anderen Aktiven\, Initiativen\, Vereinen und Interessierten ins Gespräch zu kommen – ob über konkrete Mitmachangebote oder Ihre visionären Ideen für mehr Klimaschutz in Halle. Die Veranstaltung ist bis 20 Uhr geplant\, danach Ausklang mit einem Imbiss. \n  \nSTELLEN SIE IHRE INITIATIVE / IHREN VEREIN VOR\nBereits aktive Initiativen und Organisationen laden wir ein\, ihre Aktivitäten und Beteiligungsangebote in einer kleinen „Engagementbörse“ vorzustellen\, um weitere Mitstreiter:innen zu gewinnen. Kommen Sie miteinander und mit Interessierten ins Gespräch. \nSehr gern können Sie bis dahin das vorläufige Formular nutzen und Ihr Projekt oder Ihre Initiative eintragen: https://kurzelinks.de/gstg. \nWenn Sie Ihre Organisation und Ihre Engagementangebote im Bereich Klimaschutz bereits auf www.engagiert-in-halle.de veröffentlicht haben\, sprechen Sie bitte direkt die Freiwilligen-Agentur (Sulamith Fenkl-Ebert) an\, wir übertragen diese dann direkt auf die Klimaplattform. \nWir würden uns freuen\, Ihr Projekt zum Start der Plattform auf der Seite zu präsentieren. \nDie Veranstaltung ist kostenfrei\, bitte melden Sie sich bis 4. September über das Formular an.
URL:https://lange-wochen.de/termine/engagiert_fuers_klima/
LOCATION:Christian-Wolff-Haus\, Große Märkerstraße 10\, Halle
CATEGORIES:Treffen,Vernetzung
ATTACH;FMTTYPE=image/jpeg:https://lange-wochen.de/wp-content/uploads/2023/09/Klimaplattform.jpg
END:VEVENT
END:VCALENDAR