BEGIN:VCALENDAR
VERSION:2.0
PRODID:-//Lange Wochen der Nachhaltigkeit - ECPv6.15.11//NONSGML v1.0//EN
CALSCALE:GREGORIAN
METHOD:PUBLISH
X-WR-CALNAME:Lange Wochen der Nachhaltigkeit
X-ORIGINAL-URL:https://lange-wochen.de
X-WR-CALDESC:Veranstaltungen für Lange Wochen der Nachhaltigkeit
REFRESH-INTERVAL;VALUE=DURATION:PT1H
X-Robots-Tag:noindex
X-PUBLISHED-TTL:PT1H
BEGIN:VTIMEZONE
TZID:Europe/Berlin
BEGIN:DAYLIGHT
TZOFFSETFROM:+0100
TZOFFSETTO:+0200
TZNAME:CEST
DTSTART:20220327T010000
END:DAYLIGHT
BEGIN:STANDARD
TZOFFSETFROM:+0200
TZOFFSETTO:+0100
TZNAME:CET
DTSTART:20221030T010000
END:STANDARD
BEGIN:DAYLIGHT
TZOFFSETFROM:+0100
TZOFFSETTO:+0200
TZNAME:CEST
DTSTART:20230326T010000
END:DAYLIGHT
BEGIN:STANDARD
TZOFFSETFROM:+0200
TZOFFSETTO:+0100
TZNAME:CET
DTSTART:20231029T010000
END:STANDARD
BEGIN:DAYLIGHT
TZOFFSETFROM:+0100
TZOFFSETTO:+0200
TZNAME:CEST
DTSTART:20240331T010000
END:DAYLIGHT
BEGIN:STANDARD
TZOFFSETFROM:+0200
TZOFFSETTO:+0100
TZNAME:CET
DTSTART:20241027T010000
END:STANDARD
END:VTIMEZONE
BEGIN:VEVENT
DTSTART;TZID=Europe/Berlin:20230908T000000
DTEND;TZID=Europe/Berlin:20230930T000000
DTSTAMP:20260423T164057
CREATED:20230828T181612Z
LAST-MODIFIED:20230917T140709Z
UID:651-1694131200-1696032000@lange-wochen.de
SUMMARY:Veranstaltungsreihe: Recht auf Stadt - Stadt für alle?
DESCRIPTION:Partizipativer Nachbarschaftstreff \nWohnungsknappheit\, steigende Mieten\, fehlende Freiräume: Die Initiative Recht auf Stadt verwandelt das Bedürfnis in einen offenen Nachbarschaftstreff und lädt zum Mitmachen ein. In kostenfreien Veranstaltungen\, Vorträgen und Workshops sollen aktuelle Probleme von Mieter*innen gesammelt und nach solidarischen Lösungen gesucht werden. Zusammen entsteht ein Experimentierfeld\, das allen Interessierten offen steht. \nGibt es ein Recht auf Stadt? Was macht gutes Zusammenleben aus? Wie können Kunst und Kultur dazu beitragen?\nBringt eure Themen und Visionen ein – nur gemeinsam können wir eine lebenswertere Zukunft für alle gestalten! \nRecht auf Stadt setzt sich seit 2021 für eine solidarische\, soziale und nachhaltige Stadtentwicklung und Mietgerechtigkeit in Halle ein.
URL:https://lange-wochen.de/termine/recht-auf-stadt/
LOCATION:Bedürfnisanstalt\, Merseburger Straße 138\, Halle
CATEGORIES:Aktion,Ausstellung,Radio,Stammtisch,Workshop
ATTACH;FMTTYPE=image/jpeg:https://lange-wochen.de/wp-content/uploads/2023/08/recht-auf-stadt_programm-1.jpg
END:VEVENT
BEGIN:VEVENT
DTSTART;TZID=Europe/Berlin:20230911T070000
DTEND;TZID=Europe/Berlin:20230917T170000
DTSTAMP:20260423T164057
CREATED:20230828T092508Z
LAST-MODIFIED:20230901T100841Z
UID:586-1694415600-1694970000@lange-wochen.de
SUMMARY:KlimaCamp
DESCRIPTION:Vom 11. bis 17. September findet das KlimaCamp Halle in der alten Stadtgärtnerei statt.\nMit Workshops\, Vorträgen\, Filmen zu klimapolitischen Themen und vielem mehr. \nAm 15.9. gibt es u.a. Vorbereitungen für den Klimastreik.\nUnd weitere spannende Formate auch an dem Wochenende 16. & 17. September.
URL:https://lange-wochen.de/termine/klimacamp/
LOCATION:Alte Stadtgärtnerei\, Am Galgenberg 2\, Halle(Saale)\, 06118
CATEGORIES:Camp
ATTACH;FMTTYPE=image/jpeg:https://lange-wochen.de/wp-content/uploads/2023/08/KlimaCamp_Halle.jpg
END:VEVENT
BEGIN:VEVENT
DTSTART;TZID=Europe/Berlin:20230915T130000
DTEND;TZID=Europe/Berlin:20230915T170000
DTSTAMP:20260423T164057
CREATED:20230828T093118Z
LAST-MODIFIED:20230914T084027Z
UID:590-1694782800-1694797200@lange-wochen.de
SUMMARY:Lateinamerikanische Perspektiven auf der Suche nach dem guten Leben für alle: Das Buen Vivir
DESCRIPTION:Leider krankheitsbedingt abgesagt!\n  \nWas macht für dich ein gutes Leben aus? Was erfüllt dich und macht dich glücklich? Wie kann ein gutes Leben für alle gelingen? \nGemeinsam wollen wir uns anschauen\, wie ein gutes Leben für alle\, nicht nur Menschen\, aussehen kann. Genau damit beschäftigt sich das lateinamerikanische Konzept Buen Vivir\, welches Mittelpunkt dieses Workshops ist. \nDas Buen Vivir ist ein Konzept\, welches auf indigenen andinen Philosophien Lateinamerikas basiert und eine Perspektive auf die Welt hat\, die sich stark von der westlich kapitalistischen Denkweise abgrenzt. In diesem Workshop lernst du\, wie das Buen Vivir entstanden ist und was die Kernideen des Konzepts sind. Gemeinsam wollen wir auf kreativer Art eintauchen in das Buen Vivir und die Chancen dieses Konzepts für den Umgang mit dem menschengemachten Klimawandel erkennen. Denn das Buen Vivir bietet eine positive Perspektive auf den Umgang mit der Klimakrise und weist eine Kehrtwende auf\, bezüglich der Art und Weise wie Natur\, Gemeinschaft und Wert begegnet wird. \nNa\, neugierig? Dann komm vorbei\, und lass uns gemeinsam den Blick weiten und öffnen für andere Perspektiven und Denkweisen auf die Welt\, die Natur und den Umgang mit der Klimakrise. \nWorkshop-Leitung: Lucy Marlow \nDer Workshop ist kostenlos.
URL:https://lange-wochen.de/termine/buen-vivir/
LOCATION:Heinrich-Böll-Stiftung Sachsen-Anhalt\, Hansering 20 (Eingang Wilhelm-Külz-Str.)\, Halle (Saale)\, 06108
CATEGORIES:Workshop
ATTACH;FMTTYPE=image/jpeg:https://lange-wochen.de/wp-content/uploads/2023/08/Logo_HBS.jpg
ORGANIZER;CN="Heinrich-B%C3%B6ll-Stiftung Sachsen-Anhalt":MAILTO:schwarz@boell-sachsen-anhalt.de
END:VEVENT
BEGIN:VEVENT
DTSTART;TZID=Europe/Berlin:20230915T150000
DTEND;TZID=Europe/Berlin:20230915T170000
DTSTAMP:20260423T164057
CREATED:20230828T175822Z
LAST-MODIFIED:20230828T175822Z
UID:641-1694790000-1694797200@lange-wochen.de
SUMMARY:Upcyclingkinderwerkstatt
DESCRIPTION:Die beliebte UpcyclingKinderWerkstatt zeigt sich mit immer wieder neuen beschwingten Ideen für die Kleinen – und die Großen. In 2023 steht die UKW immer wieder im Zeichen eines anderen Materials\, welches mit euch zusammen erkundet werden kann. \nIm September kümmern wir uns in der UKW um das Holz. Aus den Restbeständen in der Sammlung entsteht Brauchbares für den Alltag und verspieltes. \nWenn ihr Freitags ins krimZkrams kommt\, seid ihr dabei. \nEltern sind zur UKW herzlich eingeladen. Die Teilnahme für Eltern und Kids ist kostenfrei. Über kleine Spenden freuen wir uns. \nEine Voranmeldung ist erwünscht.
URL:https://lange-wochen.de/termine/upcyclingkinderwerkstatt/
LOCATION:Krimzkrams\, Beesener Straße 237\, Halle\, Deutschland
CATEGORIES:Workshop
ATTACH;FMTTYPE=image/jpeg:https://lange-wochen.de/wp-content/uploads/2023/08/Krimz.jpg
END:VEVENT
BEGIN:VEVENT
DTSTART;TZID=Europe/Berlin:20230915T160000
DTEND;TZID=Europe/Berlin:20230915T200000
DTSTAMP:20260423T164057
CREATED:20230828T070257Z
LAST-MODIFIED:20230915T131913Z
UID:582-1694793600-1694808000@lange-wochen.de
SUMMARY:Globaler Klimastreik
DESCRIPTION:Fridays For Future laden zum nächsten Globalen Klimastreik – auch in Halle. \n14 Beginn auf dem Hallmarkt\nab 15 Uhr Laufdemo\n16:30 Uhr Abschlusskundgebung \n—– \n2023 — Dürre und Hitze in ganz Deutschland\, massive Regenfälle in Österreich und Slowenien\, Erdbeben sowie Waldbrände in der Türkei\, auf den Kanareninseln und in weiteren Teilen der Welt. Der Klimawandel ist real und bedroht ganze Existenzen. \nAber auch die Klimabewegung ist nicht untätig und die Hoffnung auf Veränderungen bleibt. Das Aktionsjahr 2023 ist noch nicht vorbei\, denn wir gehen am 15.09. wieder auf die Straße! \nLetzten Monat stufte der Expertenrat für Klimafragen der Bundesregierung die aktuellen Klimaschutzmaßnahmen dieser als unzureichend ein. Wir fordern\, dass die Politik die notwendigen Maßnahmen ergreift und der selbsternannte Klimakanzler Olaf Scholz endlich die Emissionen reduziert\, statt weitere LNG-Terminals für fossiles Gas durchzusetzen. Für das Ende von Kohle und Gas und für die Zukunft aller Menschen. \nSeit 2019 demonstrieren wir als Fridays For Future gemeinsam und es hat Wirkung gezeigt: über 9000 Streiks und mehr als 5 Millionen Menschen waren auf der Straße. Der Druck all dieser Menschen sorgte dafür\, dass Deutschland 2019 ein Klimaschutzgesetzt verabschiedet\, dass RWE sich aus dem LNG-Terminal-Projekt auf Rügen zurückgezogen hat und die Erderwärmung in aller Munde ist. \nMit vielen Menschen auf der Straße konnten wir viel erreichen\, darum komm zum Klimastreik und fordere unsere Zukunft ein!
URL:https://lange-wochen.de/termine/globaler-klimastreik/
LOCATION:Hallmarkt\, Halle/Saale
CATEGORIES:Aktion
ATTACH;FMTTYPE=image/jpeg:https://lange-wochen.de/wp-content/uploads/2023/08/klimastreik.jpg
END:VEVENT
BEGIN:VEVENT
DTSTART;TZID=Europe/Berlin:20230915T173000
DTEND;TZID=Europe/Berlin:20230915T210000
DTSTAMP:20260423T164057
CREATED:20230828T174054Z
LAST-MODIFIED:20230914T131610Z
UID:629-1694799000-1694811600@lange-wochen.de
SUMMARY:Film und Gespräch "Das Kombinat"
DESCRIPTION:Sondervorstellung zur Langen Woche der Nachhaltigkeit\, mit dem anwesenden Protagonisten Simon Scholl. Ebenfalls eingeladen sind regionale Solawis\, Biohöfe und Akteur*innen aus dem Bereich Ökologische Landwirtschaft rund um Halle. \nMit „Das Kombinat“ schaut Moritz Springer auf das größte Projekt solidarischer Landwirtschaft; er hat dieses fast zehn Jahre lang begleitet. Es geht um eine 2011 gegründete landwirtschaftliche Genossenschaft bei München: ein Unternehmen mit idealistischer Einstellung\, das in der realen Welt nicht nur Akzeptanz gewinnen\, sondern jene Welt auch verändern will. Bereits in „Projekt A“\, seinem Dokumentarfilm über verschiedene – im weiteren Sinne – anarchistische Projekte hat Springer das Kartoffelkombinat vorgestellt. Damals (2005) war dort noch alles beseelt vom Aufbruchgedanken. Hier dockt „Das Kombinat“ an. Es dekoriert den Film\, dass er nicht beim positiven Porträt verharrt\, vielmehr weitergeht\, doch dass er auch tiefer in die verschiedenen Richtungen blicken kann. Die Wertschätzung einer Gemeinschaft\, welche das Neue und Andere wagt\, die bleibt. \nDer Film kostet regulär Eintritt\, außer für geladene Gäste. \nAb 17:30 Uhr gibt es Infostände regionaler Akteur*innen aus dem Bereich ökologische Landwirtschaft im Foyer vom Luchskino\n18 Uhr startet der Film\, 90 Minuten\nIm Anschluss findet ein 45 Min Gespräch auf der Bühne statt\, danach entspannter Ausklang im Foyer für alle die noch da bleiben wollen.
URL:https://lange-wochen.de/termine/film-und-gespraech-das-kombinat/
LOCATION:Luchs Kino\, Seebener Straße 172\, Halle\, Deutschland
CATEGORIES:Film
ATTACH;FMTTYPE=image/jpeg:https://lange-wochen.de/wp-content/uploads/2023/08/das_kombinat-e1693244404496.jpg
END:VEVENT
BEGIN:VEVENT
DTSTART;TZID=Europe/Berlin:20230915T180000
DTEND;TZID=Europe/Berlin:20230915T200000
DTSTAMP:20260423T164057
CREATED:20230828T180756Z
LAST-MODIFIED:20230917T135939Z
UID:646-1694800800-1694808000@lange-wochen.de
SUMMARY:Zukunfts-Werkstatt: Grüne Hand am Werk
DESCRIPTION:Verschoben auf den 24. November\n– weitere Infos demnächst hier: https://wohnunion-halle.de/verein/revierpioniere – \n  \nFür Unternehmer:innen \nReichlich Ideenraum für Unternehmer:innen\, Repräsentant:innen der Verwaltung und sonstige Einrichtungen wird in der Zukunftswerkstatt generiert.\nIn der Fantasie- und Utopiephase wird dabei die Gelegenheit geboten zum thinking out the box\, um möglichst vielseitige Ansätze für das künftige »Grüne Neumarktquartier« zu entwickeln. \nzur Anmeldung \nmehr Infos zum Projekt hier
URL:https://lange-wochen.de/termine/zukunfts-werkstatt-gruene-hand-am-werk/
LOCATION:Volkspark\, kleiner Saal\, Schleifweg 8a\, Halle
CATEGORIES:Workshop
ATTACH;FMTTYPE=image/jpeg:https://lange-wochen.de/wp-content/uploads/2023/08/Wohnunion.jpg
END:VEVENT
END:VCALENDAR