BEGIN:VCALENDAR
VERSION:2.0
PRODID:-//Lange Wochen der Nachhaltigkeit - ECPv6.15.11//NONSGML v1.0//EN
CALSCALE:GREGORIAN
METHOD:PUBLISH
X-WR-CALNAME:Lange Wochen der Nachhaltigkeit
X-ORIGINAL-URL:https://lange-wochen.de
X-WR-CALDESC:Veranstaltungen für Lange Wochen der Nachhaltigkeit
REFRESH-INTERVAL;VALUE=DURATION:PT1H
X-Robots-Tag:noindex
X-PUBLISHED-TTL:PT1H
BEGIN:VTIMEZONE
TZID:Europe/Berlin
BEGIN:DAYLIGHT
TZOFFSETFROM:+0100
TZOFFSETTO:+0200
TZNAME:CEST
DTSTART:20220327T010000
END:DAYLIGHT
BEGIN:STANDARD
TZOFFSETFROM:+0200
TZOFFSETTO:+0100
TZNAME:CET
DTSTART:20221030T010000
END:STANDARD
BEGIN:DAYLIGHT
TZOFFSETFROM:+0100
TZOFFSETTO:+0200
TZNAME:CEST
DTSTART:20230326T010000
END:DAYLIGHT
BEGIN:STANDARD
TZOFFSETFROM:+0200
TZOFFSETTO:+0100
TZNAME:CET
DTSTART:20231029T010000
END:STANDARD
BEGIN:DAYLIGHT
TZOFFSETFROM:+0100
TZOFFSETTO:+0200
TZNAME:CEST
DTSTART:20240331T010000
END:DAYLIGHT
BEGIN:STANDARD
TZOFFSETFROM:+0200
TZOFFSETTO:+0100
TZNAME:CET
DTSTART:20241027T010000
END:STANDARD
END:VTIMEZONE
BEGIN:VEVENT
DTSTART;TZID=Europe/Berlin:20230908T000000
DTEND;TZID=Europe/Berlin:20230930T000000
DTSTAMP:20260423T095741
CREATED:20230828T181612Z
LAST-MODIFIED:20230917T140709Z
UID:651-1694131200-1696032000@lange-wochen.de
SUMMARY:Veranstaltungsreihe: Recht auf Stadt - Stadt für alle?
DESCRIPTION:Partizipativer Nachbarschaftstreff \nWohnungsknappheit\, steigende Mieten\, fehlende Freiräume: Die Initiative Recht auf Stadt verwandelt das Bedürfnis in einen offenen Nachbarschaftstreff und lädt zum Mitmachen ein. In kostenfreien Veranstaltungen\, Vorträgen und Workshops sollen aktuelle Probleme von Mieter*innen gesammelt und nach solidarischen Lösungen gesucht werden. Zusammen entsteht ein Experimentierfeld\, das allen Interessierten offen steht. \nGibt es ein Recht auf Stadt? Was macht gutes Zusammenleben aus? Wie können Kunst und Kultur dazu beitragen?\nBringt eure Themen und Visionen ein – nur gemeinsam können wir eine lebenswertere Zukunft für alle gestalten! \nRecht auf Stadt setzt sich seit 2021 für eine solidarische\, soziale und nachhaltige Stadtentwicklung und Mietgerechtigkeit in Halle ein.
URL:https://lange-wochen.de/termine/recht-auf-stadt/
LOCATION:Bedürfnisanstalt\, Merseburger Straße 138\, Halle
CATEGORIES:Aktion,Ausstellung,Radio,Stammtisch,Workshop
ATTACH;FMTTYPE=image/jpeg:https://lange-wochen.de/wp-content/uploads/2023/08/recht-auf-stadt_programm-1.jpg
END:VEVENT
BEGIN:VEVENT
DTSTART;TZID=Europe/Berlin:20230920T100000
DTEND;TZID=Europe/Berlin:20230920T123000
DTSTAMP:20260423T095741
CREATED:20230906T061810Z
LAST-MODIFIED:20230911T155502Z
UID:6247-1695204000-1695213000@lange-wochen.de
SUMMARY:Kaleidoskop Südpark (für Frauen)
DESCRIPTION:Jeden Miltwoch um 10 Uhr treffen wir in der Passage 13 und gehen gemeinsam zum Projektraum des Kaleidoskop Südpark. Für alle aus dem Südpark\, ist um 10.30 Uhr Treffpunkt am Projektraum. An den meisten Mittwochen pflegen wir gemeinsam den kleinen Garten des Projekts. Zu ausgesuchten Terminen werden wir spezielle Workshops (mit Anmeldung über die WhatsApp-Gruppe) zur Kraft der Natur anbieten. Kräuter\, Salben\, Tees\, Gewürze schauen wir uns genauer an und teilen unser interkulturelles Wissen darüber. Ihr seid herzlich eingeladen\, wenn ihr es vermisst im Garten zu arbeiten und gemeinsam zu ernten\, wenn ihr euer Wissen über die Natur teilen oder mehr lernen wollt.\nAls gemeinsames Ergebnis werden wir Südpark/Neustadt Tees\, Gewürzmischungen\, Seifen und mehr herstellen\, die ihr wunderbar verschenken könnt. \nTreffpunkt: 10 Uhr Passage 13
URL:https://lange-wochen.de/termine/kaleidoskop-suedpark-fuer-frauen/
LOCATION:Kaleidoskop Südpark\, Edvard-Grieg-Weg 11\, Halle
CATEGORIES:Regeneration,Treffen
END:VEVENT
BEGIN:VEVENT
DTSTART;TZID=Europe/Berlin:20230920T170000
DTEND;TZID=Europe/Berlin:20230920T180000
DTSTAMP:20260423T095741
CREATED:20230828T185452Z
LAST-MODIFIED:20230911T153700Z
UID:671-1695229200-1695232800@lange-wochen.de
SUMMARY:Waldbaden
DESCRIPTION:Die Umweltbildungsstation des Peißnitzhaus e. V. bietet jetzt Zeiten für das so genannte Wald-Baden (japanisch shinrin yoku) an. Dies bedeutet nichts anderes als ein gemeinsamer\, bewusster\, stiller Aufenthalt in einer Waldumgebung. \nKleine Achtsamkeitsübungen helfen uns dabei\, aus unserem täglichen Gedankenkarussell herauszukommen. Gedanken\, die uns gern aus unserer friedlich-zufriedenen Mitte ziehen… Wer die wohltuende Wirkung dieser Übung selbst erfahren möchte\, ist herzlich eingeladen. \nZeiten: dienstags & mittwochs 17 – 18 Uhr sowie nach Absprache \nSpendenempfehlung: 4 € (Unterstützung von Umweltprojekten in Halle) \nTreffpunkt: Eingang des Peißnitzhaus-Geländes bei den Fahrradständern \nweitere Infos und gerne auch mit Voranmeldung unter umweltbildung@peissnitzhaus.de oder sms unter 0176 722 65 764 \nTreffpunkt: Eingang des Peißnitzhaus-Geländes bei den Fahrradständern
URL:https://lange-wochen.de/termine/waldbaden-2/
LOCATION:Peißnitzhaus\, Peißnitzinsel 4\, Halle
CATEGORIES:Aktion,Regeneration
ATTACH;FMTTYPE=image/png:https://lange-wochen.de/wp-content/uploads/2023/08/Waldbaden-1.png
END:VEVENT
BEGIN:VEVENT
DTSTART;TZID=Europe/Berlin:20230920T170000
DTEND;TZID=Europe/Berlin:20230920T190000
DTSTAMP:20260423T095741
CREATED:20230911T151749Z
LAST-MODIFIED:20230916T094330Z
UID:6397-1695229200-1695236400@lange-wochen.de
SUMMARY:Strukturen für Regeneration im Aktivismus in Halle und Umgebung
DESCRIPTION:Ideenschmiede\, anschließend Suppe und quatschen\, im Wandelspace \nHast auch du mitbekommen\, wie Menschen\, die sich freiwillig engagieren von Burnout\, Stress\, fehlendem Lebensmut betroffen sind oder sich manchmal einsam fühlen? Das ist ganz normal angesichts dessen\, dass wir uns tagtäglich mit vorhandenen Ungerechtigkeiten\, Zerstörung oder Leid konfrontieren. \nUm das eigene Handeln als wertvoll und sich selbst als wirksam zu empfinden\, braucht es ein Eingewoben-Sein in ein Netz: das trägt\, einen auffängt\, den Zusammenhang zu größeren Veränderungen herstellt und Schwung gibt. \nWelche Ideen es dafür bereits in Halle gibt und wonach wir uns sehnen\, darum wird es in dieser interaktiven Schmiede gehen.\nErst Vorstellung des bisherigen Konzepts und dann gemeinsames daran feilen und schleifen. \nFragen und Anmeldung: ra_halle@riseup.net oder 01743671250
URL:https://lange-wochen.de/termine/strukturen-fuer-regenerativen-aktivismus/
LOCATION:WandelSpace\, Lessingstraße 29\, Halle/Saale\, 06114
CATEGORIES:Ideenschmiede,Projektentwicklung,Regeneration
ATTACH;FMTTYPE=image/jpeg:https://lange-wochen.de/wp-content/uploads/2023/09/ideenschmiede.jpg
END:VEVENT
END:VCALENDAR