BEGIN:VCALENDAR
VERSION:2.0
PRODID:-//Lange Wochen der Nachhaltigkeit - ECPv6.15.11//NONSGML v1.0//EN
CALSCALE:GREGORIAN
METHOD:PUBLISH
X-WR-CALNAME:Lange Wochen der Nachhaltigkeit
X-ORIGINAL-URL:https://lange-wochen.de
X-WR-CALDESC:Veranstaltungen für Lange Wochen der Nachhaltigkeit
REFRESH-INTERVAL;VALUE=DURATION:PT1H
X-Robots-Tag:noindex
X-PUBLISHED-TTL:PT1H
BEGIN:VTIMEZONE
TZID:Europe/Berlin
BEGIN:DAYLIGHT
TZOFFSETFROM:+0100
TZOFFSETTO:+0200
TZNAME:CEST
DTSTART:20220327T010000
END:DAYLIGHT
BEGIN:STANDARD
TZOFFSETFROM:+0200
TZOFFSETTO:+0100
TZNAME:CET
DTSTART:20221030T010000
END:STANDARD
BEGIN:DAYLIGHT
TZOFFSETFROM:+0100
TZOFFSETTO:+0200
TZNAME:CEST
DTSTART:20230326T010000
END:DAYLIGHT
BEGIN:STANDARD
TZOFFSETFROM:+0200
TZOFFSETTO:+0100
TZNAME:CET
DTSTART:20231029T010000
END:STANDARD
BEGIN:DAYLIGHT
TZOFFSETFROM:+0100
TZOFFSETTO:+0200
TZNAME:CEST
DTSTART:20240331T010000
END:DAYLIGHT
BEGIN:STANDARD
TZOFFSETFROM:+0200
TZOFFSETTO:+0100
TZNAME:CET
DTSTART:20241027T010000
END:STANDARD
END:VTIMEZONE
BEGIN:VEVENT
DTSTART;TZID=Europe/Berlin:20230908T000000
DTEND;TZID=Europe/Berlin:20230930T000000
DTSTAMP:20260423T043215
CREATED:20230828T181612Z
LAST-MODIFIED:20230917T140709Z
UID:651-1694131200-1696032000@lange-wochen.de
SUMMARY:Veranstaltungsreihe: Recht auf Stadt - Stadt für alle?
DESCRIPTION:Partizipativer Nachbarschaftstreff \nWohnungsknappheit\, steigende Mieten\, fehlende Freiräume: Die Initiative Recht auf Stadt verwandelt das Bedürfnis in einen offenen Nachbarschaftstreff und lädt zum Mitmachen ein. In kostenfreien Veranstaltungen\, Vorträgen und Workshops sollen aktuelle Probleme von Mieter*innen gesammelt und nach solidarischen Lösungen gesucht werden. Zusammen entsteht ein Experimentierfeld\, das allen Interessierten offen steht. \nGibt es ein Recht auf Stadt? Was macht gutes Zusammenleben aus? Wie können Kunst und Kultur dazu beitragen?\nBringt eure Themen und Visionen ein – nur gemeinsam können wir eine lebenswertere Zukunft für alle gestalten! \nRecht auf Stadt setzt sich seit 2021 für eine solidarische\, soziale und nachhaltige Stadtentwicklung und Mietgerechtigkeit in Halle ein.
URL:https://lange-wochen.de/termine/recht-auf-stadt/
LOCATION:Bedürfnisanstalt\, Merseburger Straße 138\, Halle
CATEGORIES:Aktion,Ausstellung,Radio,Stammtisch,Workshop
ATTACH;FMTTYPE=image/jpeg:https://lange-wochen.de/wp-content/uploads/2023/08/recht-auf-stadt_programm-1.jpg
END:VEVENT
BEGIN:VEVENT
DTSTART;VALUE=DATE:20230922
DTEND;VALUE=DATE:20231002
DTSTAMP:20260423T043215
CREATED:20230911T144106Z
LAST-MODIFIED:20230911T144106Z
UID:6390-1695340800-1696204799@lange-wochen.de
SUMMARY:Interkulturelle Woche
DESCRIPTION:Endlich ist es soweit! Wir laden euch herzlich zur Eröffnungsveranstaltung im Rahmen der Interkulturellen Woche 2023 ein. Unter dem Motto #NeueRäume wollen wir gemeinsam neue Perspektiven entdecken und uns auf eine Reise der interkulturellen Begegnung begeben. \nDie Veranstaltung findet am 22.09.2023 um 18:00 Uhr vor\, in und um die Ulrichskirche statt. Wir haben für euch ein abwechslungsreiches Programm aus Musik\, Tanz und Kunst zusammengestellt. Lasst euch von den verschiedenen Künstlerinnen und Künstlern inspirieren und taucht ein in die Vielfalt der Kulturen. \nDer Aufbau beginnt ab 16:00 Uhr und der Abbau wird gegen circa 22:00 Uhr stattfinden. \nWir freuen uns auf euch und darauf\, gemeinsam neue Räume zu entdecken! \nVerwendet gerne die Hashtags #interkulturellewoche#neueräume#vielfalt#Veranstaltungen#programmheft#kulturenfeiern#ikwhalle\, um unsere Botschaft zu verbreiten. \nFolgt uns auch gerne auf Instagram\, Facebook und bleibt über aktuelle Informationen und Updates zur Interkulturellen Woche auf dem Laufenden.
URL:https://lange-wochen.de/termine/interkulturelle-woche/
LOCATION:verschiedene Orte
CATEGORIES:Festival
ATTACH;FMTTYPE=image/jpeg:https://lange-wochen.de/wp-content/uploads/2023/09/Interkulturelle_Woche.jpg
END:VEVENT
BEGIN:VEVENT
DTSTART;TZID=Europe/Berlin:20230923T130000
DTEND;TZID=Europe/Berlin:20230924T180000
DTSTAMP:20260423T043215
CREATED:20230829T141638Z
LAST-MODIFIED:20230829T173814Z
UID:689-1695474000-1695578400@lange-wochen.de
SUMMARY:Mitmach Festival JutAlaune
DESCRIPTION:Das Jutalaune Sozialarbeits-Kollektiv lädt Kinder\, Jugendliche und Familien zum Mitmach-Festival aufs Gut Alaune ein. Wir freuen uns auf zahlreichen Besucher*innen und wollen mit euch basteln und die Möglichkeitsräume zwischen offenen Werkstätten\, Gärten und kreativen Angeboten erkunden. Ausserdem wollen wir natürlich wieder jede Menge wieder Saft mit unserer solidarischen Saftstraße pressen. \nDas genaue Programm in Kürze hier: Mitmach-Festival 2023 – GutAlaune e.V. \nIhr könnt euch schon mal das Datum vormerken: 23. und 24. September 2023 auf dem GutAlaune. \nHier ein paar Eindrücke vom letzten Jahr. Wenn ihr auch hören wollt was so los war dann hört mal hier rein – in einer Radiowerkstatt wurde mit dem Jugendradio Corax eine Sendung zum letzten Mitmachfestival gebastelt.
URL:https://lange-wochen.de/termine/mitmach-festival/
LOCATION:Gut Alaune\, Alaune 9\, Petersberg
CATEGORIES:Festival
ATTACH;FMTTYPE=image/jpeg:https://lange-wochen.de/wp-content/uploads/2023/08/JutAlaune.jpg
END:VEVENT
END:VCALENDAR