BEGIN:VCALENDAR
VERSION:2.0
PRODID:-//Lange Wochen der Nachhaltigkeit - ECPv6.15.11//NONSGML v1.0//EN
CALSCALE:GREGORIAN
METHOD:PUBLISH
X-WR-CALNAME:Lange Wochen der Nachhaltigkeit
X-ORIGINAL-URL:https://lange-wochen.de
X-WR-CALDESC:Veranstaltungen für Lange Wochen der Nachhaltigkeit
REFRESH-INTERVAL;VALUE=DURATION:PT1H
X-Robots-Tag:noindex
X-PUBLISHED-TTL:PT1H
BEGIN:VTIMEZONE
TZID:Europe/Berlin
BEGIN:DAYLIGHT
TZOFFSETFROM:+0100
TZOFFSETTO:+0200
TZNAME:CEST
DTSTART:20220327T010000
END:DAYLIGHT
BEGIN:STANDARD
TZOFFSETFROM:+0200
TZOFFSETTO:+0100
TZNAME:CET
DTSTART:20221030T010000
END:STANDARD
BEGIN:DAYLIGHT
TZOFFSETFROM:+0100
TZOFFSETTO:+0200
TZNAME:CEST
DTSTART:20230326T010000
END:DAYLIGHT
BEGIN:STANDARD
TZOFFSETFROM:+0200
TZOFFSETTO:+0100
TZNAME:CET
DTSTART:20231029T010000
END:STANDARD
BEGIN:DAYLIGHT
TZOFFSETFROM:+0100
TZOFFSETTO:+0200
TZNAME:CEST
DTSTART:20240331T010000
END:DAYLIGHT
BEGIN:STANDARD
TZOFFSETFROM:+0200
TZOFFSETTO:+0100
TZNAME:CET
DTSTART:20241027T010000
END:STANDARD
END:VTIMEZONE
BEGIN:VEVENT
DTSTART;TZID=Europe/Berlin:20230908T000000
DTEND;TZID=Europe/Berlin:20230930T000000
DTSTAMP:20260423T031355
CREATED:20230828T181612Z
LAST-MODIFIED:20230917T140709Z
UID:651-1694131200-1696032000@lange-wochen.de
SUMMARY:Veranstaltungsreihe: Recht auf Stadt - Stadt für alle?
DESCRIPTION:Partizipativer Nachbarschaftstreff \nWohnungsknappheit\, steigende Mieten\, fehlende Freiräume: Die Initiative Recht auf Stadt verwandelt das Bedürfnis in einen offenen Nachbarschaftstreff und lädt zum Mitmachen ein. In kostenfreien Veranstaltungen\, Vorträgen und Workshops sollen aktuelle Probleme von Mieter*innen gesammelt und nach solidarischen Lösungen gesucht werden. Zusammen entsteht ein Experimentierfeld\, das allen Interessierten offen steht. \nGibt es ein Recht auf Stadt? Was macht gutes Zusammenleben aus? Wie können Kunst und Kultur dazu beitragen?\nBringt eure Themen und Visionen ein – nur gemeinsam können wir eine lebenswertere Zukunft für alle gestalten! \nRecht auf Stadt setzt sich seit 2021 für eine solidarische\, soziale und nachhaltige Stadtentwicklung und Mietgerechtigkeit in Halle ein.
URL:https://lange-wochen.de/termine/recht-auf-stadt/
LOCATION:Bedürfnisanstalt\, Merseburger Straße 138\, Halle
CATEGORIES:Aktion,Ausstellung,Radio,Stammtisch,Workshop
ATTACH;FMTTYPE=image/jpeg:https://lange-wochen.de/wp-content/uploads/2023/08/recht-auf-stadt_programm-1.jpg
END:VEVENT
BEGIN:VEVENT
DTSTART;VALUE=DATE:20230922
DTEND;VALUE=DATE:20231002
DTSTAMP:20260423T031355
CREATED:20230911T144106Z
LAST-MODIFIED:20230911T144106Z
UID:6390-1695340800-1696204799@lange-wochen.de
SUMMARY:Interkulturelle Woche
DESCRIPTION:Endlich ist es soweit! Wir laden euch herzlich zur Eröffnungsveranstaltung im Rahmen der Interkulturellen Woche 2023 ein. Unter dem Motto #NeueRäume wollen wir gemeinsam neue Perspektiven entdecken und uns auf eine Reise der interkulturellen Begegnung begeben. \nDie Veranstaltung findet am 22.09.2023 um 18:00 Uhr vor\, in und um die Ulrichskirche statt. Wir haben für euch ein abwechslungsreiches Programm aus Musik\, Tanz und Kunst zusammengestellt. Lasst euch von den verschiedenen Künstlerinnen und Künstlern inspirieren und taucht ein in die Vielfalt der Kulturen. \nDer Aufbau beginnt ab 16:00 Uhr und der Abbau wird gegen circa 22:00 Uhr stattfinden. \nWir freuen uns auf euch und darauf\, gemeinsam neue Räume zu entdecken! \nVerwendet gerne die Hashtags #interkulturellewoche#neueräume#vielfalt#Veranstaltungen#programmheft#kulturenfeiern#ikwhalle\, um unsere Botschaft zu verbreiten. \nFolgt uns auch gerne auf Instagram\, Facebook und bleibt über aktuelle Informationen und Updates zur Interkulturellen Woche auf dem Laufenden.
URL:https://lange-wochen.de/termine/interkulturelle-woche/
LOCATION:verschiedene Orte
CATEGORIES:Festival
ATTACH;FMTTYPE=image/jpeg:https://lange-wochen.de/wp-content/uploads/2023/09/Interkulturelle_Woche.jpg
END:VEVENT
BEGIN:VEVENT
DTSTART;TZID=Europe/Berlin:20230928T110000
DTEND;TZID=Europe/Berlin:20230928T123000
DTSTAMP:20260423T031355
CREATED:20230925T110740Z
LAST-MODIFIED:20230925T120219Z
UID:6683-1695898800-1695904200@lange-wochen.de
SUMMARY:Wie gelingt eine resilliente und regionale Energieversorgung der Zukunft?
DESCRIPTION:In der Energiewende ist Tempo angesagt: Bis 2035 muss in allen Sektoren zu 100 Prozent Energie von Wind\, Sonne und anderen erneuerbaren Energiequellen kommen. Eine große Herausforderung für Kommunen\, ihre Energiesysteme zügig\, flächendeckend und verlässlich umzubauen. Derweil sind Bürgerenergiegenossenschaften ein Beispiel\, wie Bürger*innen ihre Energieversorgung selbst organisieren können. Wir diskutieren in dieser Veranstaltung: Welche Weichen muss die Politik stellen\, um Bürgerenergiegenossenschaften und ihre Protagonist*innen zu unterstützen? Wie wird Energy Sharing ohne Mehrkosten- und aufwand für Engagierte zu gelebter Praxis? \nAm 28.09. suchen Vertreter*innen aus Politik\, Praxis und Forschung mit uns nach Antworten und Lösungen. Im Dialog entwickeln wir Rahmenbedingungen für eine zukunftsgerichtete und sozial-ökologische Energiepolitik – Seid dabei! \nSpeaker*innen: Janina Messerschmidt (BEOS eG) // Neneh Braum (Uni Vechta) \nAnmelden hier: https://www.meetup.com/zukunftsorte/events/291226744/ \nZiel der Dialogreihe\nMit unserer Dialogreihe Wandel. Machen. Vor Ort. wollen wir dazu beitragen\, dieses Wissen zu vernetzen und in politisches Handeln zu übersetzen. In monatlichen digitalen Meetups trifft Zukunftsort-Gründer auf Stadtmacherin\, Ökodorf-Planerin auf Neulandgewinner\, Expertise auf Machertum\, Experiment auf Verwaltung\, Politik auf Forschung und Praxis. Im Dialog über gemeinschaftliche Wohn-\, Arbeits- und Gemeinschaftsprojekte zwischen Stadt und Land sprechenMacher*innen\, Expert*innen und Politiker*innen darüber\, wie konkreter Wandel vor Ort funktioniert und welche Rahmenbedinungen es dafür braucht. Jede Veranstaltung wird auf dieser Webseite als Video dokumentiert. \n 
URL:https://lange-wochen.de/termine/wie-gelingt-eine-resilliente-und-regionale-energieversorgung-der-zukunft/
LOCATION:Online
CATEGORIES:Experiment,Ideenschmiede,Online,Treffen,Vernetzung
ATTACH;FMTTYPE=image/webp:https://lange-wochen.de/wp-content/uploads/2023/09/zukunft.webp
END:VEVENT
BEGIN:VEVENT
DTSTART;TZID=Europe/Berlin:20230928T140000
DTEND;TZID=Europe/Berlin:20230928T160000
DTSTAMP:20260423T031355
CREATED:20230911T153028Z
LAST-MODIFIED:20230912T073756Z
UID:6403-1695909600-1695916800@lange-wochen.de
SUMMARY:Webinar: Wiederverwendung und Recycling beim Bau – Rahmenbedingungen und gute Beispiele
DESCRIPTION:Termin: 28.09.2023\, 14:00-16:00 Uhr\nModeration: Ralf Elsässer\, Landesverband Nachhaltiges Sachsen e.V. \nAnmeldung: Anmeldelink für den 28.09.2023 \nDie Bauwirtschaft ist der größte Produzent von Abfall überhaupt. Neben dem Bodenaushub und Straßenaufbruch fallen pro Jahr in Deutschland u.a. rund 60 Mill. Tonnen Bauschutt und 14 Mill. Tonnen Baustellenabfälle an. Nur ein kleiner Teil davon wird bisher für eine höherwertige Nutzung eingesetzt. Wenn wir den gewaltigen Ressourcenverbrauch durch immer neue Bauwerke reduzieren wollen\, müssen wir das Bauen neu denken.\nAuch auf der kommunalen Ebene bestehen dafür Handlungsmöglichkeiten. Wir möchten uns in dem Webinar über mögliche Ansatzpunkte und Beispiele guter Praxis austauschen. Dazu schauen wir insbesondere auf folgende Aspekte: \n\nKreislauffähige Baukonstruktionen\, Einsatz von nachwachsenden Rohstoffen und Recyclaten im Bau – Welche Vorgaben sind im Rahmen von Ausschreibungen möglich?\nWiedernutzung ausgebauter Bauteile – Wie kann eine lokale Bauteilbörse effektiv betrieben werden?\nErfahrungsaustausch der Praktiker aus Bauwirtschaft\, Planung\, Forschung und Verwaltung vor Ort – Welche Vorgehensweisen sind effektiv und können verstetigt werden?\nExperimentierräume und Modellprojekte – Wie gelingt der Erfahrungstransfer?
URL:https://lange-wochen.de/termine/webinar-wiederverwendung-und-recycling-beim-bau-rahmenbedingungen-und-gute-beispiele/
LOCATION:online über Zoom
CATEGORIES:Online,Webinar
ATTACH;FMTTYPE=image/png:https://lange-wochen.de/wp-content/uploads/2023/09/Twitter04_Web2023_28.09.2023-kl.png
END:VEVENT
BEGIN:VEVENT
DTSTART;TZID=Europe/Berlin:20230928T170000
DTEND;TZID=Europe/Berlin:20230928T200000
DTSTAMP:20260423T031355
CREATED:20230920T142238Z
LAST-MODIFIED:20230920T142238Z
UID:6643-1695920400-1695931200@lange-wochen.de
SUMMARY:Verschachtelt - Ordnungshelfer für Zuhause selbst herstellen
DESCRIPTION:Es muss nicht immer neu sein: Papp-Abfälle und Restmaterialien nutzen\, um praktische Schachteln und Boxen als Geschenk oder Ordnungshelfer für Zuhause herzustellen. Marie-Kristin Heinrich zeigt in diesem Workshop\, wie ihr wunderschöne Schachteln und Kisten in verschiedenen Größen ganz einfach selber bauen könnt. Unsere Materialsammlung bietet einen großen und vielseitigen Fundus\, um die Kreativität fließen zu lassen. \nWorkshop für Erwachsene ab 15 Jahren.\nBitte mit Voranmeldung per Mail unter info@krimzkrams-halle.de\nDie Teilnahme ist kostenlos\, aber wir freuen uns über eine Spende in unseren Topf.
URL:https://lange-wochen.de/termine/verschachtelt-ordnungshelfer-fuer-zuhause-selbst-herstellen/
LOCATION:Krimzkrams\, Beesener Straße 237\, Halle\, Deutschland
CATEGORIES:Workshop
ATTACH;FMTTYPE=image/jpeg:https://lange-wochen.de/wp-content/uploads/2023/09/Krimskrams-1.jpg
END:VEVENT
BEGIN:VEVENT
DTSTART;TZID=Europe/Berlin:20230928T173000
DTEND;TZID=Europe/Berlin:20230928T193000
DTSTAMP:20260423T031355
CREATED:20230912T165721Z
LAST-MODIFIED:20230927T155835Z
UID:6490-1695922200-1695929400@lange-wochen.de
SUMMARY:Mental Health für Ehrenamtliche im Klimaschutz
DESCRIPTION:Max. 20 TN – Anmeldung unter Marcus.dornburg@bkk-vbu.de \n17:30h Begrüßung Marcus Dornburg\, BKK·VBU\, Referent Prävention\n„Warum Klima- und Gesundheitsschutz untrennbar miteinander verbunden sind!“ \n17:45h Impuls-Workshop: „Gesund und optimistisch auch in schwierigen Zeiten?! – Was wir von den Blue Zones lernen können!“ \nIn fünf Regionen der Welt\, den so genannten Blue Zones\, leben Menschen länger und gesünder als der Durchschnitt. In unserem Impuls-Workshop lüften wir das Geheimnis\, welche Faktoren solch ein langes Leben ermöglichen und zeigen\, wie wir diese in unsere Alltagsroutinen integrieren können. Achtung Spoiler: So viel sei schon mal verraten – eine besondere Rolle spielt dabei unser Optimismus\, den wir in unserem Impuls-Workshop einmal genauer unter die Lupe nehmen. \nIhre Referentinnen: Andrea Herz & Anja Beck Beide Trainerinnen sind ausgebildete Diplom-Psychologinnen und bereits seit 2009 sehr erfolgreich freiberuflich tätig. Ihre große Leidenschaft ist es\, Menschen im Business dabei zu unterstützen\, ein Mindset zu entwickeln\, dass sie gesund hält – ganz nach ihrem Motto: anders denken\, anders handeln.
URL:https://lange-wochen.de/termine/mental-health-fuer-ehrenamtliche-im-klimaschutz/
LOCATION:BKK·VBU\, Leipziger Straße 100\, Halle/Saale
CATEGORIES:Regeneration,Workshop
END:VEVENT
END:VCALENDAR