BEGIN:VCALENDAR
VERSION:2.0
PRODID:-//Lange Wochen der Nachhaltigkeit - ECPv6.15.11//NONSGML v1.0//EN
CALSCALE:GREGORIAN
METHOD:PUBLISH
X-ORIGINAL-URL:https://lange-wochen.de
X-WR-CALDESC:Veranstaltungen für Lange Wochen der Nachhaltigkeit
REFRESH-INTERVAL;VALUE=DURATION:PT1H
X-Robots-Tag:noindex
X-PUBLISHED-TTL:PT1H
BEGIN:VTIMEZONE
TZID:Europe/Berlin
BEGIN:DAYLIGHT
TZOFFSETFROM:+0100
TZOFFSETTO:+0200
TZNAME:CEST
DTSTART:20220327T010000
END:DAYLIGHT
BEGIN:STANDARD
TZOFFSETFROM:+0200
TZOFFSETTO:+0100
TZNAME:CET
DTSTART:20221030T010000
END:STANDARD
BEGIN:DAYLIGHT
TZOFFSETFROM:+0100
TZOFFSETTO:+0200
TZNAME:CEST
DTSTART:20230326T010000
END:DAYLIGHT
BEGIN:STANDARD
TZOFFSETFROM:+0200
TZOFFSETTO:+0100
TZNAME:CET
DTSTART:20231029T010000
END:STANDARD
BEGIN:DAYLIGHT
TZOFFSETFROM:+0100
TZOFFSETTO:+0200
TZNAME:CEST
DTSTART:20240331T010000
END:DAYLIGHT
BEGIN:STANDARD
TZOFFSETFROM:+0200
TZOFFSETTO:+0100
TZNAME:CET
DTSTART:20241027T010000
END:STANDARD
END:VTIMEZONE
BEGIN:VEVENT
DTSTART;TZID=Europe/Berlin:20230908T000000
DTEND;TZID=Europe/Berlin:20230930T000000
DTSTAMP:20260423T031553
CREATED:20230828T181612Z
LAST-MODIFIED:20230917T140709Z
UID:651-1694131200-1696032000@lange-wochen.de
SUMMARY:Veranstaltungsreihe: Recht auf Stadt - Stadt für alle?
DESCRIPTION:Partizipativer Nachbarschaftstreff \nWohnungsknappheit\, steigende Mieten\, fehlende Freiräume: Die Initiative Recht auf Stadt verwandelt das Bedürfnis in einen offenen Nachbarschaftstreff und lädt zum Mitmachen ein. In kostenfreien Veranstaltungen\, Vorträgen und Workshops sollen aktuelle Probleme von Mieter*innen gesammelt und nach solidarischen Lösungen gesucht werden. Zusammen entsteht ein Experimentierfeld\, das allen Interessierten offen steht. \nGibt es ein Recht auf Stadt? Was macht gutes Zusammenleben aus? Wie können Kunst und Kultur dazu beitragen?\nBringt eure Themen und Visionen ein – nur gemeinsam können wir eine lebenswertere Zukunft für alle gestalten! \nRecht auf Stadt setzt sich seit 2021 für eine solidarische\, soziale und nachhaltige Stadtentwicklung und Mietgerechtigkeit in Halle ein.
URL:https://lange-wochen.de/termine/recht-auf-stadt/
LOCATION:Bedürfnisanstalt\, Merseburger Straße 138\, Halle
CATEGORIES:Aktion,Ausstellung,Radio,Stammtisch,Workshop
ATTACH;FMTTYPE=image/jpeg:https://lange-wochen.de/wp-content/uploads/2023/08/recht-auf-stadt_programm-1.jpg
END:VEVENT
BEGIN:VEVENT
DTSTART;VALUE=DATE:20230922
DTEND;VALUE=DATE:20231002
DTSTAMP:20260423T031553
CREATED:20230911T144106Z
LAST-MODIFIED:20230911T144106Z
UID:6390-1695340800-1696204799@lange-wochen.de
SUMMARY:Interkulturelle Woche
DESCRIPTION:Endlich ist es soweit! Wir laden euch herzlich zur Eröffnungsveranstaltung im Rahmen der Interkulturellen Woche 2023 ein. Unter dem Motto #NeueRäume wollen wir gemeinsam neue Perspektiven entdecken und uns auf eine Reise der interkulturellen Begegnung begeben. \nDie Veranstaltung findet am 22.09.2023 um 18:00 Uhr vor\, in und um die Ulrichskirche statt. Wir haben für euch ein abwechslungsreiches Programm aus Musik\, Tanz und Kunst zusammengestellt. Lasst euch von den verschiedenen Künstlerinnen und Künstlern inspirieren und taucht ein in die Vielfalt der Kulturen. \nDer Aufbau beginnt ab 16:00 Uhr und der Abbau wird gegen circa 22:00 Uhr stattfinden. \nWir freuen uns auf euch und darauf\, gemeinsam neue Räume zu entdecken! \nVerwendet gerne die Hashtags #interkulturellewoche#neueräume#vielfalt#Veranstaltungen#programmheft#kulturenfeiern#ikwhalle\, um unsere Botschaft zu verbreiten. \nFolgt uns auch gerne auf Instagram\, Facebook und bleibt über aktuelle Informationen und Updates zur Interkulturellen Woche auf dem Laufenden.
URL:https://lange-wochen.de/termine/interkulturelle-woche/
LOCATION:verschiedene Orte
CATEGORIES:Festival
ATTACH;FMTTYPE=image/jpeg:https://lange-wochen.de/wp-content/uploads/2023/09/Interkulturelle_Woche.jpg
END:VEVENT
BEGIN:VEVENT
DTSTART;TZID=Europe/Berlin:20230929T150000
DTEND;TZID=Europe/Berlin:20230929T210000
DTSTAMP:20260423T031553
CREATED:20230912T075612Z
LAST-MODIFIED:20230928T204513Z
UID:6421-1695999600-1696021200@lange-wochen.de
SUMMARY:ZENTRALVERANSTALTUNG
DESCRIPTION:Die Zentralveranstaltung der Langen Wochen der Nachhaltigkeit findet am 29. und 30. September im Volkspark Halle statt.\nWir freuen uns auf eure Beiträge! \nHinweise zum Ort:\nder kleine Saal befindet sich auf der Rückseite vom Volkspark – Zugang über Advokatenweg – und ist barrierefrei zugänglich\,\ndie alte Turnhalle befindet sich direkt am Schleifweg – am Eingang zum Volspark\, rechte Seite – leider nicht barrierefrei \n  \nF R E I T A G \n15 Uhr | kleiner Saal\nBegrüßung \n\n15:10 bis 16:40 Uhr | kleiner Saal\nPositive Zukunftsvisionen einer regenerativen Kultur\n→ mehr Infos dazu\nImpulsworkshop mit Simon Mohn von Reinventing Society  \n\n17:00 bis 18:30 Uhr | kleiner Saal\nDie Energiewende gemeinsam und regenerativ gestalten\nFishbowl – Gespräch  mit Impulsen verschiedener Akteur:innen (u.a. EVH\, DLZ Klimaschutz\, science2public\, Klimabündnis\, Energieavantgarde Sachsen-Anhalt\, Freiwilligenagentur\, MLU).\nIm Anschluss Netzwerken bei Snacks\, Getränken und einer Mitmachausstellung. \n\n13:00 – 16:30 Uhr | hinter der Turnhalle\nDelfin Fahrrad-Selbsthilfewerkstatt\nDer gemeinnützige Verein „FahrRad Selbsthilfewerkstatt Halle e.V.“\, besser bekannt als „DELFIN“ Selbsthilfewerkstatt\, bietet seit Mai 2023 die Möglichkeit den eigenen Drahtesel wieder fit zu machen. In den Räumlichkeiten hinter der alten Turnhalle des Volksparks findet man die kleine Werkstatt\, in der Werkzeuge und einige Ersatzteile bereitstehen. Die Vereinsmitglieder stehen der Reparatur nach besten Wissen und Gewissen bei\, sodass sich Besucher in lockerer Atmosphäre mit der Fahrradtechnik vertraut machen können. Die Öffnungszeiten der Selbsthilfewerkstatt sind momentan Donnerstags und Freitags\, genaue Uhrzeiten entnimmt man am besten dem Telegrammchannel. \n\n19:30 bis 20:15 Uhr | in der Turnhalle\nFahrradkino „We the Power – The Future of Energy is Community-Owned“\nWir erzeugen mit unserer Muskelkraft Strom für den Film „We the Power“ – ein Film über die von Bürger:innen getragene Energiebewegung in Europa.\nKommt dazu und probiert es mit uns aus und bringt unbedingt eure Fahrräder mit\, sonst kann der Film nicht laufen! 🙂
URL:https://lange-wochen.de/termine/zentralveranstaltung-freitag/
LOCATION:Volkspark Halle\, Schleifweg 8a\, Halle/Saale\, 06114
CATEGORIES:Regeneration,Zentralveranstaltung
ATTACH;FMTTYPE=image/png:https://lange-wochen.de/wp-content/uploads/2023/07/favicon_lange_wochen.png
END:VEVENT
BEGIN:VEVENT
DTSTART;TZID=Europe/Berlin:20230929T151000
DTEND;TZID=Europe/Berlin:20230929T164000
DTSTAMP:20260423T031553
CREATED:20230927T160858Z
LAST-MODIFIED:20230927T161653Z
UID:6752-1696000200-1696005600@lange-wochen.de
SUMMARY:Positive Zukunftsvisionen einer regenerativen Kultur
DESCRIPTION:Wie gewinnen wir Menschen\, sich über regenerative Lösungen Gedanken zu machen und diese motiviert in die Umsetzung zu bringen? Gerade für komplexe Veränderungsprozesse mit verschiedenen Akteur:innen können gemeinsam entwickelte\, positive Zukunftsvisionen dafür ein Schlüssel sein. \nDer Think-and-do-tank Reinventing Society entwirft mit Städten und Kommunen\, Zivilgesellschaft und Unternehmen immer wieder inspirierende Zukunftsvisionen. In diesem Impulsworkshop mit Simon Mohn wird dieser Ansatz am Fokusthema der Energiewende entlang erlebbar. \nBleibt gern im Anschluss noch zum Fishbowl – Gespräch und dem sportlichen Fahrradkino 🙂
URL:https://lange-wochen.de/termine/positive-zukunftsvisionen-einer-regenerativen-kultur/
LOCATION:Volkspark\, kleiner Saal\, Schleifweg 8a\, Halle
CATEGORIES:Regeneration,Vortrag/Diskussion,Workshop
ATTACH;FMTTYPE=image/jpeg:https://lange-wochen.de/wp-content/uploads/2023/09/society.jpg
END:VEVENT
BEGIN:VEVENT
DTSTART;TZID=Europe/Berlin:20230929T170000
DTEND;TZID=Europe/Berlin:20230929T203000
DTSTAMP:20260423T031553
CREATED:20230829T144057Z
LAST-MODIFIED:20230917T140144Z
UID:704-1696006800-1696019400@lange-wochen.de
SUMMARY:Bar-Camp: Divers und grün einquartiert
DESCRIPTION:Verschoben auf den 24. November\n– weitere Infos demnächst hier: https://wohnunion-halle.de/verein/revierpioniere – \nfür Frauen\, FLINTA\, BIPoC\nInteressierte Teilnehmende nutzen im Barcamp den Raum\, um ihre Themen und Anliegen vorzustellen\, mit Input anzureichern und gemeinsam nach Handlungsansätzen zu suchen.\nIn dem selbstorganisierten Austauschformat liegt der Schwerpunkt darauf\, diverse Stimmen zum Thema »Grünes Neumarktquartier« zu hören. \nDas Barcamp richtet sich insbesondere an Frauen\, FLINTA und BIPoC\, die an diverser\, nachhaltiger Stadtentwicklung interessiert sind.
URL:https://lange-wochen.de/termine/bar-camp-divers-und-gruen-einquartiert/
LOCATION:Lebensreich Halle\, Bernburger Straße 7\, Halle
CATEGORIES:Workshop
ATTACH;FMTTYPE=image/jpeg:https://lange-wochen.de/wp-content/uploads/2023/08/Flinta.jpg
END:VEVENT
BEGIN:VEVENT
DTSTART;TZID=Europe/Berlin:20230929T190000
DTEND;TZID=Europe/Berlin:20230929T190000
DTSTAMP:20260423T031553
CREATED:20230925T103650Z
LAST-MODIFIED:20230925T123358Z
UID:6678-1696014000-1696014000@lange-wochen.de
SUMMARY:Selfcare - Feministische Vernetzung
DESCRIPTION:Beim Modethema Selfcare denken viele an Gesichtsmasken\, Meditation\, Lavendelöl und Achtsamkeit. Bei unserer feministischen Vernetzung-Veranstaltung geht es uns darüber hinaus um Bedürfnisse erkennen\, Grenzen setzen\, Mental Load\, … und natürlich auch um die kleinen schönen Wohlfühlmomente\, für die man sich so selten Zeit nimmt. \nLasst uns gemeinsam überlegen\, was “Selfcare” für uns bedeutet\, uns zur Umsetzung bestärken und vielleicht die eine oder andere Sache direkt vor Ort ausprobieren. Wir freuen uns auf einen regen Austausch! \nDie Veranstaltung ist für alle FLINTA*-Personen geöffnet (Frauen\, Lesben\, intergeschlechtliche\, nichtbinäre\, trans und agender Personen)
URL:https://lange-wochen.de/termine/selfcare-feministische-vernetzung/
LOCATION:Grün.Lokal\, Reilstraße 31\, Halle
CATEGORIES:Treffen,Vernetzung
ATTACH;FMTTYPE=image/png:https://lange-wochen.de/wp-content/uploads/2023/09/Gruen.png
END:VEVENT
END:VCALENDAR