BEGIN:VCALENDAR
VERSION:2.0
PRODID:-//Lange Wochen der Nachhaltigkeit - ECPv6.15.11//NONSGML v1.0//EN
CALSCALE:GREGORIAN
METHOD:PUBLISH
X-WR-CALNAME:Lange Wochen der Nachhaltigkeit
X-ORIGINAL-URL:https://lange-wochen.de
X-WR-CALDESC:Veranstaltungen für Lange Wochen der Nachhaltigkeit
REFRESH-INTERVAL;VALUE=DURATION:PT1H
X-Robots-Tag:noindex
X-PUBLISHED-TTL:PT1H
BEGIN:VTIMEZONE
TZID:Europe/Berlin
BEGIN:DAYLIGHT
TZOFFSETFROM:+0100
TZOFFSETTO:+0200
TZNAME:CEST
DTSTART:20220327T010000
END:DAYLIGHT
BEGIN:STANDARD
TZOFFSETFROM:+0200
TZOFFSETTO:+0100
TZNAME:CET
DTSTART:20221030T010000
END:STANDARD
BEGIN:DAYLIGHT
TZOFFSETFROM:+0100
TZOFFSETTO:+0200
TZNAME:CEST
DTSTART:20230326T010000
END:DAYLIGHT
BEGIN:STANDARD
TZOFFSETFROM:+0200
TZOFFSETTO:+0100
TZNAME:CET
DTSTART:20231029T010000
END:STANDARD
BEGIN:DAYLIGHT
TZOFFSETFROM:+0100
TZOFFSETTO:+0200
TZNAME:CEST
DTSTART:20240331T010000
END:DAYLIGHT
BEGIN:STANDARD
TZOFFSETFROM:+0200
TZOFFSETTO:+0100
TZNAME:CET
DTSTART:20241027T010000
END:STANDARD
END:VTIMEZONE
BEGIN:VEVENT
DTSTART;VALUE=DATE:20231002
DTEND;VALUE=DATE:20231016
DTSTAMP:20260423T031232
CREATED:20231002T164750Z
LAST-MODIFIED:20231002T165800Z
UID:6796-1696204800-1697414399@lange-wochen.de
SUMMARY:Kritische Einführungswochen
DESCRIPTION:Mit vielfältigem Programm verschiedenster Hochschulgruppen und Initiativen. \nMehr zum Programm erfahrt ihr hier: https://kew-halle.de/programm-2023/
URL:https://lange-wochen.de/termine/kritische-einfuehrungswochen/
CATEGORIES:Aktion,Film,Gespräch,Treffen,Vernetzung,Vortrag/Diskussion
ATTACH;FMTTYPE=image/png:https://lange-wochen.de/wp-content/uploads/2023/10/cropped-cropped-Design-ohne-Titel-1.png
END:VEVENT
BEGIN:VEVENT
DTSTART;TZID=Europe/Berlin:20231006T110000
DTEND;TZID=Europe/Berlin:20231006T123000
DTSTAMP:20260423T031232
CREATED:20231005T060829Z
LAST-MODIFIED:20231005T060829Z
UID:6815-1696590000-1696595400@lange-wochen.de
SUMMARY:Nachhaltig(keit) studieren!?
DESCRIPTION:Lust\, gemeinsam ein bisschen die Welt zu retten? Die Uni Halle möchte Nachhaltigkeit in Forschung\, Studium und auf dem Campus fördern und hat dafür im November 2020 das Nachhaltigkeitsbüro gegründet. Wir tun Gutes und reden darüber! Gemeinsam mit vielen Akteuren und jedem\, der sich einbringen möchten\, gestalten wir ein Stück Zukunft mit.\nIm Hörsaal können Sie direkt mit den Mitarbeitenden des Nachhaltigkeitsbüros in Austausch treten. Sie erfahren\, wie Sie sich einbringen können und welche Rolle Nachhaltigkeit in Ihrem Studium spielen kann. In einem Quiz erfahren Sie außerdem mehr über das globale Thema Nachhaltigkeit und was Sie hier in Halle konkret für eine bessere Welt tun können.
URL:https://lange-wochen.de/termine/nachhaltigkeit-studieren/
LOCATION:Audimax XXIII\, Universitätsplatz 1\, Halle
CATEGORIES:Gespräch,Projektvorstellung,Treffen,Vernetzung
ATTACH;FMTTYPE=image/png:https://lange-wochen.de/wp-content/uploads/2023/10/cropped-cropped-Design-ohne-Titel-1.png
END:VEVENT
BEGIN:VEVENT
DTSTART;TZID=Europe/Berlin:20231006T150000
DTEND;TZID=Europe/Berlin:20231006T170000
DTSTAMP:20260423T031232
CREATED:20230907T110242Z
LAST-MODIFIED:20230907T110242Z
UID:6352-1696604400-1696611600@lange-wochen.de
SUMMARY:Upcyclingkinderwerkstatt
DESCRIPTION:Die beliebte UpcyclingKinderWerkstatt zeigt sich mit immer wieder neuen beschwingten Ideen für die Kleinen – und die Großen. In 2023 steht die UKW immer wieder im Zeichen eines anderen Materials\, welches mit euch zusammen erkundet werden kann. \nIm September kümmern wir uns in der UKW um das Holz. Aus den Restbeständen in der Sammlung entsteht Brauchbares für den Alltag und verspieltes. \nWenn ihr Freitags ins krimZkrams kommt\, seid ihr dabei. \nEltern sind zur UKW herzlich eingeladen. Die Teilnahme für Eltern und Kids ist kostenfrei. Über kleine Spenden freuen wir uns. \nEine Voranmeldung ist erwünscht.
URL:https://lange-wochen.de/termine/upcyclingkinderwerkstatt-3/
LOCATION:Krimzkrams\, Beesener Straße 237\, Halle\, Deutschland
CATEGORIES:Workshop
ATTACH;FMTTYPE=image/jpeg:https://lange-wochen.de/wp-content/uploads/2023/08/Krimz.jpg
END:VEVENT
BEGIN:VEVENT
DTSTART;TZID=Europe/Berlin:20231006T180000
DTEND;TZID=Europe/Berlin:20231006T200000
DTSTAMP:20260423T031232
CREATED:20230907T111732Z
LAST-MODIFIED:20230918T090742Z
UID:6360-1696615200-1696622400@lange-wochen.de
SUMMARY:Critical Mass Halle
DESCRIPTION:Die Critical Mass (CM) ist eine weltweite stattfindende Aktion\, bei der sich Radfahrer:innen zufällig und unorganisiert treffen\, um mit gemeinsamen Fahrradtouren durch Städte ein Zeichen für mehr Radverkehr als umweltfreundliches Verkehrsmittel zu setzen. Die Teilnehmer:innen protestieren dabei für ihre Rechte als gleichberechtigte Verkehrsteilnehmer\, für eine bessere Infrastruktur und gegen die Vormachtstellung des Autos in Städten. \nBei dieser Aktionsform gibt es keine Organisator:innen oder Hauptverantwortliche. Jede:r Teilnehmer:in ist für sich selbst verantwortlich und trägt denselben Anteil zum Gelingen der CM bei. \nWenn du interessiert bist\, komm einfach zur nächsten CM vorbei\, um zusammen in freundlicher und entspannter Atmosphäre durch die Stadt zu radeln.
URL:https://lange-wochen.de/termine/critical-mass-halle/
LOCATION:August-Bebel-Platz
CATEGORIES:Aktion
ATTACH;FMTTYPE=image/jpeg:https://lange-wochen.de/wp-content/uploads/2023/09/criticalmass.jpg
END:VEVENT
BEGIN:VEVENT
DTSTART;TZID=Europe/Berlin:20231006T190000
DTEND;TZID=Europe/Berlin:20231006T210000
DTSTAMP:20260423T031232
CREATED:20230921T081439Z
LAST-MODIFIED:20230925T191433Z
UID:6649-1696618800-1696626000@lange-wochen.de
SUMMARY:Einführung in die Muster des Commoning
DESCRIPTION:Sigrun Preissing wird mit uns in die Welt des Commoning und der Mustersprache reisen. Wir lassen uns von ihren Forschungen und persönlichen Erfahrungen anregen und bekommen Einblick in die Mustersprache des Commoning\, die uns komprimiertes Praxiswissen von Gemeinschaffenden weltweit als Inspiration zur Verfügung stellt. Neben einem Input\, werden wir auch in einem interaktiven Teil unsere eigenen Erfahrungen austauschen. \nCommons sind Ressourcen jeglicher Art\, die gemeinsam hergestellt\, genutzt\, gepflegt und verwaltet werden. Sie sind jedoch nicht einfach da. Zentral für das Ent- und Bestehen von Commons sind kulturelle Praktiken des Commoning: bedürfnisorientiertes\, selbstorganisiertes gemeinsames Tun ohne Verwertungs- und Wachstumslogik mit dem zugrundeliegenden Verständnis von Ich-in-Bezogenheit\nund unter Berücksichtigung der mehr-als-menschlichen Welt. Diese Muster des gemeinsamen Handelns versprechen eine regenerative Alternative zu sein. Gemeinsam mit Sigrun Preissing spüren wir dem nach. \nDie Veranstaltung kostenfrei. Solibeitrag für Raumnutzung wird erbeten. \nWichtig: Diese Veranstaltung wird empfohlen\, um an „Muster schöpfen für eine kollektive regenerative Praxis/Kultur“ am 7.10. in der Hardenbergstraße 23 (Dachgeschoss) teilzunehmen. \nSigrun Preissing ist promovierte Wirtschaftsethnologin und Praktikerin alternativer Wirtschaftsformen. Derzeit setzt sie sich für ein gutes Gelingen der Commons-Sommerschulen ein.
URL:https://lange-wochen.de/termine/einfuehrung-in-die-muster-des-commoning/
LOCATION:WandelSpace\, Lessingstraße 29\, Halle/Saale\, 06114
CATEGORIES:Regeneration,Workshop
ATTACH;FMTTYPE=image/png:https://lange-wochen.de/wp-content/uploads/2023/09/siggi.png
END:VEVENT
END:VCALENDAR