BEGIN:VCALENDAR
VERSION:2.0
PRODID:-//Lange Wochen der Nachhaltigkeit - ECPv6.15.11//NONSGML v1.0//EN
CALSCALE:GREGORIAN
METHOD:PUBLISH
X-WR-CALNAME:Lange Wochen der Nachhaltigkeit
X-ORIGINAL-URL:https://lange-wochen.de
X-WR-CALDESC:Veranstaltungen für Lange Wochen der Nachhaltigkeit
REFRESH-INTERVAL;VALUE=DURATION:PT1H
X-Robots-Tag:noindex
X-PUBLISHED-TTL:PT1H
BEGIN:VTIMEZONE
TZID:Europe/Berlin
BEGIN:DAYLIGHT
TZOFFSETFROM:+0100
TZOFFSETTO:+0200
TZNAME:CEST
DTSTART:20220327T010000
END:DAYLIGHT
BEGIN:STANDARD
TZOFFSETFROM:+0200
TZOFFSETTO:+0100
TZNAME:CET
DTSTART:20221030T010000
END:STANDARD
BEGIN:DAYLIGHT
TZOFFSETFROM:+0100
TZOFFSETTO:+0200
TZNAME:CEST
DTSTART:20230326T010000
END:DAYLIGHT
BEGIN:STANDARD
TZOFFSETFROM:+0200
TZOFFSETTO:+0100
TZNAME:CET
DTSTART:20231029T010000
END:STANDARD
BEGIN:DAYLIGHT
TZOFFSETFROM:+0100
TZOFFSETTO:+0200
TZNAME:CEST
DTSTART:20240331T010000
END:DAYLIGHT
BEGIN:STANDARD
TZOFFSETFROM:+0200
TZOFFSETTO:+0100
TZNAME:CET
DTSTART:20241027T010000
END:STANDARD
END:VTIMEZONE
BEGIN:VEVENT
DTSTART;VALUE=DATE:20231002
DTEND;VALUE=DATE:20231016
DTSTAMP:20260423T031310
CREATED:20231002T164750Z
LAST-MODIFIED:20231002T165800Z
UID:6796-1696204800-1697414399@lange-wochen.de
SUMMARY:Kritische Einführungswochen
DESCRIPTION:Mit vielfältigem Programm verschiedenster Hochschulgruppen und Initiativen. \nMehr zum Programm erfahrt ihr hier: https://kew-halle.de/programm-2023/
URL:https://lange-wochen.de/termine/kritische-einfuehrungswochen/
CATEGORIES:Aktion,Film,Gespräch,Treffen,Vernetzung,Vortrag/Diskussion
ATTACH;FMTTYPE=image/png:https://lange-wochen.de/wp-content/uploads/2023/10/cropped-cropped-Design-ohne-Titel-1.png
END:VEVENT
BEGIN:VEVENT
DTSTART;VALUE=DATE:20231007
DTEND;VALUE=DATE:20231008
DTSTAMP:20260423T031310
CREATED:20230907T111302Z
LAST-MODIFIED:20230907T111302Z
UID:6356-1696636800-1696723199@lange-wochen.de
SUMMARY:Erntedank- und Abschiedsfest in Kanena
DESCRIPTION:Der Kinderbauernhof feiert Erntedankfest! Kommt vorbei. \nGleichzeitig verabschiedet sich das Projekt aus Kanena und zieht zum neuen Standort nach Stichelsdorf um. Es bleibt spannend. \n 
URL:https://lange-wochen.de/termine/erntedank-und-abschiedsfest-in-kanena/
LOCATION:Kinderbauernhof Kanena\, Gutsweg 42\, Halle
CATEGORIES:Fest
ATTACH;FMTTYPE=image/webp:https://lange-wochen.de/wp-content/uploads/2023/09/logo.webp
END:VEVENT
BEGIN:VEVENT
DTSTART;TZID=Europe/Berlin:20231007T093000
DTEND;TZID=Europe/Berlin:20231007T150000
DTSTAMP:20260423T031310
CREATED:20230921T081758Z
LAST-MODIFIED:20230925T191630Z
UID:6652-1696671000-1696690800@lange-wochen.de
SUMMARY:Muster schöpfen für eine kollektive regenerative Praxis/Kultur
DESCRIPTION:Wie können wir gemeinsam regenerativ sein? \nDieser Leitfrage\, die uns durch die LWdN begleitet\, spüren wir mit Hilfe von Commoning\, Musterkarten und Sigrun Preissing nach.\nAufbauend auf der Einführung in die Muster des Commoning am 6.10. um 19:00\, kommen wir bei diesem Workshop in die Praxis des Musterschöpfens. Immer wieder veräußern wir uns in unseren politischen Kontexten. Wie schaffen wir es gemeinsam\, eine bessere Welt für alle(s) zu gestalten und gleichzeitig schonend mit unseren eigenen Kräften umzugehen? Dieses wiederkehrende Problem kennen alle\, die sich engagieren\, egal\, in welchem Bereich. Wir wollen uns gemeinsam ermächtigen\, indem wir ein oder mehrere Muster zu dieser Herausforderung schöpfen\, welches dann auch anderen Engagierten zur Verfügung stehen wird. So tragen wir aktiv zu einer regenerativen Kultur für uns und alle bei. \nWichtig: Die Veranstaltung am 06.10. „Einführung in die Muster des Commoning“ wird empfohlen\, um an „Muster schöpfen für eine kollektive regenerative Praxis/Kultur“ am 7.10. in der Hardenbergstraße 23 (Dachgeschoss) teilzunehmen. \nSigrun Preissing ist promovierte Wirtschaftsethnologin und Praktikerin alternativer Wirtschaftsformen. Derzeit setzt sie sich für ein gutes Gelingen der Commons-Sommerschulen ein.
URL:https://lange-wochen.de/termine/muster-schoepfen-fuer-eine-kollektive-regenerative-praxis-kultur/
LOCATION:Hardenbergstraße\, Hardenbergstraße 23\, Halle
CATEGORIES:Regeneration,Workshop
ATTACH;FMTTYPE=image/png:https://lange-wochen.de/wp-content/uploads/2023/09/siggi-1.png
END:VEVENT
BEGIN:VEVENT
DTSTART;TZID=Europe/Berlin:20231007T100000
DTEND;TZID=Europe/Berlin:20231007T150000
DTSTAMP:20260423T031310
CREATED:20230918T122147Z
LAST-MODIFIED:20230921T082444Z
UID:6631-1696672800-1696690800@lange-wochen.de
SUMMARY:Pilzsalon mit DIY-Workshop
DESCRIPTION:Wie können wir in Zusammenarbeit mit unserer Umwelt einen Wandel entfalten? Und was können wir dabei von Pilzen lernen? \nDiesen und weiteren Fragen wollen wir am Samstag\, den 7. Oktober 2023 in unserem Pilzsalon nachgehen und ihr seid herzlich eingeladen mitzumachen! \nVon 10-15 Uhr (inkl. 1h Mittagspause mit Selbstversorgung) wird es dazu einen DIY- Bio Pilzzucht Workshop geben mit dem Pilzexperten Austin James. (Ort: Wandelspace in der Lessingstrasse 29) \nIn dem ca. vierstündigen Praxis und Theorie basierten Workshop geht es im Wesentlichen darum\, die Grundlagen und Techniken der Pilzzucht (unter Einsatz alltäglicher Materialien) zu erlernen. Das innovative und kreative Potenzial der Pilze\, in den verschiedenen Bereichen des Alltags\, soll dabei im Mittelpunkt stehen. \nDanach laden wir Euch in unseren Pilzsalon ein\, mit uns ins Gespräch zu kommen. Was können wir bei Wandelthemen von Pilzen lernen und was bedeutet es\, ein Myzel zu sein? \nWenn Ihr Lust habt daran teilzunehmen\, dann meldet Euch bitte via Nachricht an unter: kontakt@lange-wochen.de\nWir freuen uns auf Euch! \nDie Veranstaltung ist kostenlos\, um einen freiwilligen Geldbeitrag für den Raum wird gebeten.
URL:https://lange-wochen.de/termine/pilzsalon-mit-diy-workshop/
LOCATION:WandelSpace\, Lessingstraße 29\, Halle/Saale\, 06114
CATEGORIES:Regeneration,Workshop
ATTACH;FMTTYPE=image/png:https://lange-wochen.de/wp-content/uploads/2023/09/Pilzsalon-mit-DIY-Workshop-21434.png
END:VEVENT
BEGIN:VEVENT
DTSTART;TZID=Europe/Berlin:20231007T150000
DTEND;TZID=Europe/Berlin:20231007T190000
DTSTAMP:20260423T031310
CREATED:20230906T063540Z
LAST-MODIFIED:20230918T091627Z
UID:6261-1696690800-1696705200@lange-wochen.de
SUMMARY:How to ally: Über Strategien und Handlungsmöglichkeiten zur Unterstützung von Rassismus betroffenen Menschen im Alltag
DESCRIPTION:In dem Onlineworkshop „How to be an Ally?“ entwickeln die Teilnehmenden Strategien und Handlungsmöglichkeiten zur Unterstützung von Rassismus betroffenen Menschen im Alltag. Es wird ein offener und diskriminierungskritischer Gesprächsraum geschaffen\, in dem Unsicherheiten reflektiert werden. Es wird erarbeitet\, wie in konkreten Situationen agiert werden kann\, um als Verbündete für Personen of Color in Deutschland handeln zu können. \nDer Workshop knüpft an den Wahrnehmungen und Erfahrungen weiß-privilegierter Menschen an\, die diese rassismuskritisch reflektieren und bietet Antworten auf die Frage\, wie sie ihr Privileg zur Unterstützung von Rassismus betroffene Familienmitgliedern\, Freund*innen\, Kommiliton*innen\, Arbeitskolleg*innen und Fremden nutzen können\, um gegen Rassismus aktiv zu werden. \nTeilnahmegebühren: 55€ Institution\, 20€ Einzelpersonen\, 10€ Sparpreis (nach eigener Einschätzung) \nWorkshop-Leitung: Arpana Aischa Berndt und Maja Bogojević
URL:https://lange-wochen.de/termine/how-to-ally/
LOCATION:Online
CATEGORIES:Workshop
ATTACH;FMTTYPE=image/jpeg:https://lange-wochen.de/wp-content/uploads/2023/08/Logo_HBS.jpg
ORGANIZER;CN="Heinrich-B%C3%B6ll-Stiftung Sachsen-Anhalt":MAILTO:schwarz@boell-sachsen-anhalt.de
END:VEVENT
END:VCALENDAR