BEGIN:VCALENDAR
VERSION:2.0
PRODID:-//Lange Wochen der Nachhaltigkeit - ECPv6.15.11//NONSGML v1.0//EN
CALSCALE:GREGORIAN
METHOD:PUBLISH
X-WR-CALNAME:Lange Wochen der Nachhaltigkeit
X-ORIGINAL-URL:https://lange-wochen.de
X-WR-CALDESC:Veranstaltungen für Lange Wochen der Nachhaltigkeit
REFRESH-INTERVAL;VALUE=DURATION:PT1H
X-Robots-Tag:noindex
X-PUBLISHED-TTL:PT1H
BEGIN:VTIMEZONE
TZID:Europe/Berlin
BEGIN:DAYLIGHT
TZOFFSETFROM:+0100
TZOFFSETTO:+0200
TZNAME:CEST
DTSTART:20220327T010000
END:DAYLIGHT
BEGIN:STANDARD
TZOFFSETFROM:+0200
TZOFFSETTO:+0100
TZNAME:CET
DTSTART:20221030T010000
END:STANDARD
BEGIN:DAYLIGHT
TZOFFSETFROM:+0100
TZOFFSETTO:+0200
TZNAME:CEST
DTSTART:20230326T010000
END:DAYLIGHT
BEGIN:STANDARD
TZOFFSETFROM:+0200
TZOFFSETTO:+0100
TZNAME:CET
DTSTART:20231029T010000
END:STANDARD
BEGIN:DAYLIGHT
TZOFFSETFROM:+0100
TZOFFSETTO:+0200
TZNAME:CEST
DTSTART:20240331T010000
END:DAYLIGHT
BEGIN:STANDARD
TZOFFSETFROM:+0200
TZOFFSETTO:+0100
TZNAME:CET
DTSTART:20241027T010000
END:STANDARD
END:VTIMEZONE
BEGIN:VEVENT
DTSTART;VALUE=DATE:20231002
DTEND;VALUE=DATE:20231016
DTSTAMP:20260423T031355
CREATED:20231002T164750Z
LAST-MODIFIED:20231002T165800Z
UID:6796-1696204800-1697414399@lange-wochen.de
SUMMARY:Kritische Einführungswochen
DESCRIPTION:Mit vielfältigem Programm verschiedenster Hochschulgruppen und Initiativen. \nMehr zum Programm erfahrt ihr hier: https://kew-halle.de/programm-2023/
URL:https://lange-wochen.de/termine/kritische-einfuehrungswochen/
CATEGORIES:Aktion,Film,Gespräch,Treffen,Vernetzung,Vortrag/Diskussion
ATTACH;FMTTYPE=image/png:https://lange-wochen.de/wp-content/uploads/2023/10/cropped-cropped-Design-ohne-Titel-1.png
END:VEVENT
BEGIN:VEVENT
DTSTART;TZID=Europe/Berlin:20231009T080000
DTEND;TZID=Europe/Berlin:20231009T170000
DTSTAMP:20260423T031355
CREATED:20231009T202802Z
LAST-MODIFIED:20231009T202802Z
UID:6838-1696838400-1696870800@lange-wochen.de
SUMMARY:Urban Gardening - Klimaschutz für jede:n?
DESCRIPTION:Garten für Alle\nVortrag zu Urban Gardening \nHS V\nSteintorcampus\nRaum E.03\nLudwig-Wucherer-Straße 2 \nDie Veranstaltung findet im Rahmen der Kritischen Einführungswochen statt.
URL:https://lange-wochen.de/termine/urban-gardening-klimaschutz-fuer-jeden/
CATEGORIES:Vortrag/Diskussion
ATTACH;FMTTYPE=image/png:https://lange-wochen.de/wp-content/uploads/2023/10/KEW.png
END:VEVENT
BEGIN:VEVENT
DTSTART;TZID=Europe/Berlin:20231009T160000
DTEND;TZID=Europe/Berlin:20231009T180000
DTSTAMP:20260423T031355
CREATED:20230927T160428Z
LAST-MODIFIED:20230927T160428Z
UID:6749-1696867200-1696874400@lange-wochen.de
SUMMARY:BaumSpiel (Workshop für Kleine und Große)
DESCRIPTION:BaumSpiel – unterwegs als Kletteraffe\, Faultier oder Leopard \nManche sind schnell oben auf dem Baum\, andere pirschen sich im Fuchsgang an – der Eulenblick hilft allen dabei\, ihre Umgebung und Tiere anders wahrzunehmen. Wir üben auch die Ganzkörper-Räuberleiter und anderes Kraftvolles. Gemeinsam und allein. \nEs kann viele Formen eines entspannten\, spielerischen Seins mit Baum und anderen Menschen geben: Anlehnen\, Anschmiegen\, Dranhängen\, Drüberhängen\, Reinschieben\, Drunterschieben\, Dazwischenspannen\, Rumschwingen\, Pausemachen\, VonBlätternKitzeln\, ZweigeStupfen\, KopfüberKlettern\, RunterRutschen\, PartnerStützen.  \nIm Vorfeld ist das BaumSpiel am 04. Oktober in einer Mitmachperformance zu erleben. \nMit der Natur und sich selbst verbundene Individuen kreieren spielerisch ein mutiges Wunderwerk. \nTreffpunkt: Weide an der Saale (zwischen Klausberg und Verlängerung der Emil-Eichhorn-Straße) \nMitbringen: Etwas Warmes zum Überziehen und Unterlegen. Unempfindliche Kleidung mit langen Ärmeln und Beinen\, weiche (Barfuß-)Schuhe\, ggf. Mückenschutz \nRückfragen und gerne Anmeldung: eva@contactimpro-halle.de
URL:https://lange-wochen.de/termine/baumspiel-workshop-fuer-kleine-und-grosse/
CATEGORIES:Regeneration,Spiel
ATTACH;FMTTYPE=image/jpeg:https://lange-wochen.de/wp-content/uploads/2023/09/photo_2023-09-27_18-03-01.jpg
END:VEVENT
BEGIN:VEVENT
DTSTART;TZID=Europe/Berlin:20231009T190000
DTEND;TZID=Europe/Berlin:20231009T233000
DTSTAMP:20260423T031355
CREATED:20231005T061321Z
LAST-MODIFIED:20231009T203201Z
UID:6819-1696878000-1696894200@lange-wochen.de
SUMMARY:Pubquiz „Auf Kosten anderer? – Globale Ungerechtigkeiten erkennen und verändern“
DESCRIPTION:Was ist eigentlich gerecht? Was ist Kapitalismus und wie wirkt er sich auf die Lebensrealitäten von Menschen im globalen Süden aus? Um diesen Fragen nachzugehen möchten wir für einen gemütlichen\, spielerischen Themenabend zusammenkommen.\nIn Form von mehreren Themenblöcken möchten wir mit euch gemeinsam den Machtstrukturen zwischen globalem Norden und globalem Süden nachgehen. Bei einem Getränk im Lila Drachen wollen wir ab 19 Uhr gemeinsam rätseln und uns austauschen. Das ganze ist eine Art Pubquiz mit vielen interaktiven Elementen und Input von uns. Wir freuen uns auf euch!
URL:https://lange-wochen.de/termine/pubquiz-auf-kosten-anderer-globale-ungerechtigkeiten-erkennen-und-veraendern/
LOCATION:Lila Drache\, Rudolf-Breitscheid-Straße 6\, Halle
CATEGORIES:Spiel
ATTACH;FMTTYPE=image/png:https://lange-wochen.de/wp-content/uploads/2023/10/cropped-cropped-Design-ohne-Titel-1.png
END:VEVENT
END:VCALENDAR