BEGIN:VCALENDAR
VERSION:2.0
PRODID:-//Lange Wochen der Nachhaltigkeit - ECPv6.15.11//NONSGML v1.0//EN
CALSCALE:GREGORIAN
METHOD:PUBLISH
X-ORIGINAL-URL:https://lange-wochen.de
X-WR-CALDESC:Veranstaltungen für Lange Wochen der Nachhaltigkeit
REFRESH-INTERVAL;VALUE=DURATION:PT1H
X-Robots-Tag:noindex
X-PUBLISHED-TTL:PT1H
BEGIN:VTIMEZONE
TZID:Europe/Berlin
BEGIN:DAYLIGHT
TZOFFSETFROM:+0100
TZOFFSETTO:+0200
TZNAME:CEST
DTSTART:20220327T010000
END:DAYLIGHT
BEGIN:STANDARD
TZOFFSETFROM:+0200
TZOFFSETTO:+0100
TZNAME:CET
DTSTART:20221030T010000
END:STANDARD
BEGIN:DAYLIGHT
TZOFFSETFROM:+0100
TZOFFSETTO:+0200
TZNAME:CEST
DTSTART:20230326T010000
END:DAYLIGHT
BEGIN:STANDARD
TZOFFSETFROM:+0200
TZOFFSETTO:+0100
TZNAME:CET
DTSTART:20231029T010000
END:STANDARD
BEGIN:DAYLIGHT
TZOFFSETFROM:+0100
TZOFFSETTO:+0200
TZNAME:CEST
DTSTART:20240331T010000
END:DAYLIGHT
BEGIN:STANDARD
TZOFFSETFROM:+0200
TZOFFSETTO:+0100
TZNAME:CET
DTSTART:20241027T010000
END:STANDARD
END:VTIMEZONE
BEGIN:VEVENT
DTSTART;VALUE=DATE:20231002
DTEND;VALUE=DATE:20231016
DTSTAMP:20260423T031504
CREATED:20231002T164750Z
LAST-MODIFIED:20231002T165800Z
UID:6796-1696204800-1697414399@lange-wochen.de
SUMMARY:Kritische Einführungswochen
DESCRIPTION:Mit vielfältigem Programm verschiedenster Hochschulgruppen und Initiativen. \nMehr zum Programm erfahrt ihr hier: https://kew-halle.de/programm-2023/
URL:https://lange-wochen.de/termine/kritische-einfuehrungswochen/
CATEGORIES:Aktion,Film,Gespräch,Treffen,Vernetzung,Vortrag/Diskussion
ATTACH;FMTTYPE=image/png:https://lange-wochen.de/wp-content/uploads/2023/10/cropped-cropped-Design-ohne-Titel-1.png
END:VEVENT
BEGIN:VEVENT
DTSTART;TZID=Europe/Berlin:20231010T080000
DTEND;TZID=Europe/Berlin:20231010T080000
DTSTAMP:20260423T031504
CREATED:20230906T142628Z
LAST-MODIFIED:20230918T085222Z
UID:6288-1696924800-1696924800@lange-wochen.de
SUMMARY:Hallenser Fahrradbus zur Saaleschule und zum Bildungshaus Riesenklein
DESCRIPTION:Der Hallenser Fahrradbus fährt jeden Dienstag in der Schulzeit\, 7:30 Uhr vom August-Bebel-Platz ab.\nDie ganze Route inklusive Abfahrtszeiten gibt es hier \nMit dem Fahrradbus demonstrieren wir als Schüler*innen\, Eltern und Lehrer*innen für sichere Radinfrastruktur in Halle. Wir wollen\, dass alle Schüler*innen in der Stadt sicher und im besten Fall unbegleitet auf dem Rad zur Schule kommen können. Das ist angesichts fehlender Radwege\, unsicherer Straßen\, illegal geparkter Autos und nicht ausreichender Kontrollen von Polizei und Ordnungsamt zum Schutz von Radfahrenden bisher nicht möglich. Deshalb gehen wir als Betroffene nun wöchentlich auf die Straße. Als Hallenser Fahrradbus sind wir eine angemeldete Versammlung und Teil einer internationalen Bewegung für eine Stadt\, in der alle Menschen ohne Angst und klimaneutral mobil sein können. In Halle unterstützt uns der ADFC! \nWer einen Fahrradbus auch zu seiner Schule/Kita organisieren mag\, wendet sich an kontakt@riesenklein.com.\nWir unterstützen gern.
URL:https://lange-wochen.de/termine/hallenser-fahrradbus-zur-saaleschule-und-zum-bildungshaus-riesenklein-3/
CATEGORIES:Aktion
ATTACH;FMTTYPE=image/png:https://lange-wochen.de/wp-content/uploads/2023/09/Fahrrad-Bus_29-08-2022-2.png
END:VEVENT
BEGIN:VEVENT
DTSTART;TZID=Europe/Berlin:20231010T160000
DTEND;TZID=Europe/Berlin:20231010T173000
DTSTAMP:20260423T031504
CREATED:20231005T061705Z
LAST-MODIFIED:20231010T120534Z
UID:6823-1696953600-1696959000@lange-wochen.de
SUMMARY:Kapitalismus und Klimabewegung: Eine Hassliebe
DESCRIPTION:Klimabewegte Linke sehen sich zu sehr großen Teilen mal mehr mal weniger offen als antikapitalistisch. Gleichzeitig appellieren sie an die Regierung – die die kapitalistische Wirtschaft erst in die Welt setzt\, von ihr abhängt und jeden Tag gewaltsam durchsetzt – sie möge doch eine schöne Zukunft ermöglichen. So sehr möchte man sich von der Hoffnung auf einen klimagerechten Kapitalismus dann doch nicht lösen.
URL:https://lange-wochen.de/termine/kapitalismus-und-klimabewegung-eine-hassliebe/
LOCATION:Anhalter Zimmer (Über Burse zur Tulpe)\, Universitätsring 5\, Halle
CATEGORIES:Gespräch
ATTACH;FMTTYPE=image/png:https://lange-wochen.de/wp-content/uploads/2023/10/cropped-cropped-Design-ohne-Titel-1.png
END:VEVENT
BEGIN:VEVENT
DTSTART;TZID=Europe/Berlin:20231010T170000
DTEND;TZID=Europe/Berlin:20231010T190000
DTSTAMP:20260423T031504
CREATED:20230906T143629Z
LAST-MODIFIED:20230906T143629Z
UID:6297-1696957200-1696964400@lange-wochen.de
SUMMARY:After Work Einsatz in der Schwemme
DESCRIPTION:Immer dienstags treffen wir uns um 17:00 Uhr zu einem kleinen Arbeitseinsatz vor Ort. Was ansteht\, klären wir gemeinsam. Aktuell liegt uns die Aufbereitung alter Baumaterialien für die Wiederverwendung in der Schwemme besonders am Herzen. \nOrganisatorische Hinweise für die Workshops: \n\n    Bitte bringt Arbeitshandschuhe (falls vorhanden) und festes Schuhwerk mit.\n    Da der Einsatz nur durchgeführt wird\, wenn sich genügend Personen anmelden\, melde Dich deshalb bitte auf unserer Webseite an: https://schwemme.org/event/\n    Die Getränke gehen an diesem Abend für Helfer*innen auf uns!
URL:https://lange-wochen.de/termine/after-work-einsatz-in-der-schwemme/
LOCATION:Schwemme\, An der Schwemme 1\, Halle
CATEGORIES:Aktion
ATTACH;FMTTYPE=image/jpeg:https://lange-wochen.de/wp-content/uploads/2023/09/WhatsApp-Image-2022-05-06-at-18.56.19-2.jpeg
END:VEVENT
END:VCALENDAR