BEGIN:VCALENDAR
VERSION:2.0
PRODID:-//Lange Wochen der Nachhaltigkeit - ECPv6.15.11//NONSGML v1.0//EN
CALSCALE:GREGORIAN
METHOD:PUBLISH
X-WR-CALNAME:Lange Wochen der Nachhaltigkeit
X-ORIGINAL-URL:https://lange-wochen.de
X-WR-CALDESC:Veranstaltungen für Lange Wochen der Nachhaltigkeit
REFRESH-INTERVAL;VALUE=DURATION:PT1H
X-Robots-Tag:noindex
X-PUBLISHED-TTL:PT1H
BEGIN:VTIMEZONE
TZID:Europe/Berlin
BEGIN:DAYLIGHT
TZOFFSETFROM:+0100
TZOFFSETTO:+0200
TZNAME:CEST
DTSTART:20220327T010000
END:DAYLIGHT
BEGIN:STANDARD
TZOFFSETFROM:+0200
TZOFFSETTO:+0100
TZNAME:CET
DTSTART:20221030T010000
END:STANDARD
BEGIN:DAYLIGHT
TZOFFSETFROM:+0100
TZOFFSETTO:+0200
TZNAME:CEST
DTSTART:20230326T010000
END:DAYLIGHT
BEGIN:STANDARD
TZOFFSETFROM:+0200
TZOFFSETTO:+0100
TZNAME:CET
DTSTART:20231029T010000
END:STANDARD
BEGIN:DAYLIGHT
TZOFFSETFROM:+0100
TZOFFSETTO:+0200
TZNAME:CEST
DTSTART:20240331T010000
END:DAYLIGHT
BEGIN:STANDARD
TZOFFSETFROM:+0200
TZOFFSETTO:+0100
TZNAME:CET
DTSTART:20241027T010000
END:STANDARD
END:VTIMEZONE
BEGIN:VEVENT
DTSTART;VALUE=DATE:20231002
DTEND;VALUE=DATE:20231016
DTSTAMP:20260423T031325
CREATED:20231002T164750Z
LAST-MODIFIED:20231002T165800Z
UID:6796-1696204800-1697414399@lange-wochen.de
SUMMARY:Kritische Einführungswochen
DESCRIPTION:Mit vielfältigem Programm verschiedenster Hochschulgruppen und Initiativen. \nMehr zum Programm erfahrt ihr hier: https://kew-halle.de/programm-2023/
URL:https://lange-wochen.de/termine/kritische-einfuehrungswochen/
CATEGORIES:Aktion,Film,Gespräch,Treffen,Vernetzung,Vortrag/Diskussion
ATTACH;FMTTYPE=image/png:https://lange-wochen.de/wp-content/uploads/2023/10/cropped-cropped-Design-ohne-Titel-1.png
END:VEVENT
BEGIN:VEVENT
DTSTART;TZID=Europe/Berlin:20231012T140000
DTEND;TZID=Europe/Berlin:20231012T160000
DTSTAMP:20260423T031325
CREATED:20230911T153315Z
LAST-MODIFIED:20230912T132700Z
UID:6408-1697119200-1697126400@lange-wochen.de
SUMMARY:Webinar: Das Quartier der Zukunft - ökologisch - sozial - gerecht - gestalten
DESCRIPTION:Termin: 12.10.2023\, 14:00-16:00 Uhr\nModeration: Katrin Nolting und Anthea Swart\, RENN.mitte / Zukunftsfähiges Thüringen e.V. \nAnmeldung: Anmeldelink für den 12.10.2023 \nDas Spannungsfeld zwischen ökologischem Umbau und sozialer Gerechtigkeit ist eines der brisantesten unserer Zeit. Dies betrifft in besonderem Maße auch das Thema Bauen und Wohnen. Es ist häufig verknüpft mit der Angst\, dass die energetische Sanierung bzw. der Neubau von Wohnungen zusammen mit den notwendigen Klimaanpassungsmaßnahmen zu großen finanziellen Belastungen vor allem für Menschen mit geringem Einkommen führen werden. Gleichzeitig werden marginalisierte Gruppen von den Folgen des Klimawandels wie Hitze und Überschwemmungen am härtesten getroffen\, im Globalen Süden\, aber auch in Deutschland. \nEine wichtige Stellschraube im Umgang mit dem Klimawandel\, sind im Bereich des städtischen Bauens und Wohnens\, die bestehenden Quartiere. Sie verfügen gleichermaßen über einen hohen Energiebedarf wie auch über große Einsparpotenziale bei Strom und Wärme. Hier sind sowohl komplexe Anpassungsmaßnahmen als auch konsequente CO2-Einsparungen notwendig. \nDer energetische Umbau im Wohnbestand ist daher eine dringende Aufgabe mit zahlreichen Herausforderungen. Denn ökologische\, wirtschaftliche und soziale Anforderungen stehen oftmals in Konkurrenz zueinander: Wohnung müssen auch nach der energetischen Sanierung trotz hoher Investitionskosten bezahlbar bleiben\, Quartiere sollen für alle lebenswert\, grün und sicher sein und eine gute Infrastruktur aufweisen. Soziale Durchmischung soll erhalten und Abwanderung und Gentrifizierung vermieden werden. \nIm Webinar wollen wir folgenden Fragen nachgehen: \n\nWie wird mit Zielkonflikten im Spannungsfeld zwischen energieeffizientem\, ökologischem Bauen und Sanieren und bezahlbaren Mieten umgegangen?\nWelche Instrumente nutzen Kommunen\, um Mieten langfristig auf einem bezahlbaren Niveau zu halten?\nWie werden marginalisierte Bevölkerungsgruppen bestmöglich mitgedacht und einbezogen?\n\nAls Praxisbeispiele werden zwei Kommunen eingeladen: Eine Thüringer Kommune\, die im Prozess Global Nachhaltige Kommune (GNK) in einem partizipativen Prozess eine Nachhaltigkeitsstrategie entwickelt hat\, in deren Rahmen Maßnahmen zu den Themen Klimaschutz und Energie sowie soziale Gerechtigkeit ausgearbeitet wurden. Außerdem eine Kommune\, die einen energetischen Sanierungsprozess im Bestand partizipativ gestaltet hat und von den Hürden und Erfolgen des Prozesses berichten wird. Anschließend freuen wir uns auf den gemeinsamen Austausch zu den Kernfragestellungen mit allen Teilnehmenden des Webinars.
URL:https://lange-wochen.de/termine/webinar-das-quartier-der-zukunft/
LOCATION:online über Zoom
CATEGORIES:Online,Webinar
ATTACH;FMTTYPE=image/png:https://lange-wochen.de/wp-content/uploads/2023/09/Twitter05_Web2023_12.10.2023-kl.png
END:VEVENT
BEGIN:VEVENT
DTSTART;TZID=Europe/Berlin:20231012T163000
DTEND;TZID=Europe/Berlin:20231012T190000
DTSTAMP:20260423T031325
CREATED:20231009T202116Z
LAST-MODIFIED:20231009T202116Z
UID:6836-1697128200-1697137200@lange-wochen.de
SUMMARY:Halle auf dem Weg in eine klimaneutrale Zukunft
DESCRIPTION:Wie kann Halle bis 2030 Klimaneutral werden? Wie kann die Transformation zu einer klimaneutralen Stadt gelingen und wie schaffen wir es\, dabei alle Bürger*innen teilhaben zu lassen? Mit diesen Fragen beschäftigen sich engagierte Menschen bei HalleZero e. V.. Antworten auf diese und alle deine Fragen bekommst du am 12.10. ab 16:30 Uhr in der Lernwerkstatt (Frankesche Stiftungen Haus 31). Anschließend könnt ihr in einem Zine-Workshop eure Ideen für ein Halle der Zukunft zu Papier bringen. \nVortrag 16.30-18 Uhr \nWorkshop ab 18 Uhr \nLernwerkstatt\nErziehungswissenschaften\nFranckeplatz 1\nHaus 31\n06110 Halle/Saale\nspäter krimZkrams\nHalle Beesener Str. 237\n06110 Halle (Saale) \n  \nDie Veranstaltung findet im Rahmen der Kritischen Einführungswochen statt.
URL:https://lange-wochen.de/termine/halle-auf-dem-weg-in-eine-klimaneutrale-zukunft/
CATEGORIES:Vortrag/Diskussion,Workshop
ATTACH;FMTTYPE=image/png:https://lange-wochen.de/wp-content/uploads/2023/10/KEW.png
END:VEVENT
END:VCALENDAR