BEGIN:VCALENDAR
VERSION:2.0
PRODID:-//Lange Wochen der Nachhaltigkeit - ECPv6.15.11//NONSGML v1.0//EN
CALSCALE:GREGORIAN
METHOD:PUBLISH
X-ORIGINAL-URL:https://lange-wochen.de
X-WR-CALDESC:Veranstaltungen für Lange Wochen der Nachhaltigkeit
REFRESH-INTERVAL;VALUE=DURATION:PT1H
X-Robots-Tag:noindex
X-PUBLISHED-TTL:PT1H
BEGIN:VTIMEZONE
TZID:Europe/Berlin
BEGIN:DAYLIGHT
TZOFFSETFROM:+0100
TZOFFSETTO:+0200
TZNAME:CEST
DTSTART:20220327T010000
END:DAYLIGHT
BEGIN:STANDARD
TZOFFSETFROM:+0200
TZOFFSETTO:+0100
TZNAME:CET
DTSTART:20221030T010000
END:STANDARD
BEGIN:DAYLIGHT
TZOFFSETFROM:+0100
TZOFFSETTO:+0200
TZNAME:CEST
DTSTART:20230326T010000
END:DAYLIGHT
BEGIN:STANDARD
TZOFFSETFROM:+0200
TZOFFSETTO:+0100
TZNAME:CET
DTSTART:20231029T010000
END:STANDARD
BEGIN:DAYLIGHT
TZOFFSETFROM:+0100
TZOFFSETTO:+0200
TZNAME:CEST
DTSTART:20240331T010000
END:DAYLIGHT
BEGIN:STANDARD
TZOFFSETFROM:+0200
TZOFFSETTO:+0100
TZNAME:CET
DTSTART:20241027T010000
END:STANDARD
END:VTIMEZONE
BEGIN:VEVENT
DTSTART;VALUE=DATE:20231002
DTEND;VALUE=DATE:20231016
DTSTAMP:20260423T031509
CREATED:20231002T164750Z
LAST-MODIFIED:20231002T165800Z
UID:6796-1696204800-1697414399@lange-wochen.de
SUMMARY:Kritische Einführungswochen
DESCRIPTION:Mit vielfältigem Programm verschiedenster Hochschulgruppen und Initiativen. \nMehr zum Programm erfahrt ihr hier: https://kew-halle.de/programm-2023/
URL:https://lange-wochen.de/termine/kritische-einfuehrungswochen/
CATEGORIES:Aktion,Film,Gespräch,Treffen,Vernetzung,Vortrag/Diskussion
ATTACH;FMTTYPE=image/png:https://lange-wochen.de/wp-content/uploads/2023/10/cropped-cropped-Design-ohne-Titel-1.png
END:VEVENT
BEGIN:VEVENT
DTSTART;VALUE=DATE:20231013
DTEND;VALUE=DATE:20231016
DTSTAMP:20260423T031509
CREATED:20230907T105623Z
LAST-MODIFIED:20231010T121149Z
UID:6347-1697155200-1697414399@lange-wochen.de
SUMMARY:PrimaKlimaCamp
DESCRIPTION:Wie können wir klimafreundlicher leben? \nIn unseren PrimaKlimaCamps machen wir mit euch eine Fahrt nach Brachwitz und in eine hoffentlich klimaneutrale Zukunft! Im Oktober und November 2023 finden auf der Make Science Halle drei 3-tägige PrimaKlimaCamps für Jugendliche im Alter von 12-16 statt. Inhaltlich ausgeschmückt werden die Camps von den Hochschulen des Netzwerks „Blaues Band der Wissenschaft“. Dabei orientieren wir uns an Fragen rund ums Klima und unsere Zukunft auf diesem Planeten. Gefördert werden die Camps durch die Lotto-Stiftung Sachsen-Anhalt\, sodass die Teilnehmenden das Programm kostenlos genießen können. \nIn zwei Camps wird es inhaltlich rund um die Themen Trinkwasser und Ernährung gehen – Wie wird Trinkwasser hergestellt und wie sauber bekommen wir das Wasser mithilfe unserer Umkehrosmose- Anlage? Was gibt es zu beachten\, wenn wir uns klimafreundlich ernähren möchten? Wie schmecken Algen und wie bereite ich Nahrung über dem Lagerfeuer zu? \nBeim dritten Camp möchten wir mit euch selber Faltboote bauen. Was gibt es hier in Bezug auf das Klima zu beachten und wie schwimmt so ein Boot überhaupt? Wer Spaß am Tüfteln und Werkeln hat\, ist hier genau richtig. \n  \nDie Termine für die Camps sind: \n\n13.-15. Oktober (Tinkwasser und Ernährung)\n20.-22. Oktober (Bootsbau)\n10.-12. November (Trinkwasser und Ernährung)\n\nHier gehts zur Anmeldung: PrimaKlimaCamp – MAKE SCIENCE HALLE (ms-halle.science) \nWir freuen uns auf euch! \nEure Bordcrew
URL:https://lange-wochen.de/termine/primaklimacamp/
LOCATION:Make Science Halle- das Bürgerforschungsschiff\, Saalepromenade\, Anleger 5\, Halle (Saale)\, 06108
CATEGORIES:Camp
ATTACH;FMTTYPE=image/jpeg:https://lange-wochen.de/wp-content/uploads/2023/09/make-science.jpg
END:VEVENT
BEGIN:VEVENT
DTSTART;TZID=Europe/Berlin:20231013T150000
DTEND;TZID=Europe/Berlin:20231013T170000
DTSTAMP:20260423T031509
CREATED:20230907T110425Z
LAST-MODIFIED:20230907T110425Z
UID:6354-1697209200-1697216400@lange-wochen.de
SUMMARY:Upcyclingkinderwerkstatt
DESCRIPTION:Die beliebte UpcyclingKinderWerkstatt zeigt sich mit immer wieder neuen beschwingten Ideen für die Kleinen – und die Großen. In 2023 steht die UKW immer wieder im Zeichen eines anderen Materials\, welches mit euch zusammen erkundet werden kann. \nIm September kümmern wir uns in der UKW um das Holz. Aus den Restbeständen in der Sammlung entsteht Brauchbares für den Alltag und verspieltes. \nWenn ihr Freitags ins krimZkrams kommt\, seid ihr dabei. \nEltern sind zur UKW herzlich eingeladen. Die Teilnahme für Eltern und Kids ist kostenfrei. Über kleine Spenden freuen wir uns. \nEine Voranmeldung ist erwünscht.
URL:https://lange-wochen.de/termine/upcyclingkinderwerkstatt-4/
LOCATION:Krimzkrams\, Beesener Straße 237\, Halle\, Deutschland
CATEGORIES:Workshop
ATTACH;FMTTYPE=image/jpeg:https://lange-wochen.de/wp-content/uploads/2023/08/Krimz.jpg
END:VEVENT
END:VCALENDAR