BEGIN:VCALENDAR
VERSION:2.0
PRODID:-//Lange Wochen der Nachhaltigkeit - ECPv6.15.11//NONSGML v1.0//EN
CALSCALE:GREGORIAN
METHOD:PUBLISH
X-WR-CALNAME:Lange Wochen der Nachhaltigkeit
X-ORIGINAL-URL:https://lange-wochen.de
X-WR-CALDESC:Veranstaltungen für Lange Wochen der Nachhaltigkeit
REFRESH-INTERVAL;VALUE=DURATION:PT1H
X-Robots-Tag:noindex
X-PUBLISHED-TTL:PT1H
BEGIN:VTIMEZONE
TZID:Europe/Berlin
BEGIN:DAYLIGHT
TZOFFSETFROM:+0100
TZOFFSETTO:+0200
TZNAME:CEST
DTSTART:20230326T010000
END:DAYLIGHT
BEGIN:STANDARD
TZOFFSETFROM:+0200
TZOFFSETTO:+0100
TZNAME:CET
DTSTART:20231029T010000
END:STANDARD
BEGIN:DAYLIGHT
TZOFFSETFROM:+0100
TZOFFSETTO:+0200
TZNAME:CEST
DTSTART:20240331T010000
END:DAYLIGHT
BEGIN:STANDARD
TZOFFSETFROM:+0200
TZOFFSETTO:+0100
TZNAME:CET
DTSTART:20241027T010000
END:STANDARD
BEGIN:DAYLIGHT
TZOFFSETFROM:+0100
TZOFFSETTO:+0200
TZNAME:CEST
DTSTART:20250330T010000
END:DAYLIGHT
BEGIN:STANDARD
TZOFFSETFROM:+0200
TZOFFSETTO:+0100
TZNAME:CET
DTSTART:20251026T010000
END:STANDARD
END:VTIMEZONE
BEGIN:VEVENT
DTSTART;TZID=Europe/Berlin:20240906T170000
DTEND;TZID=Europe/Berlin:20240927T210000
DTSTAMP:20260422T120453
CREATED:20240903T111240Z
LAST-MODIFIED:20250812T103122Z
UID:7485-1725642000-1727470800@lange-wochen.de
SUMMARY:"Wovon träumst du in Halle?"  tumult im Kiosk
DESCRIPTION:tumult im Kiosk geht in die zweite Runde: im September bespielt das Projekt tumult für und mit junge(n) Menschen der Stadt Halle (Saale) den Kunst- und Projektraum Kiosk am Reileck. Zwischen dem 06. und dem 29.09. gibt es einiges zum Erleben und Mitmischen: \nDie dynamische Ausstellung unter dem Titel „Wovon träumst du in Halle?“ zeigt Perspektiven junger Leute aus der ganzen Stadt.\n”Wovon träumst du in Halle?“- diese Frage stellte das Projekt stadtweit jungen Menschen. Ihre Antworten in Form von Collagen\, Memes\, Bildern und Gedichten werden im Kiosk im Laufe des Monats dynamisch ausgestellt. \nAn ausgewählten Abenden läuft Mugge von halleschen DJs und Bands. Jeden Freitag ab 16 Uhr trifft sich tumults Jugendredaktion „Zündstoff“ vor Ort und lädt ein zum gemeinsamen Abhängen und Meme-der-Woche-küren. Außerdem erwarten euch: live-Radio-Talks\, Synth-Workshop\, Kickerturnier\, ein Kleidertausch\, sowie ein queeres Picknick. Es wird bunt\, manchmal wild – es gibt tumult im Kiosk! \nMehr Infos und aktuelles Programm gibt es hier: https://www.herrfleischer.de/tumult-im-kiosk-2/
URL:https://lange-wochen.de/termine/tumult-im-kiosk/
LOCATION:hr. fleischer – Kiosk am Reileck\, Händelstr. 1a\, Halle (Saale)\, 06114
CATEGORIES:Aktion,Ausstellung
ATTACH;FMTTYPE=image/jpeg:https://lange-wochen.de/wp-content/uploads/2024/09/tumult_Fotocredit-Laura-Wagenbrett.jpg
END:VEVENT
BEGIN:VEVENT
DTSTART;VALUE=DATE:20240913
DTEND;VALUE=DATE:20240928
DTSTAMP:20260422T120453
CREATED:20240829T191117Z
LAST-MODIFIED:20250812T103115Z
UID:7406-1726185600-1727481599@lange-wochen.de
SUMMARY:Faire Woche 2024
DESCRIPTION:Die Faire Woche 2024 findet vom 13. bis 27. September zum Thema „Klimagerechtigkeit“ unter dem Motto „Fair! Und kein Grad mehr!“ deutschlandweit statt. \nDer Faire Handel setzt sich für mehr Klimagerechtigkeit ein und leistet selbst einen wirksamen Beitrag dazu\, da er … \n… dazu beiträgt\, Kleinproduzent*innen widerstandsfähiger gegen Krisen zu machen;\n… auf verschiedenen Ebenen für mehr Klimagerechtigkeit eintritt\, darunter Wirtschaft und Politik;\n… klimaschonend wirtschaftet;\n… nicht vermeidbare Emissionen in Pilotprojekten mit den Handelspartnern im Globalen Süden kompensiert;\n… Handelspartner bei der Anpassung an die Folgen der Klimakrise unterstützt\, z.B. durch die Bereitstellung von klimaresistentem Saatgut sowie Beratung;\n… seine Handelspartner nach klimabedingten Naturkatastrophen unterstützt. \nMit der Fairen Woche 2024 wollen wir insbesondere junge Menschen einladen\, den Fairen Handel als Handlungsoption für sich zu entdecken\, um zu mehr Klimagerechtigkeit weltweit beizutragen. \nDie Faire Woche leistet auch einen Beitrag\, die Nachhaltigen Entwicklungsziele 12 (Nachhaltige Produktions- und Konsummuster) und 13 (Maßnahmen zum Klimaschutz) zu erreichen.
URL:https://lange-wochen.de/termine/faire-woche-2024/
LOCATION:deutschlandweit
CATEGORIES:Aktion
ATTACH;FMTTYPE=image/png:https://lange-wochen.de/wp-content/uploads/2024/08/Faire_Woche.png
END:VEVENT
BEGIN:VEVENT
DTSTART;TZID=Europe/Berlin:20240917T183000
DTEND;TZID=Europe/Berlin:20241012T183000
DTSTAMP:20260422T120453
CREATED:20240830T122241Z
LAST-MODIFIED:20250812T103109Z
UID:7469-1726597800-1728757800@lange-wochen.de
SUMMARY:Ganz andere Wärme / Was ist\, wenn du warst? Ausstellung
DESCRIPTION:Ganz andere Wärme – Karla Zipfel\nEin Gründerzeitbau\, eine WBS70 Platte\, ein Bauernhaus und ein postmodernes Mehrfamilienhaus aus der Nachwendezeit – Karla Zipfel beschäftigt sich mit sozialem Wandel des Landkreises Mansfeld-Südharz und der Stadt Halle anhand archetypischer Wohnhäuser\, ihrer Fassaden und Heizquellen.\nEs entsteht eine Installation\, die mit Modellen von Gebäuden und Heizkreisläufen auf die Verflechtungen von sozialer und physikalischer Wärme verweist. Ob Öl- und Gasheizung\, Holzofen\, Wärmepumpe oder Solarenergie\, Wärme führt nicht zwangsläufig zu sozialem Kitt. \nWas ist\, wenn du warst? – Carla Lou West\nEinst als unbelebte Materie und Abfallprodukt verkannt\, wandelten sich die Halden des Mansfelder Landes zu lebendigen Orten. Pflanzen und Tiere bevölkerten sie\, und die Bewohner:innen entdeckten sie neu: als Wanderziele\, Schießplätze oder als Treffpunkt für Kultur und Gemeinschaft. Seit 2038 findet jährlich das Haldenfest statt\, bei dem die Halden als Wahrzeichen des Bergbaus in einer feierlichen Prozession umrundet werden.\nDoch nun sollen die 19 größten von ihnen abgetragen werden – darunter eine Schlackenhalde\, eine Kalihalde und 17 Schieferhalden. Die höchsten erreichten bis zu 153 Meter.\nIn einer fiktionalen Erzählung untersucht Carla Lou West die Halden als schützenswerte Denkmäler und beleuchtet so die Verbindung von Vergangenheit\, Gegenwart und Zukunft. \nEröffnung: Dienstag\, 17.9. 18:30\nÖffnungszeiten: Dienstag bis Samstag 11:00-18:30\nEintritt frei
URL:https://lange-wochen.de/termine/ganz-andere-waerme/
LOCATION:Große Ulrichstr. 13\, Halle (Saale)\, 06108
CATEGORIES:Ausstellung
ATTACH;FMTTYPE=image/jpeg:https://lange-wochen.de/wp-content/uploads/2024/08/carla_westphaelinger.jpg
END:VEVENT
END:VCALENDAR