BEGIN:VCALENDAR
VERSION:2.0
PRODID:-//Lange Wochen der Nachhaltigkeit - ECPv6.15.11//NONSGML v1.0//EN
CALSCALE:GREGORIAN
METHOD:PUBLISH
X-WR-CALNAME:Lange Wochen der Nachhaltigkeit
X-ORIGINAL-URL:https://lange-wochen.de
X-WR-CALDESC:Veranstaltungen für Lange Wochen der Nachhaltigkeit
REFRESH-INTERVAL;VALUE=DURATION:PT1H
X-Robots-Tag:noindex
X-PUBLISHED-TTL:PT1H
BEGIN:VTIMEZONE
TZID:Europe/Berlin
BEGIN:DAYLIGHT
TZOFFSETFROM:+0100
TZOFFSETTO:+0200
TZNAME:CEST
DTSTART:20230326T010000
END:DAYLIGHT
BEGIN:STANDARD
TZOFFSETFROM:+0200
TZOFFSETTO:+0100
TZNAME:CET
DTSTART:20231029T010000
END:STANDARD
BEGIN:DAYLIGHT
TZOFFSETFROM:+0100
TZOFFSETTO:+0200
TZNAME:CEST
DTSTART:20240331T010000
END:DAYLIGHT
BEGIN:STANDARD
TZOFFSETFROM:+0200
TZOFFSETTO:+0100
TZNAME:CET
DTSTART:20241027T010000
END:STANDARD
BEGIN:DAYLIGHT
TZOFFSETFROM:+0100
TZOFFSETTO:+0200
TZNAME:CEST
DTSTART:20250330T010000
END:DAYLIGHT
BEGIN:STANDARD
TZOFFSETFROM:+0200
TZOFFSETTO:+0100
TZNAME:CET
DTSTART:20251026T010000
END:STANDARD
END:VTIMEZONE
BEGIN:VEVENT
DTSTART;TZID=Europe/Berlin:20240906T170000
DTEND;TZID=Europe/Berlin:20240927T210000
DTSTAMP:20260422T120615
CREATED:20240903T111240Z
LAST-MODIFIED:20250812T103122Z
UID:7485-1725642000-1727470800@lange-wochen.de
SUMMARY:"Wovon träumst du in Halle?"  tumult im Kiosk
DESCRIPTION:tumult im Kiosk geht in die zweite Runde: im September bespielt das Projekt tumult für und mit junge(n) Menschen der Stadt Halle (Saale) den Kunst- und Projektraum Kiosk am Reileck. Zwischen dem 06. und dem 29.09. gibt es einiges zum Erleben und Mitmischen: \nDie dynamische Ausstellung unter dem Titel „Wovon träumst du in Halle?“ zeigt Perspektiven junger Leute aus der ganzen Stadt.\n”Wovon träumst du in Halle?“- diese Frage stellte das Projekt stadtweit jungen Menschen. Ihre Antworten in Form von Collagen\, Memes\, Bildern und Gedichten werden im Kiosk im Laufe des Monats dynamisch ausgestellt. \nAn ausgewählten Abenden läuft Mugge von halleschen DJs und Bands. Jeden Freitag ab 16 Uhr trifft sich tumults Jugendredaktion „Zündstoff“ vor Ort und lädt ein zum gemeinsamen Abhängen und Meme-der-Woche-küren. Außerdem erwarten euch: live-Radio-Talks\, Synth-Workshop\, Kickerturnier\, ein Kleidertausch\, sowie ein queeres Picknick. Es wird bunt\, manchmal wild – es gibt tumult im Kiosk! \nMehr Infos und aktuelles Programm gibt es hier: https://www.herrfleischer.de/tumult-im-kiosk-2/
URL:https://lange-wochen.de/termine/tumult-im-kiosk/
LOCATION:hr. fleischer – Kiosk am Reileck\, Händelstr. 1a\, Halle (Saale)\, 06114
CATEGORIES:Aktion,Ausstellung
ATTACH;FMTTYPE=image/jpeg:https://lange-wochen.de/wp-content/uploads/2024/09/tumult_Fotocredit-Laura-Wagenbrett.jpg
END:VEVENT
BEGIN:VEVENT
DTSTART;VALUE=DATE:20240913
DTEND;VALUE=DATE:20240928
DTSTAMP:20260422T120615
CREATED:20240829T191117Z
LAST-MODIFIED:20250812T103115Z
UID:7406-1726185600-1727481599@lange-wochen.de
SUMMARY:Faire Woche 2024
DESCRIPTION:Die Faire Woche 2024 findet vom 13. bis 27. September zum Thema „Klimagerechtigkeit“ unter dem Motto „Fair! Und kein Grad mehr!“ deutschlandweit statt. \nDer Faire Handel setzt sich für mehr Klimagerechtigkeit ein und leistet selbst einen wirksamen Beitrag dazu\, da er … \n… dazu beiträgt\, Kleinproduzent*innen widerstandsfähiger gegen Krisen zu machen;\n… auf verschiedenen Ebenen für mehr Klimagerechtigkeit eintritt\, darunter Wirtschaft und Politik;\n… klimaschonend wirtschaftet;\n… nicht vermeidbare Emissionen in Pilotprojekten mit den Handelspartnern im Globalen Süden kompensiert;\n… Handelspartner bei der Anpassung an die Folgen der Klimakrise unterstützt\, z.B. durch die Bereitstellung von klimaresistentem Saatgut sowie Beratung;\n… seine Handelspartner nach klimabedingten Naturkatastrophen unterstützt. \nMit der Fairen Woche 2024 wollen wir insbesondere junge Menschen einladen\, den Fairen Handel als Handlungsoption für sich zu entdecken\, um zu mehr Klimagerechtigkeit weltweit beizutragen. \nDie Faire Woche leistet auch einen Beitrag\, die Nachhaltigen Entwicklungsziele 12 (Nachhaltige Produktions- und Konsummuster) und 13 (Maßnahmen zum Klimaschutz) zu erreichen.
URL:https://lange-wochen.de/termine/faire-woche-2024/
LOCATION:deutschlandweit
CATEGORIES:Aktion
ATTACH;FMTTYPE=image/png:https://lange-wochen.de/wp-content/uploads/2024/08/Faire_Woche.png
END:VEVENT
BEGIN:VEVENT
DTSTART;TZID=Europe/Berlin:20240917T183000
DTEND;TZID=Europe/Berlin:20241012T183000
DTSTAMP:20260422T120615
CREATED:20240830T122241Z
LAST-MODIFIED:20250812T103109Z
UID:7469-1726597800-1728757800@lange-wochen.de
SUMMARY:Ganz andere Wärme / Was ist\, wenn du warst? Ausstellung
DESCRIPTION:Ganz andere Wärme – Karla Zipfel\nEin Gründerzeitbau\, eine WBS70 Platte\, ein Bauernhaus und ein postmodernes Mehrfamilienhaus aus der Nachwendezeit – Karla Zipfel beschäftigt sich mit sozialem Wandel des Landkreises Mansfeld-Südharz und der Stadt Halle anhand archetypischer Wohnhäuser\, ihrer Fassaden und Heizquellen.\nEs entsteht eine Installation\, die mit Modellen von Gebäuden und Heizkreisläufen auf die Verflechtungen von sozialer und physikalischer Wärme verweist. Ob Öl- und Gasheizung\, Holzofen\, Wärmepumpe oder Solarenergie\, Wärme führt nicht zwangsläufig zu sozialem Kitt. \nWas ist\, wenn du warst? – Carla Lou West\nEinst als unbelebte Materie und Abfallprodukt verkannt\, wandelten sich die Halden des Mansfelder Landes zu lebendigen Orten. Pflanzen und Tiere bevölkerten sie\, und die Bewohner:innen entdeckten sie neu: als Wanderziele\, Schießplätze oder als Treffpunkt für Kultur und Gemeinschaft. Seit 2038 findet jährlich das Haldenfest statt\, bei dem die Halden als Wahrzeichen des Bergbaus in einer feierlichen Prozession umrundet werden.\nDoch nun sollen die 19 größten von ihnen abgetragen werden – darunter eine Schlackenhalde\, eine Kalihalde und 17 Schieferhalden. Die höchsten erreichten bis zu 153 Meter.\nIn einer fiktionalen Erzählung untersucht Carla Lou West die Halden als schützenswerte Denkmäler und beleuchtet so die Verbindung von Vergangenheit\, Gegenwart und Zukunft. \nEröffnung: Dienstag\, 17.9. 18:30\nÖffnungszeiten: Dienstag bis Samstag 11:00-18:30\nEintritt frei
URL:https://lange-wochen.de/termine/ganz-andere-waerme/
LOCATION:Große Ulrichstr. 13\, Halle (Saale)\, 06108
CATEGORIES:Ausstellung
ATTACH;FMTTYPE=image/jpeg:https://lange-wochen.de/wp-content/uploads/2024/08/carla_westphaelinger.jpg
END:VEVENT
BEGIN:VEVENT
DTSTART;TZID=Europe/Berlin:20240919T150000
DTEND;TZID=Europe/Berlin:20240919T180000
DTSTAMP:20260422T120615
CREATED:20240819T153523Z
LAST-MODIFIED:20250812T103039Z
UID:7347-1726758000-1726768800@lange-wochen.de
SUMMARY:Insektenhotels aus Restmaterialien
DESCRIPTION:Unter dem Motto „Zusammenspiel“\, verarbeiten wir Restmaterialien unserer Sammlung gemeinsam mit Naturmaterialien. Was ist da naheliegender als im Frühherbst Insektenhotels zu bauen\, die auf Balkon und Baumscheibe in der Innenstadt funktionieren.\nWorkshopleiterin Kristin zeigt euch\, was da alles verwendbar ist. \nBringt gern Füllmaterial mit\, wenn ihr zuvor schon schon auf Wald und Wiese unterwegs seid: Zapfen\, Schilfrohr\, Stroh und ähnliches. \nMeldet euch auf unserer Infomail an. Die Teilnahme ist ab 12 Jahren und auf Spendenbasis möglich. \nDiese Veranstaltung ist Teil des Kulturtreffs im krimZkrams. Die Veranstaltungen des Kulturtreff im krimZkrams werden gefördert durch die Aktion Mensch.
URL:https://lange-wochen.de/termine/insektenhotels-aus-restmaterialien/
LOCATION:Krimzkrams\, Beesener Straße 237\, Halle\, Deutschland
CATEGORIES:Workshop
ATTACH;FMTTYPE=image/jpeg:https://lange-wochen.de/wp-content/uploads/2024/08/krimzkrams_Insektenhotel.jpeg
END:VEVENT
BEGIN:VEVENT
DTSTART;TZID=Europe/Berlin:20240919T160000
DTEND;TZID=Europe/Berlin:20240919T170000
DTSTAMP:20260422T120615
CREATED:20240905T093228Z
LAST-MODIFIED:20250812T103034Z
UID:7577-1726761600-1726765200@lange-wochen.de
SUMMARY:Bilderbuchkino mit anschließendem Kleidertausch
DESCRIPTION:Am 19. September lädt die Kinderbibliothek am Hallmarkt um 16:00 Uhr zu einem Bilderbuchkino ein\, direkt im Anschluss\, ab 16:30 Uhr\, findet ein Kleidertausch statt. Hier können Besucherinnen und Besucher bis zu sechs Kleidungsstücke mitbringen und unbegrenzt andere Stücke mitnehmen – eine wunderbare Gelegenheit\, dem Kleiderschrank neues Leben einzuhauchen und gleichzeitig einen Beitrag zur Nachhaltigkeit zu leisten. \nWo? -> Zentralbibliothek Halle\nWann? -> ab 16:00 Uhr Bilderbuchkino\n-> ab 16:30 Uhr Kleidertausch
URL:https://lange-wochen.de/termine/bilderbuchkino-mit-anschliessendem-kleidertausch/
LOCATION:Zentralbibliothek Halle\, Salzgrafenstraße 2\, Halle (Saale)\, 06108
CATEGORIES:Aktion,Angebot für Kinder,Markt,Treffen
ATTACH;FMTTYPE=image/jpeg:https://lange-wochen.de/wp-content/uploads/2024/09/Bilderbuch-Kleidertausch-1-scaled.jpg
ORGANIZER;CN="Zentralbibliothek Halle":MAILTO:stadtbibliothek@halle.de
END:VEVENT
BEGIN:VEVENT
DTSTART;TZID=Europe/Berlin:20240919T180000
DTEND;TZID=Europe/Berlin:20240919T200000
DTSTAMP:20260422T120615
CREATED:20240904T130350Z
LAST-MODIFIED:20250812T103029Z
UID:7524-1726768800-1726776000@lange-wochen.de
SUMMARY:Offenes Plenum Ernährungsrat Halle/Umgebung
DESCRIPTION:Im Plenum des Ernährungsrat für Halle/Umgebung beraten wir uns über aktuelle Themen\, planen Veranstaltungen und leisten organisatorische Arbeit für den Strukturaufbau des Ernährungsrats. Lokale Akteure im Ernährungssystem sowie alle weiteren Interessierten sind herzlich willkommen. Wir freuen uns über helfende Hände und denkende Köpfe. \nUnser Plenum findet hybrid statt: Live im Café Ludwig\, Eichendorffstraße 20 und nach Bedarf via Zoom dazuschalten.\nTeilnahmeinformationen versenden wir nach Anmeldung via E-Mail (ernaehrungsrat-halle@bund-halle.de).
URL:https://lange-wochen.de/termine/offenes-plenum-ernaehrungsrat-halle/
LOCATION:hybrid: Café Ludwig und online\, Eichendorffstraße 20\, Halle/Saale
CATEGORIES:Online,Treffen
ATTACH;FMTTYPE=image/webp:https://lange-wochen.de/wp-content/uploads/2024/09/Halline_Style1.webp
END:VEVENT
BEGIN:VEVENT
DTSTART;TZID=Europe/Berlin:20240919T183000
DTEND;TZID=Europe/Berlin:20240919T200000
DTSTAMP:20260422T120615
CREATED:20240903T211808Z
LAST-MODIFIED:20250812T103024Z
UID:7386-1726770600-1726776000@lange-wochen.de
SUMMARY:Sounds of the Ocean - Von Walgesängen\, Artenvielfalt und Tiefseebergbau
DESCRIPTION:Tauchen wir ab  – in die Ozeane unseres blauen Planeten! Die Weltmeere bedecken mehr als 71 Prozent der Erde und tragen durch ihre Fähigkeit\, Sauerstoff zu produzieren und erhebliche Mengen an CO²-Emissionen zu binden\, zum Klimaschutz bei. In ihnen leben unzählige Arten in vielfach verflochtenen Netzwerken. Besonders hoch ist diese Biodiversität in küstennahen Mangrovenwäldern\, Seegraswiesen und Korallenriffen und vielfach unentdeckt in den Tiefseeregionen\, die zu den letzten vom Menschen weitgehend unberührten Regionen der Erde gehören – noch. \nMachen Sie sich bereit für eine außergewöhnliche immersive Reise\, die Sie mit den Klängen von Walen und Delfinen in die Wunder des tiefblauen Ozeans eintauchen lässt. Und erfahren Sie im Anschluss im Austausch mit einer Meeresbiologin mehr über die einzigartige Artenvielfalt in den Weltmeeren und über die massiven Gefährdungen\, denen unsere marinen Ökosysteme ausgesetzt sind.  \nEine gemeinsame Veranstaltung der Heinrich-Böll-Stiftung Sachsen-Anhalt e.V. mit dem Planetarium Halle im Rahmen der Langen Wochen der Nachhaltigkeit. \nOrt: Planetarium Halle\nTickets über das Planetarium Halle.\nSolltet ihr Euch das Eintrittsticket nicht leisten können\, nehmt gern Kontakt mit uns auf (info@boell-sachsen-anhalt.de).
URL:https://lange-wochen.de/termine/sounds-of-the-ocean/
LOCATION:Planetarium Halle\, Holzplatz 5\, Halle\, 06110\, Deutschland
CATEGORIES:Film,Gespräch,Veranstaltung
ATTACH;FMTTYPE=image/png:https://lange-wochen.de/wp-content/uploads/2024/08/sounds-of-the-ocean.png
ORGANIZER;CN="Heinrich-B%C3%B6ll-Stiftung Sachsen-Anhalt":MAILTO:schwarz@boell-sachsen-anhalt.de
END:VEVENT
BEGIN:VEVENT
DTSTART;TZID=Europe/Berlin:20240919T190000
DTEND;TZID=Europe/Berlin:20240919T200000
DTSTAMP:20260422T120615
CREATED:20240905T085223Z
LAST-MODIFIED:20250812T103007Z
UID:7561-1726772400-1726776000@lange-wochen.de
SUMMARY:Süße Liebe - Liebe Süße II
DESCRIPTION:Ein Themenabend über Honig\nDie meisten Menschen lieben Honig: zum Frühstück aufs Brötchen\, eingerührt in den Tee oder als Zutat für leckere Lebkuchen. Aber auch für Kosmetika und Pflegemittel wird Honig überaus geschätzt. Dass das schon zu biblischen Zeiten so war\, zeigt nur\, wie wichtig Honig seit jeher für das menschliche Wohlbefinden ist – herrliche Metaphern und Geschichten zeugen davon in der Bibel. Heute wissen wir zudem: mit dem Verschwinden der Bienen als Bestäuber würde auch die Menschheit auf kurz oder lang untergehen. Honig ist kein Luxus\, sondern bedeutet Freude und Leben. \nAnlässlich des nahenden Erntedankfestes werden an diesem Abend Geschichten und Wissen rund um den Honig im Mittelpunkt stehen. Imker Max Baumann wird spannende Einblicke in seine Arbeit geben: Informationen zum Bienenleben und Bienenjahr\, über die schonende Honiggewinnung und die Honigpressung. Er wird den Honig des hauseigenen Bienenstocks der Franckeschen Stiftungen schleudern und zum Verkosten anbieten. \nAußerdem soll es um biblische und literarische Texte zum Honig gehen. \nDie Veranstaltung ist eine Kooperation von Dipl.-Biol. Cornelia Jäger (Pflanzgarten)\, Stiftungspfarrerin Gabriele Zander\, Pfarrer Sven Hanson (Mitteldeutsches Bibelwerk) sowie dem Imker Max Baumann (Kleinfolgenreich e.V. Schortewitz)
URL:https://lange-wochen.de/termine/suesse-liebe-liebe-suesse-ii/
LOCATION:Pflanzgarten Franckesche Stiftungen\, Franckeplatz 1\, Haus 37\, 06110 Halle
CATEGORIES:Führung,Gespräch,Projektvorstellung
ATTACH;FMTTYPE=image/jpeg:https://lange-wochen.de/wp-content/uploads/2024/09/suessenliebe.jpg
END:VEVENT
END:VCALENDAR