BEGIN:VCALENDAR
VERSION:2.0
PRODID:-//Lange Wochen der Nachhaltigkeit - ECPv6.15.11//NONSGML v1.0//EN
CALSCALE:GREGORIAN
METHOD:PUBLISH
X-WR-CALNAME:Lange Wochen der Nachhaltigkeit
X-ORIGINAL-URL:https://lange-wochen.de
X-WR-CALDESC:Veranstaltungen für Lange Wochen der Nachhaltigkeit
REFRESH-INTERVAL;VALUE=DURATION:PT1H
X-Robots-Tag:noindex
X-PUBLISHED-TTL:PT1H
BEGIN:VTIMEZONE
TZID:Europe/Berlin
BEGIN:DAYLIGHT
TZOFFSETFROM:+0100
TZOFFSETTO:+0200
TZNAME:CEST
DTSTART:20230326T010000
END:DAYLIGHT
BEGIN:STANDARD
TZOFFSETFROM:+0200
TZOFFSETTO:+0100
TZNAME:CET
DTSTART:20231029T010000
END:STANDARD
BEGIN:DAYLIGHT
TZOFFSETFROM:+0100
TZOFFSETTO:+0200
TZNAME:CEST
DTSTART:20240331T010000
END:DAYLIGHT
BEGIN:STANDARD
TZOFFSETFROM:+0200
TZOFFSETTO:+0100
TZNAME:CET
DTSTART:20241027T010000
END:STANDARD
BEGIN:DAYLIGHT
TZOFFSETFROM:+0100
TZOFFSETTO:+0200
TZNAME:CEST
DTSTART:20250330T010000
END:DAYLIGHT
BEGIN:STANDARD
TZOFFSETFROM:+0200
TZOFFSETTO:+0100
TZNAME:CET
DTSTART:20251026T010000
END:STANDARD
END:VTIMEZONE
BEGIN:VEVENT
DTSTART;TZID=Europe/Berlin:20240906T170000
DTEND;TZID=Europe/Berlin:20240927T210000
DTSTAMP:20260422T120637
CREATED:20240903T111240Z
LAST-MODIFIED:20250812T103122Z
UID:7485-1725642000-1727470800@lange-wochen.de
SUMMARY:"Wovon träumst du in Halle?"  tumult im Kiosk
DESCRIPTION:tumult im Kiosk geht in die zweite Runde: im September bespielt das Projekt tumult für und mit junge(n) Menschen der Stadt Halle (Saale) den Kunst- und Projektraum Kiosk am Reileck. Zwischen dem 06. und dem 29.09. gibt es einiges zum Erleben und Mitmischen: \nDie dynamische Ausstellung unter dem Titel „Wovon träumst du in Halle?“ zeigt Perspektiven junger Leute aus der ganzen Stadt.\n”Wovon träumst du in Halle?“- diese Frage stellte das Projekt stadtweit jungen Menschen. Ihre Antworten in Form von Collagen\, Memes\, Bildern und Gedichten werden im Kiosk im Laufe des Monats dynamisch ausgestellt. \nAn ausgewählten Abenden läuft Mugge von halleschen DJs und Bands. Jeden Freitag ab 16 Uhr trifft sich tumults Jugendredaktion „Zündstoff“ vor Ort und lädt ein zum gemeinsamen Abhängen und Meme-der-Woche-küren. Außerdem erwarten euch: live-Radio-Talks\, Synth-Workshop\, Kickerturnier\, ein Kleidertausch\, sowie ein queeres Picknick. Es wird bunt\, manchmal wild – es gibt tumult im Kiosk! \nMehr Infos und aktuelles Programm gibt es hier: https://www.herrfleischer.de/tumult-im-kiosk-2/
URL:https://lange-wochen.de/termine/tumult-im-kiosk/
LOCATION:hr. fleischer – Kiosk am Reileck\, Händelstr. 1a\, Halle (Saale)\, 06114
CATEGORIES:Aktion,Ausstellung
ATTACH;FMTTYPE=image/jpeg:https://lange-wochen.de/wp-content/uploads/2024/09/tumult_Fotocredit-Laura-Wagenbrett.jpg
END:VEVENT
BEGIN:VEVENT
DTSTART;VALUE=DATE:20240913
DTEND;VALUE=DATE:20240928
DTSTAMP:20260422T120637
CREATED:20240829T191117Z
LAST-MODIFIED:20250812T103115Z
UID:7406-1726185600-1727481599@lange-wochen.de
SUMMARY:Faire Woche 2024
DESCRIPTION:Die Faire Woche 2024 findet vom 13. bis 27. September zum Thema „Klimagerechtigkeit“ unter dem Motto „Fair! Und kein Grad mehr!“ deutschlandweit statt. \nDer Faire Handel setzt sich für mehr Klimagerechtigkeit ein und leistet selbst einen wirksamen Beitrag dazu\, da er … \n… dazu beiträgt\, Kleinproduzent*innen widerstandsfähiger gegen Krisen zu machen;\n… auf verschiedenen Ebenen für mehr Klimagerechtigkeit eintritt\, darunter Wirtschaft und Politik;\n… klimaschonend wirtschaftet;\n… nicht vermeidbare Emissionen in Pilotprojekten mit den Handelspartnern im Globalen Süden kompensiert;\n… Handelspartner bei der Anpassung an die Folgen der Klimakrise unterstützt\, z.B. durch die Bereitstellung von klimaresistentem Saatgut sowie Beratung;\n… seine Handelspartner nach klimabedingten Naturkatastrophen unterstützt. \nMit der Fairen Woche 2024 wollen wir insbesondere junge Menschen einladen\, den Fairen Handel als Handlungsoption für sich zu entdecken\, um zu mehr Klimagerechtigkeit weltweit beizutragen. \nDie Faire Woche leistet auch einen Beitrag\, die Nachhaltigen Entwicklungsziele 12 (Nachhaltige Produktions- und Konsummuster) und 13 (Maßnahmen zum Klimaschutz) zu erreichen.
URL:https://lange-wochen.de/termine/faire-woche-2024/
LOCATION:deutschlandweit
CATEGORIES:Aktion
ATTACH;FMTTYPE=image/png:https://lange-wochen.de/wp-content/uploads/2024/08/Faire_Woche.png
END:VEVENT
BEGIN:VEVENT
DTSTART;TZID=Europe/Berlin:20240917T183000
DTEND;TZID=Europe/Berlin:20241012T183000
DTSTAMP:20260422T120637
CREATED:20240830T122241Z
LAST-MODIFIED:20250812T103109Z
UID:7469-1726597800-1728757800@lange-wochen.de
SUMMARY:Ganz andere Wärme / Was ist\, wenn du warst? Ausstellung
DESCRIPTION:Ganz andere Wärme – Karla Zipfel\nEin Gründerzeitbau\, eine WBS70 Platte\, ein Bauernhaus und ein postmodernes Mehrfamilienhaus aus der Nachwendezeit – Karla Zipfel beschäftigt sich mit sozialem Wandel des Landkreises Mansfeld-Südharz und der Stadt Halle anhand archetypischer Wohnhäuser\, ihrer Fassaden und Heizquellen.\nEs entsteht eine Installation\, die mit Modellen von Gebäuden und Heizkreisläufen auf die Verflechtungen von sozialer und physikalischer Wärme verweist. Ob Öl- und Gasheizung\, Holzofen\, Wärmepumpe oder Solarenergie\, Wärme führt nicht zwangsläufig zu sozialem Kitt. \nWas ist\, wenn du warst? – Carla Lou West\nEinst als unbelebte Materie und Abfallprodukt verkannt\, wandelten sich die Halden des Mansfelder Landes zu lebendigen Orten. Pflanzen und Tiere bevölkerten sie\, und die Bewohner:innen entdeckten sie neu: als Wanderziele\, Schießplätze oder als Treffpunkt für Kultur und Gemeinschaft. Seit 2038 findet jährlich das Haldenfest statt\, bei dem die Halden als Wahrzeichen des Bergbaus in einer feierlichen Prozession umrundet werden.\nDoch nun sollen die 19 größten von ihnen abgetragen werden – darunter eine Schlackenhalde\, eine Kalihalde und 17 Schieferhalden. Die höchsten erreichten bis zu 153 Meter.\nIn einer fiktionalen Erzählung untersucht Carla Lou West die Halden als schützenswerte Denkmäler und beleuchtet so die Verbindung von Vergangenheit\, Gegenwart und Zukunft. \nEröffnung: Dienstag\, 17.9. 18:30\nÖffnungszeiten: Dienstag bis Samstag 11:00-18:30\nEintritt frei
URL:https://lange-wochen.de/termine/ganz-andere-waerme/
LOCATION:Große Ulrichstr. 13\, Halle (Saale)\, 06108
CATEGORIES:Ausstellung
ATTACH;FMTTYPE=image/jpeg:https://lange-wochen.de/wp-content/uploads/2024/08/carla_westphaelinger.jpg
END:VEVENT
BEGIN:VEVENT
DTSTART;VALUE=DATE:20240920
DTEND;VALUE=DATE:20241004
DTSTAMP:20260422T120637
CREATED:20240829T191914Z
LAST-MODIFIED:20250812T102958Z
UID:7409-1726790400-1727999999@lange-wochen.de
SUMMARY:Interkulturelle Woche 2024
DESCRIPTION:Die Interkulturelle Woche 2024 steht unter dem Motto „Neue Räume“. Neue Räume zu öffnen und die Bereitschaft mitzubringen\, diese zu betreten\, um Vorurteile abzubauen und Brücken der Verständigung zu errichten\, das sind und bleiben die wichtigsten Ziele der Interkulturellen Woche.  \nNeue Räume zu schaffen\, geistige wie reale Begegnungsorte\, dies bleibt auch elementar für alle Bemühungen\, eine tolerante Gesellschaft zu erhalten\, in der die Menschenrechte geachtet werden; in der gegenseitiger Respekt und die Achtung der Würde des Einzelnen Eckpfeiler des Miteinanders sind.   \nDiese demokratischen Werte hochzuhalten und zu bewahren muss selbstverständlich bleiben\, damit unsere Gesellschaft\, unsere Stadt Halle (Saale) auch in der Zukunft lebenswert bleibt.  \nMit zahlreichen Veranstaltungen\, Ausstellungen\, Diskussionen\, Lesungen und Workshops ist die Interkulturelle Woche ein bemerkenswerter Ausdruck für die Stärke demokratischer Strukturen und die vielfältige Stadtgesellschaft.   \nIn Halle (Saale) haben Menschen aus rund 150 Ländern ihr Zuhause. Sie leben und bereichern unsere Stadt. Doch diese Vielfalt funktioniert nur\, wenn wir uns weiter für das Miteinander einsetzen. Den jeweils anderen kennenzulernen\, ist auch das wirkungsvollste Mittel\, um Vorurteile abzubauen und um Rassismus und Fremdenfeindlichkeit wirkungsvoll entgegenzutreten.
URL:https://lange-wochen.de/termine/interkulturelle-woche-2024/
LOCATION:Halle
CATEGORIES:Veranstaltung
ATTACH;FMTTYPE=image/png:https://lange-wochen.de/wp-content/uploads/2024/08/01-Vielsprachig_680x480_2.png
END:VEVENT
BEGIN:VEVENT
DTSTART;VALUE=DATE:20240921
DTEND;VALUE=DATE:20240929
DTSTAMP:20260422T120637
CREATED:20240905T092445Z
LAST-MODIFIED:20250812T102933Z
UID:7571-1726876800-1727567999@lange-wochen.de
SUMMARY:Interkulturelle Woche im Saalekreis
DESCRIPTION:Am 21. September wollen wir mit euch allen die Eröffnung der IKW auf dem Entenplan feiern.  \nWie in den letzten Jahren wollen wir Mitmachaktionen schaffen\, zum Zuhören einladen\, zum Tanzen anlocken und die Innenstadt füllen. \nDie Geschichte der IKW erfahrt ihr hier: https://www.interkulturellewoche.de/startseite \nOn September 21st we want to celebrate the opening of the IKW on the Entenplan with all of you.\nAs in previous years\, we want to create participatory activities\, invite people to listen\, attract people to dance and fill the city center. \nفي 21 سبتمبر، نريد الاحتفال بافتتاح IKW على Entenplan معكم جميعًا. يمكن للأندية والمبادرات التواصل معنا حتى 30 يونيو للمساعدة في تنظيم المهرجان. سواء كنت ملك النبيذ، أو أفضل حارس مرمى لهذا العام، أو أميرة الكعك – إذا كنت تشكل ثقافتنا، فيجب عليك المشاركة. فرقة شرقية؟ طباخ هواة أفريقي؟ مجموعة بولت الأوكرانية؟ انضم إلينا في استحضار مهرجان ملون في قلب المنطقة! \nكما في السنوات السابقة، نريد إنشاء أنشطة تشاركية، ودعوة الناس للاستماع، وجذب الناس للرقص وملء وسط المدينة. \nDi 21ê Îlonê de em dixwazin vekirina IKW li ser Entenplan li we hemûyan pîroz bikin. Klûb û însiyatîf dikarin heta 30ê Hezîranê ji bo organîzekirina festîvalê bi me re têkilî daynin. Ku hûn padîşahê şerabê bin\, golparêzê salê an jî prensesa kekê – ger hûn çanda me çêdikin\, divê hûn tevlê bibin. Koma Oriental? Xwarinê amatorê Afrîkî? Koma Bolt ya Ukraynayê? Tevlî me bibin ku di dilê navçeyê de festîvalek rengîn saz bikin! \nWeke salên berê\, em dixwazin çalakiyên beşdariyê çêkin\, gel vexwînin guhdarîkirinê\, gel bikişîne ser dîlanê û navenda bajêr tijî bike. \nLe 21 septembre\, nous souhaitons célébrer avec vous tous l’ouverture de l’IKW sur l’Entenplan. Les clubs et initiatives peuvent nous contacter jusqu’au 30 juin pour participer à l’organisation du festival. Que vous soyez le roi du vin\, le gardien de but de l’année ou la princesse du gâteau\, si vous façonnez notre culture\, vous devriez vous impliquer. Un groupe oriental ? Cuisinier amateur africain ? Groupe Bolt ukrainien ? Rejoignez-nous pour imaginer une fête haute en couleur au cœur du quartier ! \nComme les années précédentes\, nous souhaitons créer des activités participatives\, inviter les gens à écouter\, attirer les gens à danser et remplir le centre-ville. \n21 вересня ми хочемо відсвяткувати з усіма вами відкриття IKW на Entenplan. Клуби та ініціативи можуть звертатися до нас до 30 червня\, щоб допомогти в організації фестивалю. Незалежно від того\, чи ти винний король\, воротар року чи принцеса тортів\, якщо ти формуєш нашу культуру\, тобі варто взяти участь. східний гурт? Африканський кухар-аматор? Ukrainian Bolt Group? Приєднуйтесь до нас\, щоб створити колоритне свято у серці району! \nЯк і в попередні роки\, ми хочемо створювати активні заходи\, запрошувати людей слухати\, танцювати та заповнювати центр міста.
URL:https://lange-wochen.de/termine/interkulturelle-woche-im-saalekreis/
LOCATION:im ganzen Saalekreis\, Entenplan\, Merseburg\, 06217
CATEGORIES:Aktion,Festival,Ideenschmiede,Saalekreis,Treffen
ATTACH;FMTTYPE=image/jpeg:https://lange-wochen.de/wp-content/uploads/2024/09/interkulturelle-woche-merseburg-scaled.jpg
ORGANIZER;CN="AWO SPI Soziale Stadt und Land Entwicklungsgesellschaft mbH":MAILTO:kontakt@mghmerseburg.de
END:VEVENT
BEGIN:VEVENT
DTSTART;TZID=Europe/Berlin:20240927T090000
DTEND;TZID=Europe/Berlin:20240927T140000
DTSTAMP:20260422T120637
CREATED:20240904T095419Z
LAST-MODIFIED:20250812T102814Z
UID:7496-1727427600-1727445600@lange-wochen.de
SUMMARY:"Zusammenspiel" Werkstatt-Brunch
DESCRIPTION:Strukturwandel\, Biodiversitäts- und Klimakrise\, Polarisierung\, Transformation auf allen Ebenen – komplexe Themen\, die vielfältige Antworten erfordern. Wir glauben\, dass das nicht alleine geht und es dafür ungewohnte Allianzen und Zusammenspiele braucht – zwischen Stadt und Land\, zwischen Menschen aus Forschung\, Wirtschaft\, Bildung\, Politik\, Verwaltung\, Vereinen und Initiativen. Doch wie werden diese gebildet und wie können sie langfristig gelingen? Was braucht es für die Ansprache neuer Zielgruppen und für funktionierende Netzwerke? Dazu wollen wir voneinander lernen und laden herzlich ein\, dabei zu sein!\n\nBeim Werkstatt-Brunch am 27. September 2024 von 9 bis 14 Uhr auf dem Kinderbauernhof im Stiftsgut Stichelsdorf – selbst ein Ort verschiedenster Zusammenspiele. \nNeben Workshops und dem gemeinsamen Essen wird es einen Marktplatz geben rund um das Zusammenspiel zwischen Strukturwandel und Biodiversität. Beteiligen Sie sich gern daran mit Ihren Projekten und Materialien! \n——————————— \nP R O G R A M M\n——————————— \n\n09:00 Uhr Ankommen\n09:15 Uhr Begrüßung\, Rundgang & Kennenlernen\n09:45 Uhr parallel-laufende Workshop-Angebote  → die Themen erfahren Sie hier\n11:30 Uhr Eröffnung Brunch\n12:00 Uhr Marktplatz der Ideen & Projekte\n13:00 Uhr Zusammenspiel & Quintessenzen\n14:00 Uhr Ausklang\n\n  \n———————– \nB R U N C H\n———————–\nMit dem Brunch nehmen wir teil an der Wette „1000 Menschen frühstücken fair in Mitteldeutschland“.\nWir wollen gemeinsam fair und und biodivers essen und freuen uns über Beiträge zum Buffet aus dem Garten\, der Gemüsekiste\, der eigenen Küche oder dem Welt- und Bioladen. Für Getränke\, Geschirr und eine Grundverpflegung ist gesorgt. \n  \n———————— \nA N R E I S E\n————————\nAdresse: Stiftsgut Stichelsdorf\, Stichelsdorfer Str. 24\, 06188 Landsberg \nKlimafreundlich und gemeinsam mit dem Fahrrad anreisen: Start 8 Uhr am Steintor in Halle \noder mit dem Schienenersatz-Bus der S9 am Hbf Richtung Peißen:\n8:38 Uhr ab Halle Busbahnhof\, Bussteig 9\nHaltestelle Peißen aussteigen\, von dort sind es ca. 10 Minuten zu Fuß zum Kinderbauernhof \neine Anreise mit Auto ist natürlich auch möglich \n  \n———————————— \nA N M E L D U N G\n————————————\nBitte bis 25.09.2014 per Mail an: mitmachen@lange-wochen.de \n  \n  \n——————————————————————— \nW O R K S H O P S   &   I M P U L S E\n———————————————————————\n(Inhalte werden laufend ergänzt) \n  \n„Kreative Kohle“ – Community Based Research ko-kreativ angewendet\nCommunity-Based Research (CBR)\, Social Design und die Arbeit mit audiovisuellen Medien sind Methoden\, die helfen sollen\, gesellschaftliche Probleme zu lösen und Gemeinschaften zu stärken. Diese Ansätze haben gemeinsam\, dass sie die Perspektiven und Bedürfnisse der Menschen vor Ort in den Mittelpunkt stellen und sie aktiv in den Forschungsprozess einbeziehen. In diesem Workshop stellen wir die einzelnen Methoden kurz vor und zeigen wie man diese miteinander verbindet\, um kreative und interdisziplinäre Projekte zu entwickeln. Wir stellen Beispiele vor\, die wir bereits in Braunkohleregionen getestet haben\, und erarbeiten zusammen mit euch\, wie ihr diese Ansätze auf eigene Projekte anwenden könnt. \nFragen\, die wir behandeln: Was ist Community-Based Research? Was ist Social Design? Warum kombinieren wir diese Methoden? Ziel des Workshops: Ko-kreative Methoden auf eigene Projekte übertragen. \nReferentinnen: Isabel Müller und Mandy Stobbe\, Zentrum für Sozialforschung Halle e.V. \n  \nNachhaltig netzwerken – zwischen Wirtschaft\, Wissenschaft\, Zivilgesellschaft & Verwaltung\nDas Ziel einer nachhaltigen Transformation unserer Wirtschaft ist gleichzeitig Innovationsmotor und Herausforderung – Vieles gilt es zu beachten beim Aufbau nachhaltiger Unternehmungen.\nUm hier Unterstützung anbieten zu können\, haben wir bereits im Jahr 2020 das „Netzwerk Nachhaltigkeit in der Wirtschaft Mitteldeutschland“ gegründet. Das Netzwerk ist ein Verbund aus aktuell 80 Multiplikatoren aus Wirtschaft\, Wissenschaft\, Zivilgesellschaft und Verwaltung. Wir setzen auf den kooperativen Austausch\, wollen neue Partnerinnen zusammenbringen und konsensbasierte Lösungen für bestehende Herausforderungen entwickeln. Wir bauen unsere Aktivitäten nach Bedarf und freien Kapazitäten aus\, ohne Förderung und damit frei in unseren Entscheidungen. \nIm ersten Teil des Workshops stellen wir unser Netzwerk vor und berichten\, wie wir zusammenarbeiten\, was gut funktioniert und wo es schwierig ist. Habt ihr eigene Erfahrungen? Dann lasst uns darüber austauschen\, was Netzwerkarbeit gelingen lässt!\nEs gibt kein Patentrezept für gemeinschaftliches Handeln\, aber viel zu lernen. \nIm zweiten Teil des Workshops laden wir euch ein\, uns eure nachhaltige Unternehmung vorzustellen. Wollt ihr ein Unternehmen oder eine Initiative starten oder diese ausbauen? Wir bieten Hilfestellung und Orientierung bei offenen Fragen oder der Suche nach Partnern. Wir finden für euch die passende Expertin aus Wirtschaft\, Wissenschaft\, Zivilgesellschaft oder Verwaltung. \nReferent:innen:\nDr. Sophie Kühling\, Netzwerksprecherin „Nachhaltigkeit in der Wirtschaft“; IHK Halle-Dessau\nSven Sommer\, mittelstand-digital Zentrum Leipzig-Halle\, Handwerkskammer Halle (Saale)\nAndreas Dockhorn\, Fraunhofer-Zukunftsstiftung\nDr. Daria Meyr\, Hochschule Anhalt \n  \nNachhaltig kommunizieren – raus aus der Bubble\, wie geht das?\nKohleausstieg\, Transformation in eine postfossile Kreislaufwirtschaft in der Stadt\, auf dem Land und im Fluss… dafür braucht es gute Erzählungen! \nIhr habt Projekte\, die nachhaltig sind oder werden wollen\, sich aber schwer tun\, Sichtbarkeit\, Akzeptanz oder Beteiligung zu bekommen? Ihr sucht kreative Mitstreiter:innen\, die mit Euch gemeinsam aktiv werden? Arbeitet Ihr in einer Bubble\, die versucht\, Bodenhaftung im Revier\, bei der Bevölkerung zu bekommen?\nWie schaffen wir nicht nur grünes Labeling und kurze Interventionen\, sondern langfristige Wirkung mit guter Nachhaltigkeitskommunikation? \nWir geben Einblicke in Forschungsansätze\, Methoden\, gute und schlechte Beispiele und möchten mit Euch an Euren konkreten Themen und Anliegen arbeiten. \nReferentinnen:\nIlka Bickmann\, Science Cube – Kompetenzzentrum für Wissenschaftskommunikation c/o science2public e.V.\nSabine Falk\, losmachen e.V. \n  \nStrukturen durch Kooperationen wandeln \nEine lebendige Oase\, ein Permakulturgarten und eine Mitmach-Gemüseversorgung als Modell zukunftsfähiger Landwirtschaft zwischen Land und Stadt\, ein Refugium für allerlei wilde und genutzte Tiere und Pflanzen… und das Ganze gestaltet von den Großen und Kleinen\, die es besuchen… das ist unsere Idee. \nDer Kinderbauernhof ist ein Beispiel für verschiedenste Zusammenspiele\, für die Schwierigkeit der Anbindung an den öffentlichen Nahverkehr\, für bürokratische Hürden… und für die Schönheit gemeinsamen Wirkens. Wir geben Einblicke in unsere Erfahrungen und in unsere pädagogischen Konzepte. \nReferent:innen:\nUndine Günther\, Kinderbauernhof Stichelsdorf\nRené Zimmermann\, „Circle“ – regionale Gemüseversorgung \n \n  \n————————————– \nM A R K T P L A T Z\n————————————– \nSneak Peek: ein Marktplatz „Gute Geschäfte fürs Klima“ demnächst auch in Halle!\nBereit für eine ungewöhnliche Begegnung? Der Marktplatz „Gute Geschäfte fürs Klima“ bringt Unternehmen und gemeinnützige Organisationen zusammen – jedoch in einem ganz besonderen Format. In einer marktähnlichen Atmosphäre werden Kontakte geknüpft und kreative Ideen für mehr Klima- und Umweltschutz entwickelt. \nDas Besondere: Auf dem Marktplatz „Gute Geschäfte fürs Klima“ darf über alles gesprochen werden\, nur nicht über Geld! Diese Herangehensweise schafft Kreativität für gemeinsame Projekte und Vorhaben\, die weit über finanzielle Unterstützung hinausgehen. In diesem Sneak Peek gibt es einen ersten Einblick in das Format\, bevor wir dann ab 2025 richtig mit einem ersten Marktplatz starten wollen – gern mit Euch\, seid Ihr dabei? \nReferentin: Christine Sattler\, Freiwilligen-Agentur Halle-Saalkreis e.V. \n  \n  \nDer Werkstatt-Brunch wird gefördert durch die HALLIANZ für Vielfalt. \n 
URL:https://lange-wochen.de/termine/zusammenspiel-werkstatt-brunch/
LOCATION:Stiftsgut Stichelsdorf\, Stichelsdorfer Straße 24\, Landsberg
CATEGORIES:Vernetzung,Workshop,Zentralveranstaltung
ATTACH;FMTTYPE=image/jpeg:https://lange-wochen.de/wp-content/uploads/2024/09/werkstattbrunch.jpg
END:VEVENT
BEGIN:VEVENT
DTSTART;TZID=Europe/Berlin:20240927T133000
DTEND;TZID=Europe/Berlin:20240928T140000
DTSTAMP:20260422T120637
CREATED:20240829T133434Z
LAST-MODIFIED:20250812T102809Z
UID:7394-1727443800-1727532000@lange-wochen.de
SUMMARY:FUTURE LAB: Chemische Transformation
DESCRIPTION:Von schmutzigen Altlasten zu einer sauberen Zukunft? \nWer Nachts auf der A38 am Geiseltalsee vorbeifährt\, kann auf der anderen Seite die imposanten Leuna Werke schon mal im Himmel blinken sehen. Seit 1919 hat sich hier der größte Chemiestandort Ostdeutschlands etabliert. Produkte der Chemie-Industrie wie Dünger\, Plastik oder Shampoo sind zentral für unseren Alltag. Gleichzeitig hat die Chemie-Industrie aus sozial-ökologischer Perspektive keinen guten Ruf. Sie brauche zu viel Energie\, ist schmutzig und einfach nicht nachhaltig. \nIn diesem Future Lab wollen wir uns das mal aus der Nähe anschauen und der Frage nachgehen\, wie eine zukunftsorientierte Chemie-Industrie in der Region aussehen kann. Dafür werden wir das Leuna-Gelände bei einer Rundfahrt erkunden\, in Workshops die Frage einer sozial und ökologisch nachhaltigen Chemie-Industrie bearbeiten und mit Gästen über das Thema diskutieren. Zugesagt haben: \nLisa-Maria Okken\, Policy Advisor Klima & Energie bei WWF\nProf. Dr. Thomas Martin\, Professur für Verfahrenstechnik / Mechanische & Thermische Prozesse an der HS Merseburg\nSebastian Striegel (BÜNDNIS 90/DIE GRÜNEN) – Politikwissenschaftler\, Mitglied des Landtags von Sachsen-Anhalt \nÜbernachten werden wir in der Zirkuskirche in Großkayna. Und neben spannenden Informationen und Diskussionen wird es abends genug Zeit geben\, die anderen kennen zu lernen\, gemeinsam Spiele zu spielen und Spaß zu haben\, zusammen zu kochen und zu essen. \nDie Plätze sind begrenzt! Anmeldung bis spätestens 12.09 möglich. Die Veranstaltung richtet sich schwerpunktmäßig an junge Menschen im Altersbereich 16-27 Jahre.
URL:https://lange-wochen.de/termine/sauberen-zukunft/
LOCATION:Leuna/Braunsbedra
CATEGORIES:Führung,Saalekreis,Workshop
ATTACH;FMTTYPE=image/jpeg:https://lange-wochen.de/wp-content/uploads/2024/08/Chemiepark_Leuna_Sachsen-Anhalt-uai-720x480-1.jpg
END:VEVENT
BEGIN:VEVENT
DTSTART;TZID=Europe/Berlin:20240927T150000
DTEND;TZID=Europe/Berlin:20240927T170000
DTSTAMP:20260422T120637
CREATED:20240905T100701Z
LAST-MODIFIED:20250812T102803Z
UID:7592-1727449200-1727456400@lange-wochen.de
SUMMARY:Upcycling Kinder-Werkstatt
DESCRIPTION:Die beliebte UpcyclingKinderWerkstatt zeigt sich mit immer wieder neuen beschwingten Ideen für die Kleinen – und die Großen. In 2024 steht die UKW immer wieder im Zeichen eines anderen Materials\, welches mit euch zusammen erkundet werden kann. \nZusammenspiel im September: Während der Deutschen Aktionstage Nachhaltigkeit herrscht natürlich im krimZkrams wieder emsiges Treiben. Das Motto in diesem Jahr „Zusammenspiel“ nehmen wir auch in der UKW zum Anlass\, verschiedene Dinge aus der Natur mit den Materialien unserer Sammlung zusammenzubringen. \nDiesmal: Stempelspielerei \nEltern sind zur UKW herzlich eingeladen und für die Sicherheit Ihrer Kinder dort verantwortlich. Die Teilnahme für Eltern und Kids ist kostenfrei. Über kleine Spenden freuen wir uns. \nEine Voranmeldung ist für jede Veranstaltung der UKW bis spätestens Mittwoch der laufenden Woche erforderlich! Bitte meldet euch über das Anmeldeformular an. Wir bitte Eltern darum\, max. 3 Kinder auf einmal anzumelden\, damit auch andere eine Chance haben dabei zu sein. \nAlle Aktualisierung dazu findet ihr hier im Programm\, auf Insta und natürlich im Schaufenster des krimZkrams.
URL:https://lange-wochen.de/termine/upcycling-kinder-werkstatt-2/
LOCATION:Krimzkrams\, Beesener Straße 237\, Halle\, Deutschland
CATEGORIES:Angebot für Kinder,Spiel,Workshop
ATTACH;FMTTYPE=image/png:https://lange-wochen.de/wp-content/uploads/2024/09/krimzkrams.png
END:VEVENT
BEGIN:VEVENT
DTSTART;TZID=Europe/Berlin:20240927T160000
DTEND;TZID=Europe/Berlin:20240927T173000
DTSTAMP:20260422T120637
CREATED:20240919T100456Z
LAST-MODIFIED:20250812T102757Z
UID:7794-1727452800-1727458200@lange-wochen.de
SUMMARY:Ein Theaterexperiment zu Liebe und  Konsens und der Frage: was hat das mit Nachhaltigkeit zu tun?
DESCRIPTION:Das Theaterstück MIAU über Körper\, Liebe\, Beziehungen und Grenzen soll gemeinsam weitergedacht werden und einen Forschungsraum eröffnen in Bezug auf Artenvielfalt und Nachhaltigkeit. \nZu Beginn standen Fragen wie: \nWie fühlt sich verliebt sein an? Welche Berührung mag ich und welche nicht? Was kann ich tun\, wenn eine Person mein Nein nicht akzeptiert? Welche Beziehungen in meinem Leben sind mir wichtig und wie möchte ich sie leben? Das MIAU-Team hat sich mit Jugendlichen zu diesen Fragen ausgetauscht und daraus ein Theaterstück für junges Publikum gemacht. \nDer aktuelle Stand des Theaterexperiments wird vorgestellt und das Publikum eingeladen\, zusammen weiterzudenken: \nWas hat Liebe mit Nachhaltigkeit zu tun? Wie verorte ich mich als ökologisches Selbst in Bezug zu meiner Mitwelt? Wie kann ich Fürsorge und Zuneigung auf Naturschutz und Klima-Aspekte erweitern? Welchen Beitrag kann Theater zum Themaartenvielfalt leisten? \nAus den gemeinsam entwickelten Fragen und Ideen soll eine Weiterentwicklung des Projekts unterstützt werden\, die im Frühjahr /Sommer 2025 mit Aufführungen im öffentlichen Raum abschließt. \nEmpfohlen ab 12 Jahren\, deutsche und z.T. englische Lautsprache
URL:https://lange-wochen.de/termine/ein-theaterexperiment-zu-liebe-und-konsens-und-der-frage-was-hat-das-mit-nachhaltigkeit-zu-tun/
LOCATION:Hintereingang Künstlerhaus 188\, Böllberger Weg 188\, 06110 Halle\, Sachsen Anhalt\, 06110\, Germany
CATEGORIES:Experiment,Gespräch,Theater
ATTACH;FMTTYPE=image/jpeg:https://lange-wochen.de/wp-content/uploads/2024/09/MIAU_c_leonieohlow.jpg
ORGANIZER;CN="Spielwerkzeug":MAILTO:spielwerkzeug@protonmail.com
END:VEVENT
BEGIN:VEVENT
DTSTART;TZID=Europe/Berlin:20240927T170000
DTEND;TZID=Europe/Berlin:20240927T190000
DTSTAMP:20260422T120637
CREATED:20240905T115401Z
LAST-MODIFIED:20250812T102752Z
UID:7606-1727456400-1727463600@lange-wochen.de
SUMMARY:Workshop: Kulturelle Mehrfachzugehörigkeiten als Ressourcen erkennen
DESCRIPTION:Interkulturelle Woche im Saalekreis \nVom 21.09. bis 29.09.2024 findet die Interkulturelle Woche im Saalekreis unter dem Motto „Neue Räume“ statt. \nImmer mehr Menschen fühlen sich mehreren Kulturen gleichzeitig zugehörig und vereinen diese in ihrem Alltag. Diese Vielfalt verändert unsere Gesellschaft. Was bedeutet diese Veränderung für uns alle? Welche Sorgen und Hoffnungen sind damit verbunden? Wie wirkt sich dies auf das Verständnis von Integration aus? Der Workshop möchte dazu beitragen\, kulturelle Mehrfachzugehörigkeiten als Ressource zu erkennen\, sowie hybride Identitäten und ihre Träger*innen als gesellschaftliches Potential anzuerkennen. \nReferentin: Vanessa Probst\, Sozialarbeiterin und Soziologin\, Prokuristin und Projektleiterin bei BiSI – Bildung und Soziale Innovation gGmbH in Kassel
URL:https://lange-wochen.de/termine/workshop-kulturelle-mehrfachzugehoerigkeiten-als-ressourcen-erkennen/
LOCATION:Evangelischer Kirchenkreis Merseburg\, Hälterstr. 30\, Merseburg\, 06217
CATEGORIES:Workshop
ORGANIZER;CN="Evangelischer Kirchenkreis Merseburg":MAILTO:soeren.am-ende@ekmd.de
END:VEVENT
BEGIN:VEVENT
DTSTART;TZID=Europe/Berlin:20240927T170000
DTEND;TZID=Europe/Berlin:20240927T190000
DTSTAMP:20260422T120637
CREATED:20240918T182657Z
LAST-MODIFIED:20250812T102747Z
UID:7743-1727456400-1727463600@lange-wochen.de
SUMMARY:Dragon Dreaming
DESCRIPTION:Projekt-Management für kollektive Kreativität und nachhaltigen Erfolg \nAus eigener 12 jähriger Erfahrung mit Gruppen und Projekten sowie der Nutzung von Dragon Dreaming als eines der für mich wichtigsten Projekt-Tools möchte ich euch eine Einführung ins „Dragon Dreaming“ geben. \nIch stelle ich euch die Grundzüge des Dragon Dreaming vor. Dazu gehört die Philosophie sowie der Projekt-Kreislauf. Ich zeige am Beispiel des Crummes Ecks (Lebensmittelretterladen) auf\, wie sich ein Projekt-Kreislauf in eine Spirale verwandeln lässt und was dieses „träumen“ eigentlich bringt bzw. wie man diese unterschätzte Kraft gemeinsam nutzt\, um das WandelPotenzial deines TRaumes bzw. eurer Gruppe in Entfaltung zu bringen. \nMelde dich bitte an unter: zukunft@wandelspace.de\n(Plätze sind begrenzt) \nIch freu mich auf Dich!\nLiebe Grüße\, Felix.
URL:https://lange-wochen.de/termine/dragon-dreaming/
LOCATION:WandelSpace\, Lessingstraße 29\, Halle/Saale\, 06114
CATEGORIES:Vortrag/Diskussion,Workshop
ATTACH;FMTTYPE=image/png:https://lange-wochen.de/wp-content/uploads/2024/09/Dragon-Dreaming.png
END:VEVENT
END:VCALENDAR