BEGIN:VCALENDAR
VERSION:2.0
PRODID:-//Lange Wochen der Nachhaltigkeit - ECPv6.15.11//NONSGML v1.0//EN
CALSCALE:GREGORIAN
METHOD:PUBLISH
X-WR-CALNAME:Lange Wochen der Nachhaltigkeit
X-ORIGINAL-URL:https://lange-wochen.de
X-WR-CALDESC:Veranstaltungen für Lange Wochen der Nachhaltigkeit
REFRESH-INTERVAL;VALUE=DURATION:PT1H
X-Robots-Tag:noindex
X-PUBLISHED-TTL:PT1H
BEGIN:VTIMEZONE
TZID:Europe/Berlin
BEGIN:DAYLIGHT
TZOFFSETFROM:+0100
TZOFFSETTO:+0200
TZNAME:CEST
DTSTART:20230326T010000
END:DAYLIGHT
BEGIN:STANDARD
TZOFFSETFROM:+0200
TZOFFSETTO:+0100
TZNAME:CET
DTSTART:20231029T010000
END:STANDARD
BEGIN:DAYLIGHT
TZOFFSETFROM:+0100
TZOFFSETTO:+0200
TZNAME:CEST
DTSTART:20240331T010000
END:DAYLIGHT
BEGIN:STANDARD
TZOFFSETFROM:+0200
TZOFFSETTO:+0100
TZNAME:CET
DTSTART:20241027T010000
END:STANDARD
BEGIN:DAYLIGHT
TZOFFSETFROM:+0100
TZOFFSETTO:+0200
TZNAME:CEST
DTSTART:20250330T010000
END:DAYLIGHT
BEGIN:STANDARD
TZOFFSETFROM:+0200
TZOFFSETTO:+0100
TZNAME:CET
DTSTART:20251026T010000
END:STANDARD
END:VTIMEZONE
BEGIN:VEVENT
DTSTART;TZID=Europe/Berlin:20240917T183000
DTEND;TZID=Europe/Berlin:20241012T183000
DTSTAMP:20260422T120504
CREATED:20240830T122241Z
LAST-MODIFIED:20250812T103109Z
UID:7469-1726597800-1728757800@lange-wochen.de
SUMMARY:Ganz andere Wärme / Was ist\, wenn du warst? Ausstellung
DESCRIPTION:Ganz andere Wärme – Karla Zipfel\nEin Gründerzeitbau\, eine WBS70 Platte\, ein Bauernhaus und ein postmodernes Mehrfamilienhaus aus der Nachwendezeit – Karla Zipfel beschäftigt sich mit sozialem Wandel des Landkreises Mansfeld-Südharz und der Stadt Halle anhand archetypischer Wohnhäuser\, ihrer Fassaden und Heizquellen.\nEs entsteht eine Installation\, die mit Modellen von Gebäuden und Heizkreisläufen auf die Verflechtungen von sozialer und physikalischer Wärme verweist. Ob Öl- und Gasheizung\, Holzofen\, Wärmepumpe oder Solarenergie\, Wärme führt nicht zwangsläufig zu sozialem Kitt. \nWas ist\, wenn du warst? – Carla Lou West\nEinst als unbelebte Materie und Abfallprodukt verkannt\, wandelten sich die Halden des Mansfelder Landes zu lebendigen Orten. Pflanzen und Tiere bevölkerten sie\, und die Bewohner:innen entdeckten sie neu: als Wanderziele\, Schießplätze oder als Treffpunkt für Kultur und Gemeinschaft. Seit 2038 findet jährlich das Haldenfest statt\, bei dem die Halden als Wahrzeichen des Bergbaus in einer feierlichen Prozession umrundet werden.\nDoch nun sollen die 19 größten von ihnen abgetragen werden – darunter eine Schlackenhalde\, eine Kalihalde und 17 Schieferhalden. Die höchsten erreichten bis zu 153 Meter.\nIn einer fiktionalen Erzählung untersucht Carla Lou West die Halden als schützenswerte Denkmäler und beleuchtet so die Verbindung von Vergangenheit\, Gegenwart und Zukunft. \nEröffnung: Dienstag\, 17.9. 18:30\nÖffnungszeiten: Dienstag bis Samstag 11:00-18:30\nEintritt frei
URL:https://lange-wochen.de/termine/ganz-andere-waerme/
LOCATION:Große Ulrichstr. 13\, Halle (Saale)\, 06108
CATEGORIES:Ausstellung
ATTACH;FMTTYPE=image/jpeg:https://lange-wochen.de/wp-content/uploads/2024/08/carla_westphaelinger.jpg
END:VEVENT
BEGIN:VEVENT
DTSTART;VALUE=DATE:20240920
DTEND;VALUE=DATE:20241004
DTSTAMP:20260422T120504
CREATED:20240829T191914Z
LAST-MODIFIED:20250812T102958Z
UID:7409-1726790400-1727999999@lange-wochen.de
SUMMARY:Interkulturelle Woche 2024
DESCRIPTION:Die Interkulturelle Woche 2024 steht unter dem Motto „Neue Räume“. Neue Räume zu öffnen und die Bereitschaft mitzubringen\, diese zu betreten\, um Vorurteile abzubauen und Brücken der Verständigung zu errichten\, das sind und bleiben die wichtigsten Ziele der Interkulturellen Woche.  \nNeue Räume zu schaffen\, geistige wie reale Begegnungsorte\, dies bleibt auch elementar für alle Bemühungen\, eine tolerante Gesellschaft zu erhalten\, in der die Menschenrechte geachtet werden; in der gegenseitiger Respekt und die Achtung der Würde des Einzelnen Eckpfeiler des Miteinanders sind.   \nDiese demokratischen Werte hochzuhalten und zu bewahren muss selbstverständlich bleiben\, damit unsere Gesellschaft\, unsere Stadt Halle (Saale) auch in der Zukunft lebenswert bleibt.  \nMit zahlreichen Veranstaltungen\, Ausstellungen\, Diskussionen\, Lesungen und Workshops ist die Interkulturelle Woche ein bemerkenswerter Ausdruck für die Stärke demokratischer Strukturen und die vielfältige Stadtgesellschaft.   \nIn Halle (Saale) haben Menschen aus rund 150 Ländern ihr Zuhause. Sie leben und bereichern unsere Stadt. Doch diese Vielfalt funktioniert nur\, wenn wir uns weiter für das Miteinander einsetzen. Den jeweils anderen kennenzulernen\, ist auch das wirkungsvollste Mittel\, um Vorurteile abzubauen und um Rassismus und Fremdenfeindlichkeit wirkungsvoll entgegenzutreten.
URL:https://lange-wochen.de/termine/interkulturelle-woche-2024/
LOCATION:Halle
CATEGORIES:Veranstaltung
ATTACH;FMTTYPE=image/png:https://lange-wochen.de/wp-content/uploads/2024/08/01-Vielsprachig_680x480_2.png
END:VEVENT
BEGIN:VEVENT
DTSTART;TZID=Europe/Berlin:20241003T080000
DTEND;TZID=Europe/Berlin:20241003T100000
DTSTAMP:20260422T120504
CREATED:20240918T190531Z
LAST-MODIFIED:20250812T102602Z
UID:7767-1727942400-1727949600@lange-wochen.de
SUMMARY:Textilwerkstatt - kommt reparieren!
DESCRIPTION:Im Kulturtreff bietet das krimZkrams immer Kreatives mit Hilfe zur Selbsthilfe für euch. So auch die TextilWerkstatt. Jede/r\, der/die Kleidung\, Taschen\, Vorhänge oder den Lieblingskissenbezug gern reparieren möchte\, aber nicht weiß wie man das anstellt\, der komme einmal monatlich donnerstags zu uns. \nExpertin Ena steht mit unterschiedlichsten Techniken wie Stopfen\, Sticken\, Flicken oder Nähen zur Seite und gibt Hilfe zur Selbsthilfe. Einfach die betroffenen Textilien mitbringen und erlernen\, wie sie zu retten sind. \nDie TextilWerkstatt findet einmal monatlich\, jeweils am 1. Donnerstag statt! \nDie TextilWerkstatt richtet sich (vorrangig) an Jugendliche und Erwachsene\, die Handarbeitstechniken zur Reparatur selbst durchführen möchten! Das Angebot kann einmal oder mehrfach besucht werden und ist kostenfrei. Über Spenden freuen wir uns dennoch immer. \nDie TextilWerkstatt ist Teil des Kulturtreff im krimZkrams und wird gefördert durch die Aktion Mensch.
URL:https://lange-wochen.de/termine/textilwerkstatt-kommt-reparieren/
LOCATION:Krimzkrams\, Beesener Straße 237\, Halle\, Deutschland
CATEGORIES:Workshop
ATTACH;FMTTYPE=image/jpeg:https://lange-wochen.de/wp-content/uploads/2024/09/kommt-reparieren.jpeg
END:VEVENT
BEGIN:VEVENT
DTSTART;TZID=Europe/Berlin:20241003T080000
DTEND;TZID=Europe/Berlin:20241003T170000
DTSTAMP:20260422T120504
CREATED:20240923T162935Z
LAST-MODIFIED:20250812T102619Z
UID:7820-1727942400-1727974800@lange-wochen.de
SUMMARY:Offene Bordtür auf der Make Science Halle
DESCRIPTION:Jeden Donnerstag Offene Bordtür auf der Make Science Halle \nImmer Donnerstags zwischen 16 und 19 Uhr öffnen wir unsere Bordtür und laden euch ein\, einen spannenden Nachmittag mit uns zu verbringen. Bei schönem Wetter ziehen wir mit Keschern und Probegläschen ausgestattet los\, um das Saaleufer zu erkunden. Während das Keschern überwiegend den jüngeren Gästen Freude bereitet\, begeistert das Arbeiten am Mikroskop meist jede Generation. Bei weniger angenehmen Wetter verbringen wir gemütliche Stunden unter Deck und vertreiben uns die Zeit in der Algen-Mitmach-Küche und Basteln mit Algengarn und Fischleder.
URL:https://lange-wochen.de/termine/offene-bordtuer-auf-der-make-science-halle-3/
LOCATION:MakeScienceSchiff\, Anleger 5 Halle Saalepromenade\, Halle (Saale)\, 06114
CATEGORIES:Workshop
ATTACH;FMTTYPE=image/png:https://lange-wochen.de/wp-content/uploads/2024/09/science2public_offene_bordtuer2.png
END:VEVENT
END:VCALENDAR