BEGIN:VCALENDAR
VERSION:2.0
PRODID:-//Lange Wochen der Nachhaltigkeit - ECPv6.15.11//NONSGML v1.0//EN
CALSCALE:GREGORIAN
METHOD:PUBLISH
X-WR-CALNAME:Lange Wochen der Nachhaltigkeit
X-ORIGINAL-URL:https://lange-wochen.de
X-WR-CALDESC:Veranstaltungen für Lange Wochen der Nachhaltigkeit
REFRESH-INTERVAL;VALUE=DURATION:PT1H
X-Robots-Tag:noindex
X-PUBLISHED-TTL:PT1H
BEGIN:VTIMEZONE
TZID:Europe/Berlin
BEGIN:DAYLIGHT
TZOFFSETFROM:+0100
TZOFFSETTO:+0200
TZNAME:CEST
DTSTART:20230326T010000
END:DAYLIGHT
BEGIN:STANDARD
TZOFFSETFROM:+0200
TZOFFSETTO:+0100
TZNAME:CET
DTSTART:20231029T010000
END:STANDARD
BEGIN:DAYLIGHT
TZOFFSETFROM:+0100
TZOFFSETTO:+0200
TZNAME:CEST
DTSTART:20240331T010000
END:DAYLIGHT
BEGIN:STANDARD
TZOFFSETFROM:+0200
TZOFFSETTO:+0100
TZNAME:CET
DTSTART:20241027T010000
END:STANDARD
BEGIN:DAYLIGHT
TZOFFSETFROM:+0100
TZOFFSETTO:+0200
TZNAME:CEST
DTSTART:20250330T010000
END:DAYLIGHT
BEGIN:STANDARD
TZOFFSETFROM:+0200
TZOFFSETTO:+0100
TZNAME:CET
DTSTART:20251026T010000
END:STANDARD
END:VTIMEZONE
BEGIN:VEVENT
DTSTART;TZID=Europe/Berlin:20240917T183000
DTEND;TZID=Europe/Berlin:20241012T183000
DTSTAMP:20260422T120352
CREATED:20240830T122241Z
LAST-MODIFIED:20250812T103109Z
UID:7469-1726597800-1728757800@lange-wochen.de
SUMMARY:Ganz andere Wärme / Was ist\, wenn du warst? Ausstellung
DESCRIPTION:Ganz andere Wärme – Karla Zipfel\nEin Gründerzeitbau\, eine WBS70 Platte\, ein Bauernhaus und ein postmodernes Mehrfamilienhaus aus der Nachwendezeit – Karla Zipfel beschäftigt sich mit sozialem Wandel des Landkreises Mansfeld-Südharz und der Stadt Halle anhand archetypischer Wohnhäuser\, ihrer Fassaden und Heizquellen.\nEs entsteht eine Installation\, die mit Modellen von Gebäuden und Heizkreisläufen auf die Verflechtungen von sozialer und physikalischer Wärme verweist. Ob Öl- und Gasheizung\, Holzofen\, Wärmepumpe oder Solarenergie\, Wärme führt nicht zwangsläufig zu sozialem Kitt. \nWas ist\, wenn du warst? – Carla Lou West\nEinst als unbelebte Materie und Abfallprodukt verkannt\, wandelten sich die Halden des Mansfelder Landes zu lebendigen Orten. Pflanzen und Tiere bevölkerten sie\, und die Bewohner:innen entdeckten sie neu: als Wanderziele\, Schießplätze oder als Treffpunkt für Kultur und Gemeinschaft. Seit 2038 findet jährlich das Haldenfest statt\, bei dem die Halden als Wahrzeichen des Bergbaus in einer feierlichen Prozession umrundet werden.\nDoch nun sollen die 19 größten von ihnen abgetragen werden – darunter eine Schlackenhalde\, eine Kalihalde und 17 Schieferhalden. Die höchsten erreichten bis zu 153 Meter.\nIn einer fiktionalen Erzählung untersucht Carla Lou West die Halden als schützenswerte Denkmäler und beleuchtet so die Verbindung von Vergangenheit\, Gegenwart und Zukunft. \nEröffnung: Dienstag\, 17.9. 18:30\nÖffnungszeiten: Dienstag bis Samstag 11:00-18:30\nEintritt frei
URL:https://lange-wochen.de/termine/ganz-andere-waerme/
LOCATION:Große Ulrichstr. 13\, Halle (Saale)\, 06108
CATEGORIES:Ausstellung
ATTACH;FMTTYPE=image/jpeg:https://lange-wochen.de/wp-content/uploads/2024/08/carla_westphaelinger.jpg
END:VEVENT
BEGIN:VEVENT
DTSTART;TZID=Europe/Berlin:20241004T150000
DTEND;TZID=Europe/Berlin:20241004T170000
DTSTAMP:20260422T120352
CREATED:20240918T192438Z
LAST-MODIFIED:20250812T102613Z
UID:7774-1728054000-1728061200@lange-wochen.de
SUMMARY:UKW: Taschendrachen aus Plastiktüten
DESCRIPTION:Die beliebte UpcyclingKinderWerkstatt zeigt sich mit immer wieder neuen beschwingten Ideen für die Kleinen – und die Großen. In 2024 steht die UKW immer wieder im Zeichen eines anderen Materials\, welches mit euch zusammen erkundet werden kann. \nZusammenspiel im September: Während der Deutschen Aktionstage Nachhaltigkeit herrscht natürlich im krimZkrams wieder emsiges Treiben. Das Motto in diesem Jahr „Zusammenspiel“ nehmen wir auch in der UKW zum Anlass\, verschiedene Dinge aus der Natur mit den Materialien unserer Sammlung zusammenzubringen. \nPlastik: Weiter gehts mit Plastik-Experimenten im Oktober. Alles\, was im Schulranzen sowieso schon überflüssig geworden ist\, darf dann zu neuen nützlichen und schönen Dingen umfunktioniert werden. Damit begrüßen wir en Herbst. \nEltern sind zur UKW herzlich eingeladen und für die Sicherheit Ihrer Kinder dort verantwortlich. Die Teilnahme für Eltern und Kids ist kostenfrei. Über kleine Spenden freuen wir uns. \nEine Voranmeldung ist für jede Veranstaltung der UKW bis spätestens Mittwoch der laufenden Woche erforderlich! Bitte meldet euch über das Anmeldeformular an. Wir bitte Eltern darum\, max. 3 Kinder auf einmal anzumelden\, damit auch andere eine Chance haben dabei zu sein. \nAlle Aktualisierung dazu findet ihr hier im Programm\, auf Insta und natürlich im Schaufenster des krimZkrams. \nDie UpcyclingKinderWerkstatt wird gefördert von der Stadt Halle und der Aktion Mensch. Sie ist daher für alle Teilnehmenden kostenfrei.
URL:https://lange-wochen.de/termine/ukw-taschendrachen-aus-plastiktueten/
LOCATION:Krimzkrams\, Beesener Straße 237\, Halle\, Deutschland
CATEGORIES:Angebot für Kinder,Experiment,Workshop
ATTACH;FMTTYPE=image/png:https://lange-wochen.de/wp-content/uploads/2024/09/krimzkrams.png
END:VEVENT
BEGIN:VEVENT
DTSTART;TZID=Europe/Berlin:20241004T160000
DTEND;TZID=Europe/Berlin:20241004T180000
DTSTAMP:20260422T120352
CREATED:20240918T181717Z
LAST-MODIFIED:20250812T102608Z
UID:7738-1728057600-1728064800@lange-wochen.de
SUMMARY:Strukturen wandeln durch Commoning - oder wie Transformation gelingt
DESCRIPTION:Eng verwoben mit dem Begriff und der Praxis des „Commoning“ ist die daraus hervorgegangene Mustersprache. \nJeden Tag stehen wir auf und machen Kapitalismus. Warum machen wir nicht mal was anderes?\n(David Graeber) \nDiese Mustersprache des Commoning zeigt auf\, wie das gehen kann. Die bisher geschöpften 33 Muster sind Werkzeuge der Transformation. Sie laden ein\, das Miteinander\, die Organisationsstrukturen und die Art des Wirtschaftens zu verändern. \nWir möchten dich herzlich zum 04.10.2024 einladen mit uns gemeinsam die Karten auszuprobieren und ein wenig in das Commons-Universum einzutauchen. \nFelix & Franziska haben jeweils in einer der Commons-Herbst und Sommerschulen teilgenommen und möchten dir darüberhinaus von ihren Praxiserfahrungen mit Commoning berichten. \nWann? 04.10.2024\, 16-18 Uhr (Im Rahmen der LWdN)\nWo? @WandelSpace\, Lessingstraße 29\, 06114 Halle (Saale)\nAnmeldung unter: zukunft@wandelspace.de mit Betreff „Commoning“\n(Plätze sind begrenzt)
URL:https://lange-wochen.de/termine/strukturen-wandeln-durch-commoning/
LOCATION:WandelSpace\, Lessingstraße 29\, Halle/Saale\, 06114
CATEGORIES:Gespräch,Spiel,Treffen,Workshop
ATTACH;FMTTYPE=image/png:https://lange-wochen.de/wp-content/uploads/2024/09/Commons_Schaubild.png
END:VEVENT
BEGIN:VEVENT
DTSTART;TZID=Europe/Berlin:20241004T180000
DTEND;TZID=Europe/Berlin:20241004T200000
DTSTAMP:20260422T120352
CREATED:20240829T132951Z
LAST-MODIFIED:20250812T102558Z
UID:7389-1728064800-1728072000@lange-wochen.de
SUMMARY:Critical Mass
DESCRIPTION:Die Critical Mass (CM) ist eine weltweite stattfindende Aktion\, bei der sich Radfahrer:innen zufällig und unorganisiert treffen\, um mit gemeinsamen Fahrradtouren durch Städte ein Zeichen für mehr Radverkehr als umweltfreundliches Verkehrsmittel zu setzen. Die Teilnehmer:innen protestieren dabei für ihre Rechte als gleichberechtigte Verkehrsteilnehmer\, für eine bessere Infrastruktur und gegen die Vormachtstellung des Autos in Städten. \nBei dieser Aktionsform gibt es keine Organisator:innen oder Hauptverantwortliche. Jede:r Teilnehmer:in ist für sich selbst verantwortlich und trägt denselben Anteil zum Gelingen der CM bei. \nWenn du interessiert bist\, komm einfach zur nächsten CM vorbei\, um zusammen in freundlicher und entspannter Atmosphäre durch die Stadt zu radeln.
URL:https://lange-wochen.de/termine/critical-mass/
LOCATION:August-Bebel-Platz
CATEGORIES:Aktion
ATTACH;FMTTYPE=image/png:https://lange-wochen.de/wp-content/uploads/2024/08/haupt_01.png
ORGANIZER;CN="ADFC Halle":MAILTO:halle @ adfc-sachsenanhalt.de
END:VEVENT
END:VCALENDAR