BEGIN:VCALENDAR
VERSION:2.0
PRODID:-//Lange Wochen der Nachhaltigkeit - ECPv6.15.11//NONSGML v1.0//EN
CALSCALE:GREGORIAN
METHOD:PUBLISH
X-ORIGINAL-URL:https://lange-wochen.de
X-WR-CALDESC:Veranstaltungen für Lange Wochen der Nachhaltigkeit
REFRESH-INTERVAL;VALUE=DURATION:PT1H
X-Robots-Tag:noindex
X-PUBLISHED-TTL:PT1H
BEGIN:VTIMEZONE
TZID:Europe/Berlin
BEGIN:DAYLIGHT
TZOFFSETFROM:+0100
TZOFFSETTO:+0200
TZNAME:CEST
DTSTART:20230326T010000
END:DAYLIGHT
BEGIN:STANDARD
TZOFFSETFROM:+0200
TZOFFSETTO:+0100
TZNAME:CET
DTSTART:20231029T010000
END:STANDARD
BEGIN:DAYLIGHT
TZOFFSETFROM:+0100
TZOFFSETTO:+0200
TZNAME:CEST
DTSTART:20240331T010000
END:DAYLIGHT
BEGIN:STANDARD
TZOFFSETFROM:+0200
TZOFFSETTO:+0100
TZNAME:CET
DTSTART:20241027T010000
END:STANDARD
BEGIN:DAYLIGHT
TZOFFSETFROM:+0100
TZOFFSETTO:+0200
TZNAME:CEST
DTSTART:20250330T010000
END:DAYLIGHT
BEGIN:STANDARD
TZOFFSETFROM:+0200
TZOFFSETTO:+0100
TZNAME:CET
DTSTART:20251026T010000
END:STANDARD
END:VTIMEZONE
BEGIN:VEVENT
DTSTART;TZID=Europe/Berlin:20240917T183000
DTEND;TZID=Europe/Berlin:20241012T183000
DTSTAMP:20260422T120702
CREATED:20240830T122241Z
LAST-MODIFIED:20250812T103109Z
UID:7469-1726597800-1728757800@lange-wochen.de
SUMMARY:Ganz andere Wärme / Was ist\, wenn du warst? Ausstellung
DESCRIPTION:Ganz andere Wärme – Karla Zipfel\nEin Gründerzeitbau\, eine WBS70 Platte\, ein Bauernhaus und ein postmodernes Mehrfamilienhaus aus der Nachwendezeit – Karla Zipfel beschäftigt sich mit sozialem Wandel des Landkreises Mansfeld-Südharz und der Stadt Halle anhand archetypischer Wohnhäuser\, ihrer Fassaden und Heizquellen.\nEs entsteht eine Installation\, die mit Modellen von Gebäuden und Heizkreisläufen auf die Verflechtungen von sozialer und physikalischer Wärme verweist. Ob Öl- und Gasheizung\, Holzofen\, Wärmepumpe oder Solarenergie\, Wärme führt nicht zwangsläufig zu sozialem Kitt. \nWas ist\, wenn du warst? – Carla Lou West\nEinst als unbelebte Materie und Abfallprodukt verkannt\, wandelten sich die Halden des Mansfelder Landes zu lebendigen Orten. Pflanzen und Tiere bevölkerten sie\, und die Bewohner:innen entdeckten sie neu: als Wanderziele\, Schießplätze oder als Treffpunkt für Kultur und Gemeinschaft. Seit 2038 findet jährlich das Haldenfest statt\, bei dem die Halden als Wahrzeichen des Bergbaus in einer feierlichen Prozession umrundet werden.\nDoch nun sollen die 19 größten von ihnen abgetragen werden – darunter eine Schlackenhalde\, eine Kalihalde und 17 Schieferhalden. Die höchsten erreichten bis zu 153 Meter.\nIn einer fiktionalen Erzählung untersucht Carla Lou West die Halden als schützenswerte Denkmäler und beleuchtet so die Verbindung von Vergangenheit\, Gegenwart und Zukunft. \nEröffnung: Dienstag\, 17.9. 18:30\nÖffnungszeiten: Dienstag bis Samstag 11:00-18:30\nEintritt frei
URL:https://lange-wochen.de/termine/ganz-andere-waerme/
LOCATION:Große Ulrichstr. 13\, Halle (Saale)\, 06108
CATEGORIES:Ausstellung
ATTACH;FMTTYPE=image/jpeg:https://lange-wochen.de/wp-content/uploads/2024/08/carla_westphaelinger.jpg
END:VEVENT
BEGIN:VEVENT
DTSTART;TZID=Europe/Berlin:20241005T100000
DTEND;TZID=Europe/Berlin:20241006T160000
DTSTAMP:20260422T120702
CREATED:20240815T164902Z
LAST-MODIFIED:20250812T102546Z
UID:7043-1728122400-1728230400@lange-wochen.de
SUMMARY:Wochenend-Lehmbauworkshop
DESCRIPTION:Handgemachte Lehmstaken und Lehmwickel-Technik\nSa: 10-16 Uhr und So 10-16 Uhr \nDer Workshop bietet nicht nur praktische Übungen\, sondern beinhaltet auch eine Einführung in den ökologischen Lehmbau. Die Schwemme in Halle nimmt dabei eine zentrale Rolle ein\, indem sie Menschen zusammenführt und das Bauen mit natürlichen Baustoffen fördert und vor Ort umsetzt. \nFolgende Inhalte erwarten die Teilnehmenden während des Workshops: Traditionelle Lehmwickel und Lehmstaken in der Anwendung \nDer Workshop wird von Bernd Hesse geleitet. Die Teilnahme an diesem Workshop ist eine ideale Gelegenheit\, um in die Welt des ökologischen Lehmbaus einzutauchen und praktische Erfahrungen zu sammeln. \nLevel: für alle offen – Einsteiger*innen\, die Lehm kennen- und lieben lernen wollen sowie Menschen mit Vorerfahrungen \nWir bieten einen kleinen vegetarischen Mittagsimbiss vor Ort an. \nMelde dich jetzt über die Website der Schwemme an\, um dir einen der Plätze zu sichern.
URL:https://lange-wochen.de/termine/wochenend-lehmbauworkshop/
LOCATION:Schwemme\, An der Schwemme 1\, Halle
CATEGORIES:Workshop
ATTACH;FMTTYPE=image/jpeg:https://lange-wochen.de/wp-content/uploads/2024/08/Schwemme_Lehmbauworkshop.jpg
END:VEVENT
BEGIN:VEVENT
DTSTART;TZID=Europe/Berlin:20241006T150000
DTEND;TZID=Europe/Berlin:20241006T180000
DTSTAMP:20260422T120702
CREATED:20240918T193207Z
LAST-MODIFIED:20250812T102517Z
UID:7776-1728226800-1728237600@lange-wochen.de
SUMMARY:Komm raus\, spiel mit – an Bord!
DESCRIPTION:In Kooperation mit dem Themenjahr 2024 eröffnen wir ein Spielecafé bei uns an Bord der Make Science Halle!\nJeden ersten Sonntag in Monat 15-18 Uhr mit Spielen rund um Stadt – Land – Fluss und mehr. \nDie Make Science Halle eröffnet im Rahmen des aktuellen Themenjahres “Komm raus zum Spielen!” ein neues Spielecafé für Familien\, Kinder und andere Interessierte.\nGespielt werden ausgewählte Spiele rund um unsere Themen Umwelt\, Klima und  Nachhaltigkeit in und am Fluss. Gerne könnt Ihr auch eigene Lieblingsspiele mitbringen! \nDas Spielecafé findet an jedem ersten Sonntag im Monat von 15-18 Uhr auf der Make Science Halle am Riveufer\, Anleger 5\, statt. \nWir bitten um Voranmeldung auf dieser Seite. Die Anmeldung zur Veranstaltung ist kostenlos. \nKommt raus\, spielt mit! Wir bedanken uns bei den Themenjahren für die Kooperation und freuen uns auf Euch!
URL:https://lange-wochen.de/termine/komm-raus-spiel-mit-an-bord/
LOCATION:MakeScienceSchiff\, Anleger 5 Halle Saalepromenade\, Halle (Saale)\, 06114
CATEGORIES:Aktion,Angebot für Kinder,Spiel,Treffen
ATTACH;FMTTYPE=image/jpeg:https://lange-wochen.de/wp-content/uploads/2024/09/spielecafe-makescience.jpeg
END:VEVENT
BEGIN:VEVENT
DTSTART;TZID=Europe/Berlin:20241006T160000
DTEND;TZID=Europe/Berlin:20241006T190000
DTSTAMP:20260422T120702
CREATED:20240918T183447Z
LAST-MODIFIED:20250812T102509Z
UID:7755-1728230400-1728241200@lange-wochen.de
SUMMARY:Achtsames Selbstmitgefühl als Kraftquelle für nachhaltiges Engagement
DESCRIPTION:Engagement und Regeneration sind kein Widerspruch. Nur durch einen regenerativen Umgang mit uns selbst können wir dafür sorgen\, dass wir nachhaltig aktiv bleiben anstatt über die Zeit auszubrennen.\nAchtsames Selbstmitgefühl kann dabei eine Kraftquelle für langfristiges Engagement sein. Uns selbst auch in herausfordernden Zeiten mit Freundlichkeit und Verständnis zu begegnen\, kann zu einem nachhaltigeren Umgang mit unseren eigenen Ressourcen beitragen. \nIn diesem Workshop werden erste Einblicke in das Konzept des „achtsamen Selbstmitgefühls“ vermittelt und praktisch erlebbar gemacht. \nWenn du noch Fragen haben solltest\, schreib mich gern an. \nWenn du teilnehmen willst\, melde dich rechtzeitig an unter:\nregenerativ@riseup.net \n(Die Anzahl der Plätze ist begrenzt.) \nEin Ankommen im Raum bei Tee ist ab 15.45 Uhr möglich. \nIch freu mich auf dich 🙂
URL:https://lange-wochen.de/termine/achtsames-selbstmitgefuehl/
LOCATION:WandelSpace\, Lessingstraße 29\, Halle/Saale\, 06114
CATEGORIES:Regeneration,Workshop
ATTACH;FMTTYPE=image/png:https://lange-wochen.de/wp-content/uploads/2024/09/LWdN-Selbstmitgefuehl.png
END:VEVENT
END:VCALENDAR