BEGIN:VCALENDAR
VERSION:2.0
PRODID:-//Lange Wochen der Nachhaltigkeit - ECPv6.15.11//NONSGML v1.0//EN
CALSCALE:GREGORIAN
METHOD:PUBLISH
X-WR-CALNAME:Lange Wochen der Nachhaltigkeit
X-ORIGINAL-URL:https://lange-wochen.de
X-WR-CALDESC:Veranstaltungen für Lange Wochen der Nachhaltigkeit
REFRESH-INTERVAL;VALUE=DURATION:PT1H
X-Robots-Tag:noindex
X-PUBLISHED-TTL:PT1H
BEGIN:VTIMEZONE
TZID:Europe/Berlin
BEGIN:DAYLIGHT
TZOFFSETFROM:+0100
TZOFFSETTO:+0200
TZNAME:CEST
DTSTART:20240331T010000
END:DAYLIGHT
BEGIN:STANDARD
TZOFFSETFROM:+0200
TZOFFSETTO:+0100
TZNAME:CET
DTSTART:20241027T010000
END:STANDARD
BEGIN:DAYLIGHT
TZOFFSETFROM:+0100
TZOFFSETTO:+0200
TZNAME:CEST
DTSTART:20250330T010000
END:DAYLIGHT
BEGIN:STANDARD
TZOFFSETFROM:+0200
TZOFFSETTO:+0100
TZNAME:CET
DTSTART:20251026T010000
END:STANDARD
BEGIN:DAYLIGHT
TZOFFSETFROM:+0100
TZOFFSETTO:+0200
TZNAME:CEST
DTSTART:20260329T010000
END:DAYLIGHT
BEGIN:STANDARD
TZOFFSETFROM:+0200
TZOFFSETTO:+0100
TZNAME:CET
DTSTART:20261025T010000
END:STANDARD
END:VTIMEZONE
BEGIN:VEVENT
DTSTART;TZID=Europe/Berlin:20250920T100000
DTEND;TZID=Europe/Berlin:20250921T160000
DTSTAMP:20260421T101836
CREATED:20250919T131127Z
LAST-MODIFIED:20250919T131127Z
UID:8499-1758362400-1758470400@lange-wochen.de
SUMMARY:Wochenend-Lehmbauworkshop: Lehmputze mit Andreas Wugk
DESCRIPTION:Workshop mit dem Fokus auf die praktische Anwendung von Lehmputzen und Außenputz (Fachwerk) \nDer Workshop bietet nicht nur praktische Übungen\, sondern beinhaltet auch eine kurze Einführung in den ökologischen Lehmbau. Die Schwemme in Halle nimmt dabei eine zentrale Rolle ein\, indem sie Menschen zusammenführt und das Bauen mit natürlichen Baustoffen fördert und vor Ort umsetzt. Es gibt ausreichend Möglichkeiten individuelle Fragen zu stellen. \nFolgende Inhalte erwarten die Teilnehmenden während des Workshops: Lehmputze kennenlernen und verschiedene Techniken anwenden sowie witterungsbeständige Außenputze auf Fachwerkausfachungen.  \nDer Fokus in diesem Workshop liegt auf der Anwendung und dem Ausprobieren. \nDer Workshop wird von Andreas Wugk geleitet. zur Webseite \nLevel: für alle offen – Einsteiger*innen\, die Lehm kennen- und lieben lernen wollen sowie Menschen mit Vorerfahrungen \nWir bieten einen kleinen Mittagsimbiss vor Ort an. \nJetzt anmelden und einen der Plätze sichern!\nDas Projekt LEHM-BAU-KULTUR wird von der Europäischen Union gefördert.
URL:https://lange-wochen.de/termine/wochenend-lehmbauworkshop-lehmputze-mit-andreas-wugk/
LOCATION:Schwemme\, An der Schwemme 1\, Halle
CATEGORIES:Workshop
ATTACH;FMTTYPE=image/jpeg:https://lange-wochen.de/wp-content/uploads/2025/09/image-20250808131307-1.jpeg
END:VEVENT
END:VCALENDAR