BEGIN:VCALENDAR
VERSION:2.0
PRODID:-//Lange Wochen der Nachhaltigkeit - ECPv6.15.11//NONSGML v1.0//EN
CALSCALE:GREGORIAN
METHOD:PUBLISH
X-WR-CALNAME:Lange Wochen der Nachhaltigkeit
X-ORIGINAL-URL:https://lange-wochen.de
X-WR-CALDESC:Veranstaltungen für Lange Wochen der Nachhaltigkeit
REFRESH-INTERVAL;VALUE=DURATION:PT1H
X-Robots-Tag:noindex
X-PUBLISHED-TTL:PT1H
BEGIN:VTIMEZONE
TZID:Europe/Berlin
BEGIN:DAYLIGHT
TZOFFSETFROM:+0100
TZOFFSETTO:+0200
TZNAME:CEST
DTSTART:20240331T010000
END:DAYLIGHT
BEGIN:STANDARD
TZOFFSETFROM:+0200
TZOFFSETTO:+0100
TZNAME:CET
DTSTART:20241027T010000
END:STANDARD
BEGIN:DAYLIGHT
TZOFFSETFROM:+0100
TZOFFSETTO:+0200
TZNAME:CEST
DTSTART:20250330T010000
END:DAYLIGHT
BEGIN:STANDARD
TZOFFSETFROM:+0200
TZOFFSETTO:+0100
TZNAME:CET
DTSTART:20251026T010000
END:STANDARD
BEGIN:DAYLIGHT
TZOFFSETFROM:+0100
TZOFFSETTO:+0200
TZNAME:CEST
DTSTART:20260329T010000
END:DAYLIGHT
BEGIN:STANDARD
TZOFFSETFROM:+0200
TZOFFSETTO:+0100
TZNAME:CET
DTSTART:20261025T010000
END:STANDARD
END:VTIMEZONE
BEGIN:VEVENT
DTSTART;TZID=Europe/Berlin:20251007T073000
DTEND;TZID=Europe/Berlin:20251007T081000
DTSTAMP:20260422T120505
CREATED:20250910T123838Z
LAST-MODIFIED:20250915T100943Z
UID:8409-1759822200-1759824600@lange-wochen.de
SUMMARY:Hallenser Fahrradbus
DESCRIPTION:Der Hallenser Fahrradbus fährt seit nunmehr drei Jahren mit Kindergartenkindern\, Schüler*innen aus drei Schulen\, begleitenden Eltern und Pädagog*innen an jedem Dienstag in der Schulzeit gemeinsam zur Saaleschule und zum Bildungshaus Riesenklein. Er findet in Kooperation mit dem ADFC statt und ist zu einer festen Größe für eine gelebte Mobilitätswende und sichere Kinder- und Jugendmobilität in Halle (Saale) geworden. \nMit dem Fahrradbus wird für eine sichere Radinfrastruktur in Halle demonstriert. Ziel ist es\, dass alle in der Stadt sicher mit dem Rad zur Kita und im besten Fall irgendwann auch ohne Begleitung zur Schule kommen können. Das ist angesichts fehlender Radwege\, unsicherer Straßen\, auf Radwegen und im Kreuzungsbereich illegal parkender Autos und unzureichender Maßnahmen zum Schutz von Radfahrenden bisher nicht möglich. \nAls Hallenser Fahrradbus sind wir Teil der internationalen Bicibus-Bewegung für eine Stadt\, in der alle Menschen ohne Angst und klimaneutral mobil sein können. \nDie Fahrt beginnt 7:30 Uhr am August-Bebel-Platz. Man kann auf der weiteren Route mit dem Rad jederzeit „einsteigen“. Herzlich willkommen!
URL:https://lange-wochen.de/termine/hallenser-fahrradbus3/
LOCATION:August-Bebel-Platz
CATEGORIES:Angebot für Kinder,Fahrrad
ATTACH;FMTTYPE=image/jpeg:https://lange-wochen.de/wp-content/uploads/2025/09/Profil_Fahrradbus-Fotoangabe-Falk-Wenzel.jpg
ORGANIZER;CN="ADFC Halle":MAILTO:halle @ adfc-sachsenanhalt.de
END:VEVENT
BEGIN:VEVENT
DTSTART;TZID=Europe/Berlin:20251007T170000
DTEND;TZID=Europe/Berlin:20251007T190000
DTSTAMP:20260422T120505
CREATED:20250919T132258Z
LAST-MODIFIED:20250919T132258Z
UID:8509-1759856400-1759863600@lange-wochen.de
SUMMARY:After-Work-Arbeitseinsatz
DESCRIPTION:Komm zum kleinen Einsatz am Abend! \nImmer dienstags treffen wir uns zum kleinen Arbeitseinsatz vor Ort. Was ansteht\, klären wir gemeinsam direkt vor Ort. \nDas kann auch mal die Vorbereitung einer Veranstaltung sein\, Lehmarbeiten\, leichte Räumungsarbeiten oder die Pflege des Uferbereichs. Bitte bringt Arbeitshandschuhe (falls vorhanden) und festes Schuhwerk mit. \nDa der Einsatz nur durchgeführt wird\, wenn sich genügend Personen anmelden\, melde Dich deshalb bitte hier an: https://schwemme.org/civicrm/event/info/?reset=1&id=551 \nDie Getränke gehen an diesem Abend für Helfer*innen auf uns! \nAnsprechpartner*innen vom Schwemme-Team: Vera & Adrian
URL:https://lange-wochen.de/termine/after-work-arbeitseinsatz-5/
LOCATION:Schwemme\, An der Schwemme 1\, Halle
CATEGORIES:Aktion,Treffen,Veranstaltung
ATTACH;FMTTYPE=image/jpeg:https://lange-wochen.de/wp-content/uploads/2025/09/IMG-20250428-WA0004.jpg
END:VEVENT
END:VCALENDAR