BEGIN:VCALENDAR
VERSION:2.0
PRODID:-//Lange Wochen der Nachhaltigkeit - ECPv6.15.11//NONSGML v1.0//EN
CALSCALE:GREGORIAN
METHOD:PUBLISH
X-WR-CALNAME:Lange Wochen der Nachhaltigkeit
X-ORIGINAL-URL:https://lange-wochen.de
X-WR-CALDESC:Veranstaltungen für Lange Wochen der Nachhaltigkeit
REFRESH-INTERVAL;VALUE=DURATION:PT1H
X-Robots-Tag:noindex
X-PUBLISHED-TTL:PT1H
BEGIN:VTIMEZONE
TZID:Europe/Berlin
BEGIN:DAYLIGHT
TZOFFSETFROM:+0100
TZOFFSETTO:+0200
TZNAME:CEST
DTSTART:20240331T010000
END:DAYLIGHT
BEGIN:STANDARD
TZOFFSETFROM:+0200
TZOFFSETTO:+0100
TZNAME:CET
DTSTART:20241027T010000
END:STANDARD
BEGIN:DAYLIGHT
TZOFFSETFROM:+0100
TZOFFSETTO:+0200
TZNAME:CEST
DTSTART:20250330T010000
END:DAYLIGHT
BEGIN:STANDARD
TZOFFSETFROM:+0200
TZOFFSETTO:+0100
TZNAME:CET
DTSTART:20251026T010000
END:STANDARD
BEGIN:DAYLIGHT
TZOFFSETFROM:+0100
TZOFFSETTO:+0200
TZNAME:CEST
DTSTART:20260329T010000
END:DAYLIGHT
BEGIN:STANDARD
TZOFFSETFROM:+0200
TZOFFSETTO:+0100
TZNAME:CET
DTSTART:20261025T010000
END:STANDARD
END:VTIMEZONE
BEGIN:VEVENT
DTSTART;TZID=Europe/Berlin:20251002T150000
DTEND;TZID=Europe/Berlin:20251002T170000
DTSTAMP:20260422T104927
CREATED:20250910T075847Z
LAST-MODIFIED:20250910T075847Z
UID:8391-1759417200-1759424400@lange-wochen.de
SUMMARY:Frei und Lebendig- Verstecken spielen im Park
DESCRIPTION:Dich erwartet ein interaktiver Workshop\, der Menschen jeden Alters und mit unterschiedlichen Mobilitätsgraden einlädt\, die Freude am Spiel\, der Natur und dem Miteinander zu leben. In einer offenen Atmosphäre spielen wir gemeinsam das klassische Versteckspiel – und das auf kreative Weise! Alle sind eingeladen ihre alltägliche Rolle zu verlassen und sich auf ungewohnte Bewegungsformen und Perspektiven einzulassen. Gemeinsam finden wir heraus was alles möglich ist! \nAnmeldung unter wandelung@riseup.net
URL:https://lange-wochen.de/termine/frei-und-lebendig-verstecken-spielen-im-park/
LOCATION:Amtsgarten\, Seebener Str. 1\, Eingang aus Richtung Burg\, Halle (Saale)\, 06114\, Germany
CATEGORIES:Aktion,Angebot für Kinder,Treffen
ATTACH;FMTTYPE=image/jpeg:https://lange-wochen.de/wp-content/uploads/2025/09/Logo_Verstecken_im_Park_02102025.jpg
ORGANIZER;CN="Helena Wolf":MAILTO:wandelung@riseup.net
END:VEVENT
BEGIN:VEVENT
DTSTART;TZID=Europe/Berlin:20251002T173000
DTEND;TZID=Europe/Berlin:20251002T193000
DTSTAMP:20260422T104927
CREATED:20250930T150635Z
LAST-MODIFIED:20251002T074909Z
UID:8526-1759426200-1759433400@lange-wochen.de
SUMMARY:SCHULE WEITER DENKEN! Doppel-Buchvorstellung mit Nele Hirsch und Jöran Muuß-Merholz
DESCRIPTION:Mitte September 2025 erscheinen fast gleichzeitig zwei neue Bücher\, in denen Schule weiter gedacht wird – wirklich weiter. \nWeiter als die tagesaktuellen Aufregungen über neue KI-Tools.\nWeiter als die Verheißungen auf Arbeitsersparnis und Effizienzgewinne.\nWeiter als die Optimierung von Unterricht und Kontrolle.\nWeiter als bis zum nächsten Schuljahr oder bis zur nächsten Landtagswahl. \nMit ihren druckfrischen Büchern kommen Nele Hirsch 📖 Lerngestaltung weiterdenken. Impulse und Methoden für gutes Lernen im digitalen Wandel. und Jöran Muuß-Merholz 📖 Schule 2035 – Lernen nach Digitalisierung & KI gemeinsam ins Bildungshaus Riesenklein\, um zentrale Aussagen aus ihren Büchern vorzustellen – und gemeinsam mit uns weiter zu denken. \nDenn die große Frage des digitalen Wandels lautet:\n👉 Welches Lernen und welche Schule wollen wir? \n🫖🍪🤝 Bringt gern ein bisschen Geld für Getränke\, Snacks und eine Spende mit. \nKostenlose Anmeldung: https://pretix.eu/riesenklein/weiter-denken \nHereinspaziert und herzlich willkommen!
URL:https://lange-wochen.de/termine/schule-weiter-denken-doppel-buchvorstellung-mit-nele-hirsch-und-joeran-muuss-merholz/
LOCATION:Festsaal im Bildungshaus Riesenklein\, Hoher Weg 4\, Halle (Saale)\, 06120
CATEGORIES:Gespräch,Projektvorstellung,Vortrag/Diskussion
ATTACH;FMTTYPE=image/png:https://lange-wochen.de/wp-content/uploads/2025/09/Logo_Schule-weiter-denken-Doppelbuchvorstellung_0210205-scaled.png
END:VEVENT
BEGIN:VEVENT
DTSTART;TZID=Europe/Berlin:20251004T093000
DTEND;TZID=Europe/Berlin:20251004T130000
DTSTAMP:20260422T104927
CREATED:20250919T132710Z
LAST-MODIFIED:20250919T132710Z
UID:8511-1759570200-1759582800@lange-wochen.de
SUMMARY:Großer Arbeitseinsatz
DESCRIPTION:Unser monatlicher Arbeitseinsatz in der Schwemme. \nKommt zum gemeinsamen Arbeitseinsatz in der Schwemme – immer am letzten Samstag jedes Monats!  \nDie genauen Aufgaben werden im Voraus je nach Verfügbarkeit der Helfer*innen festgelegt. Deswegen ist eine Anmeldung für uns so wichtig. Dann können wir ggf. auch eine Versorgung zum Mittag einplanen. \nEs gibt immer ausreichend zu tun\, daher denkt bitte an wetterfeste Kleidung und robustes Schuhwerk\, das auch schmutzig werden kann. Falls vorhanden\, bringt gerne eure Arbeitsschuhe mit.\nEine vorherige Anmeldung erleichtert uns die Planung des Einsatzes und ermöglicht es uns\, euch über etwaige kurzfristige Änderungen zu informieren. Hier geht’s zur Anmeldung: https://schwemme.org/civicrm/event/info/?reset=1&id=559 \nFalls es Änderungen gibt\, findet ihr diese Informationen immer zuerst auf der Webseite.
URL:https://lange-wochen.de/termine/grosser-arbeitseinsatz/
LOCATION:Schwemme\, An der Schwemme 1\, Halle
CATEGORIES:Treffen,Veranstaltung
ATTACH;FMTTYPE=image/jpeg:https://lange-wochen.de/wp-content/uploads/2025/09/102a4-768.jpg
END:VEVENT
BEGIN:VEVENT
DTSTART;TZID=Europe/Berlin:20251005T100000
DTEND;TZID=Europe/Berlin:20251005T160000
DTSTAMP:20260422T104927
CREATED:20250930T151324Z
LAST-MODIFIED:20250930T151324Z
UID:8530-1759658400-1759680000@lange-wochen.de
SUMMARY:BUND-Streuobsttag am Schloss Dieskau
DESCRIPTION:Buntes Programm zum BUND-Streuobsttag am Schloss Dieskau\nAm Sonntag\, den 5.Oktober 2025\, lädt der BUND Halle/Saalekreis von 10 bis 16 Uhr zum Streuobsttag am Schloss Dieskau ein. Klein und Groß können sich an der Apfelsaftpresse ausprobieren und den Saft verkosten.11 Uhr startet ein informativer Spaziergang zur Streuobstwiese. Eine kleine Führung durch das Dieskauer Schloss findet 12 Uhr statt. Den herbstlichen Schlosspark können Gäste ab 14 Uhr gemeinsam mit Götz Meister vom Förderverein „Park Dieskau“ entdecken. \nDer Verein der Pomologen präsentiert eine Apfelsorten-Ausstellung und bestimmt Apfelsorten der Gäste. Bitte bringe Sie dazu drei bis vier Exemplare pro Sorte mit. \nAuf dem kleinen\, aber feinen Markt könnt Sie regionale Produkte erwerben. Baumschule Richter aus Merseburg bietet Obstbäume und -hölzer zum Verkauf an. Die Bestellung gewünschter Sorten ist im Voraus telefonisch (03461 / 21 07 27) oder per E-Mail (info@baumschule-richter.de) möglich. \nDarüber hinaus wird ein buntes Bastelangebot für Kinder angeboten.
URL:https://lange-wochen.de/termine/bund-streuobsttag-am-schloss-dieskau/
LOCATION:Schloss Dieskau\, Schlossplatz 1\, Kabelsketal\, 06184
CATEGORIES:Aktion,Angebot für Kinder,Fest,Saalekreis,Veranstaltung
ATTACH;FMTTYPE=image/jpeg:https://lange-wochen.de/wp-content/uploads/2025/09/Streuobsttag_05102025-e1759245161694.jpg
END:VEVENT
BEGIN:VEVENT
DTSTART;TZID=Europe/Berlin:20251005T110000
DTEND;TZID=Europe/Berlin:20251005T140000
DTSTAMP:20260422T104927
CREATED:20250904T075657Z
LAST-MODIFIED:20250905T142045Z
UID:8365-1759662000-1759672800@lange-wochen.de
SUMMARY:Gemeinsam Kochen - Wir zaubern ein Sonntagsessen mit geretteten Lebensmitteln
DESCRIPTION:Mit dem Projekt schaffen wir ein Angebot als Begegnungsformat\, was Nachbar:innen und Menschen aus unterschiedlichen Lebenslagen zusammenbringt. \nZiel des Projektes“ Zusammen kochen“ ist es\, im Neumarkt-Quartier einen Begegnungsraum zu etablieren\, um Einsamkeit aktiv entgegenzuwirken und nachbarschaftliches demokratisches Miteinander und ehrenamtliches Engagement zu fördern. Das gemeinsame Zubereiten einer Mahlzeit\, vor allem mit geretteten Lebensmitteln hilft über Nahrungsmittel und unseren Umgang damit Kritisch in Austausch zu kommen. \nDas wöchentliche Angebot soll über die langen Wochen der Nachhaltigkeit hinaus bestehen bleiben.
URL:https://lange-wochen.de/termine/gemeinsam-kochen-wir-zaubern-ein-sonntagsessen-mit-geretteten-lebensmitteln/
LOCATION:Vally Guttmann Gemeinschaftsraum\, Georg-Cantor-Straße 7\, Halle (Saale)\, 06108
CATEGORIES:Aktion,Kochen,Treffen,Vernetzung
ATTACH;FMTTYPE=image/png:https://lange-wochen.de/wp-content/uploads/2025/09/Beige-Green-Organic-Illustrative-Cooking-Class-Flyer.png
END:VEVENT
BEGIN:VEVENT
DTSTART;TZID=Europe/Berlin:20251006T150000
DTEND;TZID=Europe/Berlin:20251006T170000
DTSTAMP:20260422T104927
CREATED:20250917T094233Z
LAST-MODIFIED:20250917T125548Z
UID:8461-1759762800-1759770000@lange-wochen.de
SUMMARY:Dazusetzen & Mitreden - Heide Nord wird 40!
DESCRIPTION:Wir laden ein zum Austausch über Gestern\, Heute und Morgen. \n— \nHeutzutage reden Menschen oft aneinander vorbei. Oder sie kommen erst gar nicht miteinander ins Gespräch. Deshalb brauchen wir Orte\, an denen wir einander wirklich zuhören. Unsere Dialogreihe bringt Menschen zusammen – mit verschiedenen Erfahrungen\, Meinungen und Lebensgeschichten. Was sie verbindet: Die Bereitschaft zum Gespräch – offen\, wertschätzend und neugierig. \nDabei ist es wichtig\, dass es freundlich und respektvoll zugeht – und das jede Person zu Wort kommen kann. Verschiedene Meinungen und Sichtweisen dürfen nebeneinander stehen. Damit das gelingt\, gibt es Unterstützung durch Moderator:innen und ein paar Gesprächsregeln.So wird Zuhören und Sprechen von Herzen ermöglicht.
URL:https://lange-wochen.de/termine/dazusetzen-mitreden-heide-nord-wird-40/
LOCATION:HWG-Nachbarschaftstreff\, Am Hechtgraben 4\, Halle (Saale)\, 06120
CATEGORIES:Gespräch,Treffen
ATTACH;FMTTYPE=image/jpeg:https://lange-wochen.de/wp-content/uploads/2025/09/csm_Dazusetzen___Mitreden_Share_pic_4_5_79b08a239c.jpg
END:VEVENT
BEGIN:VEVENT
DTSTART;TZID=Europe/Berlin:20251007T073000
DTEND;TZID=Europe/Berlin:20251007T081000
DTSTAMP:20260422T104927
CREATED:20250910T123838Z
LAST-MODIFIED:20250915T100943Z
UID:8409-1759822200-1759824600@lange-wochen.de
SUMMARY:Hallenser Fahrradbus
DESCRIPTION:Der Hallenser Fahrradbus fährt seit nunmehr drei Jahren mit Kindergartenkindern\, Schüler*innen aus drei Schulen\, begleitenden Eltern und Pädagog*innen an jedem Dienstag in der Schulzeit gemeinsam zur Saaleschule und zum Bildungshaus Riesenklein. Er findet in Kooperation mit dem ADFC statt und ist zu einer festen Größe für eine gelebte Mobilitätswende und sichere Kinder- und Jugendmobilität in Halle (Saale) geworden. \nMit dem Fahrradbus wird für eine sichere Radinfrastruktur in Halle demonstriert. Ziel ist es\, dass alle in der Stadt sicher mit dem Rad zur Kita und im besten Fall irgendwann auch ohne Begleitung zur Schule kommen können. Das ist angesichts fehlender Radwege\, unsicherer Straßen\, auf Radwegen und im Kreuzungsbereich illegal parkender Autos und unzureichender Maßnahmen zum Schutz von Radfahrenden bisher nicht möglich. \nAls Hallenser Fahrradbus sind wir Teil der internationalen Bicibus-Bewegung für eine Stadt\, in der alle Menschen ohne Angst und klimaneutral mobil sein können. \nDie Fahrt beginnt 7:30 Uhr am August-Bebel-Platz. Man kann auf der weiteren Route mit dem Rad jederzeit „einsteigen“. Herzlich willkommen!
URL:https://lange-wochen.de/termine/hallenser-fahrradbus3/
LOCATION:August-Bebel-Platz
CATEGORIES:Angebot für Kinder,Fahrrad
ATTACH;FMTTYPE=image/jpeg:https://lange-wochen.de/wp-content/uploads/2025/09/Profil_Fahrradbus-Fotoangabe-Falk-Wenzel.jpg
ORGANIZER;CN="ADFC Halle":MAILTO:halle @ adfc-sachsenanhalt.de
END:VEVENT
BEGIN:VEVENT
DTSTART;TZID=Europe/Berlin:20251007T170000
DTEND;TZID=Europe/Berlin:20251007T190000
DTSTAMP:20260422T104927
CREATED:20250919T132258Z
LAST-MODIFIED:20250919T132258Z
UID:8509-1759856400-1759863600@lange-wochen.de
SUMMARY:After-Work-Arbeitseinsatz
DESCRIPTION:Komm zum kleinen Einsatz am Abend! \nImmer dienstags treffen wir uns zum kleinen Arbeitseinsatz vor Ort. Was ansteht\, klären wir gemeinsam direkt vor Ort. \nDas kann auch mal die Vorbereitung einer Veranstaltung sein\, Lehmarbeiten\, leichte Räumungsarbeiten oder die Pflege des Uferbereichs. Bitte bringt Arbeitshandschuhe (falls vorhanden) und festes Schuhwerk mit. \nDa der Einsatz nur durchgeführt wird\, wenn sich genügend Personen anmelden\, melde Dich deshalb bitte hier an: https://schwemme.org/civicrm/event/info/?reset=1&id=551 \nDie Getränke gehen an diesem Abend für Helfer*innen auf uns! \nAnsprechpartner*innen vom Schwemme-Team: Vera & Adrian
URL:https://lange-wochen.de/termine/after-work-arbeitseinsatz-5/
LOCATION:Schwemme\, An der Schwemme 1\, Halle
CATEGORIES:Aktion,Treffen,Veranstaltung
ATTACH;FMTTYPE=image/jpeg:https://lange-wochen.de/wp-content/uploads/2025/09/IMG-20250428-WA0004.jpg
END:VEVENT
BEGIN:VEVENT
DTSTART;TZID=Europe/Berlin:20251008T190000
DTEND;TZID=Europe/Berlin:20251008T210000
DTSTAMP:20260422T104927
CREATED:20250917T123238Z
LAST-MODIFIED:20250917T125838Z
UID:8472-1759950000-1759957200@lange-wochen.de
SUMMARY:Self-Hosting Meetup
DESCRIPTION:Details \nDas Meetup ist interessant für alle die: \n\nim privaten oder unternehmerischen Kontext Software-as-a-Service ablösen wollen\ndie Hoheit über ihre eigenen Daten haben (wollen)\nNeugierig auf Open-Source-Projekte sind\n\nBitte um frühzeitige Anmeldung\, da wir nur begrenzte Plätze haben.\nDie Agenda wird bis zum Event noch überarbeitet. Du kannst gern im Webwirtschaft-Discord Vorschläge einreichen! \nOrganisert von Lucio Waßill \nAnmeldung gerne hier über Meetup \nFragen\, Vorschläge\, Kontakt:\nWebwirtschaft-Discord: https://webwirtschaft.net/discord
URL:https://lange-wochen.de/termine/self-hosting-meetup-05/
LOCATION:Coworking am Klaustor\, Mansfelder Str. 1\, Halle (Saale)\, 06108
CATEGORIES:Treffen,Vortrag/Diskussion,Workshop
ATTACH;FMTTYPE=image/png:https://lange-wochen.de/wp-content/uploads/2025/09/self-hosting-Meetup-2025.png
ORGANIZER;CN="Coworking am Klaustor":MAILTO:hallo@klaustor-coworking.de
END:VEVENT
END:VCALENDAR